BEGIN:VCALENDAR
VERSION:2.0
PRODID:-//Ten Pound Fiddle - ECPv6.15.12.2//NONSGML v1.0//EN
CALSCALE:GREGORIAN
METHOD:PUBLISH
X-WR-CALNAME:Ten Pound Fiddle
X-ORIGINAL-URL:https://www.tenpoundfiddle.org
X-WR-CALDESC:Events for Ten Pound Fiddle
REFRESH-INTERVAL;VALUE=DURATION:PT1H
X-Robots-Tag:noindex
X-PUBLISHED-TTL:PT1H
BEGIN:VTIMEZONE
TZID:America/Detroit
BEGIN:DAYLIGHT
TZOFFSETFROM:-0500
TZOFFSETTO:-0400
TZNAME:EDT
DTSTART:20160313T070000
END:DAYLIGHT
BEGIN:STANDARD
TZOFFSETFROM:-0400
TZOFFSETTO:-0500
TZNAME:EST
DTSTART:20161106T060000
END:STANDARD
BEGIN:DAYLIGHT
TZOFFSETFROM:-0500
TZOFFSETTO:-0400
TZNAME:EDT
DTSTART:20170312T070000
END:DAYLIGHT
BEGIN:STANDARD
TZOFFSETFROM:-0400
TZOFFSETTO:-0500
TZNAME:EST
DTSTART:20171105T060000
END:STANDARD
BEGIN:DAYLIGHT
TZOFFSETFROM:-0500
TZOFFSETTO:-0400
TZNAME:EDT
DTSTART:20180311T070000
END:DAYLIGHT
BEGIN:STANDARD
TZOFFSETFROM:-0400
TZOFFSETTO:-0500
TZNAME:EST
DTSTART:20181104T060000
END:STANDARD
END:VTIMEZONE
BEGIN:VEVENT
DTSTART;TZID=America/Detroit:20171117T193000
DTEND;TZID=America/Detroit:20171117T220000
DTSTAMP:20260419T120707
CREATED:20170808T164053Z
LAST-MODIFIED:20171101T185619Z
UID:3677-1510947000-1510956000@www.tenpoundfiddle.org
SUMMARY:Windborne - An A Cappella Quartet
DESCRIPTION:Co-produced with the Peace Education Center\nThe Peace Education Center hosts an Alternative Holiday Sale every winter season to promote the local economy\, support local businesses\, give an avenue for local craftmakers to sell their wares\, sell fair trade items\, and peace and justice organizations to spread the word about what they do. There is a raffle\, snacks and food for sale\, and fun to be had! This sale supports the vendors as well as the Peace Education Center overall. Click here to view the event flyer. \n\n“The singers of Windborne have a deep understanding\, both musically and culturally\, of the traditions from which they draw much of their repertoire. Their singing is a feast of a cappella harmony.”     -Peter Amidon \n\nInternationally acclaimed folk band Windborne is a group of vocal chameleons who specialize in close harmony singing\, shifting effortlessly between drastically different styles of traditional music within the same concert. \nTheir musical knowledge spans many continents and cultures\, but they remain deeply rooted in American folk singing traditions. \nPraised for “the purity of their voices\, strength of their material\, and attention to detail in their arrangements\,” Lynn Mahoney Rowan\, Will Thomas Rowan\, Lauren Breunig\, and Jeremy Carter-Gordon share a vibrant energy onstage – their connection to each other and to the music clearly evident. \n\nThey educate as they entertain\, telling stories about the music and explaining the characteristics and stylistic elements of the traditions in which they sing. \nWindborne has existed in many capacities throughout its 10+ year history\, appearing as a duo\, trio\, and now\, as a quartet. A group of vocal chameleons\, they grew up in musical families\, going to singing parties\, taking classical voice and instrumental lessons\, and seeking out folk music from around the world. Now\, they draw upon their collective five decades of experience as performers and teachers to switch effortlessly between drastically different styles of singing within the same concert\, all the while regaling the audience with their vocal energy and carefully crafted arrangements. Their repertoire includes music from the Republic of Georgia\, Corsica\, Bulgaria\, the Basque region\, and Quebec\, but they remain deeply rooted in American folk singing traditions as well. \nWindborne is Lynn Mahoney Rowan\, Will Thomas Rowan\, Lauren Breunig\, and Jeremy Carter-Gordon. All four have traveled extensively in the US and throughout the world with Village Harmony\, Northern Harmony and the Renewal Chorus\, leading workshops and giving concerts. \n\nWindborne has toured New England several times\, and in 2010 their vocal agility and power won them first place in Young Tradition Vermont‘s Showcase Competition. Since then\, they have appeared at the Flurry Festival\, the Shelburne Harvest Festival\, the Young Tradition Vermont Reunion Concert\, and have taught master classes at Keene State College. In January 2014\, AMA sent Windborne on a month-long tour to Turkmenistan\, Kyrgyzstan\, and Angola performing and teaching as musical ambassadors for the US!\nThroughout the past decade\, they have had the distinct pleasure of studying under a variety of music masters\, including Corsican music scholar and composer Jean-Etienne Langianni; Georgian singers and members of Zedashe\, Shergil Pirtskhelani and Ketevan Mindorashvili; director of the London Bulgarian Choir Dessislava Stefanova; and Matlakala Bopape\, who leads the Polokwane Choir in South Africa. Closer to home\, they count folk music legends Tony Barrand\, the Amidon family\, Don Jamison\, Neely Bruce\, Val Mindel\, and Suzannah Park among their friends and mentors. \nSpecializing in close harmony singing\, the quartet has a vibrant energy and a strong connection\, which is evident in their engaging performance. They educate as they perform\, telling stories about the music and explaining the characteristics and stylistic elements of the traditions in which they sing. \nMary DesRosiers\, folk musicologist for the Monadnock Folklore Society\, acclaims Windborne for “the purity of their voices\, strength of their material\, and attention to detail in their arrangements.”
URL:https://www.tenpoundfiddle.org/event/windborne-an-a-cappella-quartet/
LOCATION:Edgewood United Church\, 469 N Hagadorn Rd\, East Lansing\, MI\, 48823\, United States
CATEGORIES:Concert
ATTACH;FMTTYPE=image/jpeg:https://www.tenpoundfiddle.org/2016/wp-content/uploads/2017/08/171117.jpg
GEO:42.7363524;-84.4630256
X-APPLE-STRUCTURED-LOCATION;VALUE=URI;X-ADDRESS=Edgewood United Church 469 N Hagadorn Rd East Lansing MI 48823 United States;X-APPLE-RADIUS=500;X-TITLE=469 N Hagadorn Rd:geo:-84.4630256,42.7363524
END:VEVENT
END:VCALENDAR