BEGIN:VCALENDAR
VERSION:2.0
PRODID:-//Ten Pound Fiddle - ECPv6.15.12.2//NONSGML v1.0//EN
CALSCALE:GREGORIAN
METHOD:PUBLISH
X-WR-CALNAME:Ten Pound Fiddle
X-ORIGINAL-URL:https://www.tenpoundfiddle.org
X-WR-CALDESC:Events for Ten Pound Fiddle
REFRESH-INTERVAL;VALUE=DURATION:PT1H
X-Robots-Tag:noindex
X-PUBLISHED-TTL:PT1H
BEGIN:VTIMEZONE
TZID:America/Detroit
BEGIN:DAYLIGHT
TZOFFSETFROM:-0500
TZOFFSETTO:-0400
TZNAME:EDT
DTSTART:20250309T070000
END:DAYLIGHT
BEGIN:STANDARD
TZOFFSETFROM:-0400
TZOFFSETTO:-0500
TZNAME:EST
DTSTART:20251102T060000
END:STANDARD
BEGIN:DAYLIGHT
TZOFFSETFROM:-0500
TZOFFSETTO:-0400
TZNAME:EDT
DTSTART:20260308T070000
END:DAYLIGHT
BEGIN:STANDARD
TZOFFSETFROM:-0400
TZOFFSETTO:-0500
TZNAME:EST
DTSTART:20261101T060000
END:STANDARD
BEGIN:DAYLIGHT
TZOFFSETFROM:-0500
TZOFFSETTO:-0400
TZNAME:EDT
DTSTART:20270314T070000
END:DAYLIGHT
BEGIN:STANDARD
TZOFFSETFROM:-0400
TZOFFSETTO:-0500
TZNAME:EST
DTSTART:20271107T060000
END:STANDARD
END:VTIMEZONE
BEGIN:VEVENT
DTSTART;TZID=America/Detroit:20260116T193000
DTEND;TZID=America/Detroit:20260116T220000
DTSTAMP:20260419T131527
CREATED:20250730T214810Z
LAST-MODIFIED:20260112T202954Z
UID:21421-1768591800-1768600800@www.tenpoundfiddle.org
SUMMARY:Twyla Birdsong
DESCRIPTION:Title of Show: “Don’t Waste Time” \nWalk down memory lane with a night of songs that evoke thoughts of romance and the hope of “Love” as expressed in the songs sang by both modern as well as legendary performers : Aretha Franklin\, Solomon Burke\, Nat King Cole\, and more.\n\n\n\nTwyla Birdsong is a powerhouse vocalist whose soulful performances transcend genres and stir the soul. With deep roots in jazz\, blues\, R&B\, and gospel\, Twyla has spent years honing her craft in Lansing’s vibrant local scene—gracing the stages of churches\, bars\, parks\, and theaters with her unmistakable voice and magnetic stage presence. \nHer love for music runs deep\, but it’s the blues and gospel that truly fuel her spirit. “I love to sing the blues because it’s raw and real\, but I also love gospel—it reminds me of the hope my faith brings me\,” she says. Whether she’s belting a gritty blues tune or delivering a soaring gospel ballad\, Twyla’s goal is simple but profound: to recharge and uplift every person in the audience\, if only for a few hours. \nA seasoned theatrical performer as well\, Twyla has starred in multiple local musical productions\, bringing the same emotional depth and commanding presence to the stage as she does in concert. Her rich\, deep tone and the emotional honesty in her delivery captivate audiences time and time again. \nTwyla is also a two-time Capital Area Blues Challenge winner—earning top honors in both the band and duo categories. With passion\, power\, and presence\, she continues to create a sound of her own and show up as an “Ambassador Of Love”. \nQuote from audience: \n“When Twyla sings\, you don’t just hear it- you feel it. Her voice grabs your soul”. Cindy \n“Her stage presence is undeniable. She brings fire\, grace\, and raw emotion to every song”. Lynn
URL:https://www.tenpoundfiddle.org/event/twyla-birdsong/
LOCATION:UrbanBeat\, 1213 Turner Street\, Lansing\, MI\, 48906\, United States
CATEGORIES:Concert,Featured
ATTACH;FMTTYPE=image/jpeg:https://www.tenpoundfiddle.org/2016/wp-content/uploads/2025/07/260116-vqWX2l.jpg
GEO:42.747898;-84.549841
X-APPLE-STRUCTURED-LOCATION;VALUE=URI;X-ADDRESS=UrbanBeat 1213 Turner Street Lansing MI 48906 United States;X-APPLE-RADIUS=500;X-TITLE=1213 Turner Street:geo:-84.549841,42.747898
END:VEVENT
END:VCALENDAR