BEGIN:VCALENDAR
VERSION:2.0
PRODID:-//Ten Pound Fiddle - ECPv6.15.12.2//NONSGML v1.0//EN
CALSCALE:GREGORIAN
METHOD:PUBLISH
X-WR-CALNAME:Ten Pound Fiddle
X-ORIGINAL-URL:https://www.tenpoundfiddle.org
X-WR-CALDESC:Events for Ten Pound Fiddle
REFRESH-INTERVAL;VALUE=DURATION:PT1H
X-Robots-Tag:noindex
X-PUBLISHED-TTL:PT1H
BEGIN:VTIMEZONE
TZID:America/Detroit
BEGIN:DAYLIGHT
TZOFFSETFROM:-0500
TZOFFSETTO:-0400
TZNAME:EDT
DTSTART:20230312T070000
END:DAYLIGHT
BEGIN:STANDARD
TZOFFSETFROM:-0400
TZOFFSETTO:-0500
TZNAME:EST
DTSTART:20231105T060000
END:STANDARD
BEGIN:DAYLIGHT
TZOFFSETFROM:-0500
TZOFFSETTO:-0400
TZNAME:EDT
DTSTART:20240310T070000
END:DAYLIGHT
BEGIN:STANDARD
TZOFFSETFROM:-0400
TZOFFSETTO:-0500
TZNAME:EST
DTSTART:20241103T060000
END:STANDARD
BEGIN:DAYLIGHT
TZOFFSETFROM:-0500
TZOFFSETTO:-0400
TZNAME:EDT
DTSTART:20250309T070000
END:DAYLIGHT
BEGIN:STANDARD
TZOFFSETFROM:-0400
TZOFFSETTO:-0500
TZNAME:EST
DTSTART:20251102T060000
END:STANDARD
END:VTIMEZONE
BEGIN:VEVENT
DTSTART;TZID=America/Detroit:20241004T193000
DTEND;TZID=America/Detroit:20241004T220000
DTSTAMP:20260419T144732
CREATED:20240813T160658Z
LAST-MODIFIED:20241003T144719Z
UID:18907-1728070200-1728079200@www.tenpoundfiddle.org
SUMMARY:Tom Paxton and the DonJuans
DESCRIPTION:A note from from Tom Paxton’s agent\, Sept\, 2024: \n“This show (Friday\, Oct. 4) will be among Tom’s last tour dates. After sixty years of touring and recording\, recording and touring\, Tom will be retiring from the road in Spring of 2025. Please let fans know this will be their last opportunity to see Tom and to sing along to all his songs\, so known and loved.” \nGrammy Lifetime Achievement Award winner and folk icon\, Tom Paxton\, teams up with the Grammy winning singer/songwriter duo The Don Juans – Don Henry & Jon Vezner. \nCollectively\, their songs have been covered by: Harry Belafonte\, John Mellencamp\, Miranda Lambert\, Neil Diamond\, Ray Charles\, Nancy Griffith\, Judy Collins\, Pete Seeger\, Janis Ian\, Kathy Mattea\, John Denver\, Faith Hill\, B.J. Thomas\, Blake Shelton\, Peter\, Paul & Mary and Bob Dylan\, just to name a few! \nWithin days of writing and playing together\, they knew they were onto something. Now they’re taking it on the road! Tom on guitar/vocals/stories\, Don on guitar/vocals/uke/banjo/grins\, Jon on piano/vocals/guitar/uke/kitchen sink. \nhttp://www.tompaxton.com/\nhttps://www.thedonjuans.com/
URL:https://www.tenpoundfiddle.org/event/tom-paxton-and-the-donjuans/
LOCATION:University Lutheran Church (ULC)\, 1020 S Harrison Rd\, East Lansing\, MI\, 48823\, United States
CATEGORIES:Concert,Featured
ATTACH;FMTTYPE=image/jpeg:https://www.tenpoundfiddle.org/2016/wp-content/uploads/2024/08/241004-ZyimEV.tmp_.jpg
GEO:42.723138;-84.4947078
X-APPLE-STRUCTURED-LOCATION;VALUE=URI;X-ADDRESS=University Lutheran Church (ULC) 1020 S Harrison Rd East Lansing MI 48823 United States;X-APPLE-RADIUS=500;X-TITLE=1020 S Harrison Rd:geo:-84.4947078,42.723138
END:VEVENT
END:VCALENDAR