BEGIN:VCALENDAR
VERSION:2.0
PRODID:-//Ten Pound Fiddle - ECPv6.15.12.2//NONSGML v1.0//EN
CALSCALE:GREGORIAN
METHOD:PUBLISH
X-WR-CALNAME:Ten Pound Fiddle
X-ORIGINAL-URL:https://www.tenpoundfiddle.org
X-WR-CALDESC:Events for Ten Pound Fiddle
REFRESH-INTERVAL;VALUE=DURATION:PT1H
X-Robots-Tag:noindex
X-PUBLISHED-TTL:PT1H
BEGIN:VTIMEZONE
TZID:America/Detroit
BEGIN:DAYLIGHT
TZOFFSETFROM:-0500
TZOFFSETTO:-0400
TZNAME:EDT
DTSTART:20170312T070000
END:DAYLIGHT
BEGIN:STANDARD
TZOFFSETFROM:-0400
TZOFFSETTO:-0500
TZNAME:EST
DTSTART:20171105T060000
END:STANDARD
BEGIN:DAYLIGHT
TZOFFSETFROM:-0500
TZOFFSETTO:-0400
TZNAME:EDT
DTSTART:20180311T070000
END:DAYLIGHT
BEGIN:STANDARD
TZOFFSETFROM:-0400
TZOFFSETTO:-0500
TZNAME:EST
DTSTART:20181104T060000
END:STANDARD
BEGIN:DAYLIGHT
TZOFFSETFROM:-0500
TZOFFSETTO:-0400
TZNAME:EDT
DTSTART:20190310T070000
END:DAYLIGHT
BEGIN:STANDARD
TZOFFSETFROM:-0400
TZOFFSETTO:-0500
TZNAME:EST
DTSTART:20191103T060000
END:STANDARD
END:VTIMEZONE
BEGIN:VEVENT
DTSTART;TZID=America/Detroit:20180323T193000
DTEND;TZID=America/Detroit:20180323T220000
DTSTAMP:20260419T144410
CREATED:20170808T164104Z
LAST-MODIFIED:20250731T020222Z
UID:3693-1521833400-1521842400@www.tenpoundfiddle.org
SUMMARY:Tim Eriksen
DESCRIPTION:Tim Eriksen is acclaimed for transforming American tradition with his startling interpretations of old ballads\, love songs\, shape-note gospel and dance tunes from New England and Southern Appalachia. \nhttps://www.youtube.com/watch?v=x569MCaJA3Y&list=RDsFpU3zslpHw&index=8 \nHe combines hair-raising vocals with inventive accompaniment on banjo\, fiddle\, guitar and bajo sexto – a twelve string Mexican acoustic bass – creating a distinctive hardcore Americana sound that ranges from the bare bones of solo unaccompanied singing on his album Soul of the January Hills (Appleseed 2010) through the stripped-down voice and bajo sexto Christmas album Star in the East (timeriksenmusic 2012) to the lush\, multi-layered arrangements on Josh Billings Voyage\, an album of northern roots American music from the imaginary village of Pumpkintown (timeriksenmusic 2012).  \nEriksen’s own compositions\, which NetRhythms UK described as “strange and original works\,” have been featured in films like the Billy Bob Thornton vehicle Chrystal and the upcoming documentary Behold the Earth.  \nhttps://www.youtube.com/watch?v=giQaq9ORj3s \nEriksen’s other notable work has included extensive contributions to Anthony Minghella’s 2004 Oscar-winning film Cold Mountain as well as collaborations ranging from hardcore punk and Bosnian pop to symphony orchestra and the 2010 Grammy-nominated album Across the Divide with Afro-Cuban world-jazz pianist Omar Sosa.  \nThe former frontman of the prophetic groups Cordelia’s Dad (folk-noise)\, Northampton Harmony (shape-note quartet) and Zabe i Babe (Bosnian folk and pop)\, Tim Eriksen is the only musician to have shared the stage with both Kurt Cobain and Doc Watson\, and his media appearances have ranged from Prairie Home Companion to the Academy Awards.  \nHaving graduated from early shows at punk mecca CBGB\, Tim’s more recent performances have included his Carnegie Hall debut as a soloist in Even Chambers’ symphonic work “The Old Burying Ground” and two week-long stints at the Blue Note Jazz Club with Omar Sosa. In the studio\, he has worked with producers including Joe Boyd\, T-Bone Burnett and Steve Albini.  \nhttps://www.youtube.com/watch?v=N4EAdHRFMl8 \nWhile Eriksen’s curiosity and passion have led him on many musical journeys besides American roots – from punk rock and shape-note gospel through South Indian classical music and Bosnian pop to world jazz and contemporary symphonic music – all his explorations are linked by the qualities of intensity\, directness\, and authority which combine in a music that captures a truth about human experience and expresses it without apology.
URL:https://www.tenpoundfiddle.org/event/tim-eriksen/
LOCATION:MSU Community Music School\, 4930 S. Hagadorn\, East Lansing\, MI\, 48823\, United States
CATEGORIES:Concert
ATTACH;FMTTYPE=image/jpeg:https://www.tenpoundfiddle.org/2016/wp-content/uploads/2017/08/180323.jpg
GEO:42.725146;-84.4611
X-APPLE-STRUCTURED-LOCATION;VALUE=URI;X-ADDRESS=MSU Community Music School 4930 S. Hagadorn East Lansing MI 48823 United States;X-APPLE-RADIUS=500;X-TITLE=4930 S. Hagadorn:geo:-84.4611,42.725146
END:VEVENT
END:VCALENDAR