BEGIN:VCALENDAR
VERSION:2.0
PRODID:-//Ten Pound Fiddle - ECPv6.15.12.2//NONSGML v1.0//EN
CALSCALE:GREGORIAN
METHOD:PUBLISH
X-WR-CALNAME:Ten Pound Fiddle
X-ORIGINAL-URL:https://www.tenpoundfiddle.org
X-WR-CALDESC:Events for Ten Pound Fiddle
REFRESH-INTERVAL;VALUE=DURATION:PT1H
X-Robots-Tag:noindex
X-PUBLISHED-TTL:PT1H
BEGIN:VTIMEZONE
TZID:America/Detroit
BEGIN:DAYLIGHT
TZOFFSETFROM:-0500
TZOFFSETTO:-0400
TZNAME:EDT
DTSTART:20240310T070000
END:DAYLIGHT
BEGIN:STANDARD
TZOFFSETFROM:-0400
TZOFFSETTO:-0500
TZNAME:EST
DTSTART:20241103T060000
END:STANDARD
BEGIN:DAYLIGHT
TZOFFSETFROM:-0500
TZOFFSETTO:-0400
TZNAME:EDT
DTSTART:20250309T070000
END:DAYLIGHT
BEGIN:STANDARD
TZOFFSETFROM:-0400
TZOFFSETTO:-0500
TZNAME:EST
DTSTART:20251102T060000
END:STANDARD
BEGIN:DAYLIGHT
TZOFFSETFROM:-0500
TZOFFSETTO:-0400
TZNAME:EDT
DTSTART:20260308T070000
END:DAYLIGHT
BEGIN:STANDARD
TZOFFSETFROM:-0400
TZOFFSETTO:-0500
TZNAME:EST
DTSTART:20261101T060000
END:STANDARD
END:VTIMEZONE
BEGIN:VEVENT
DTSTART;TZID=America/Detroit:20250228T180000
DTEND;TZID=America/Detroit:20250228T200000
DTSTAMP:20260419T161741
CREATED:20250123T070252Z
LAST-MODIFIED:20250130T175143Z
UID:21101-1740765600-1740772800@www.tenpoundfiddle.org
SUMMARY:The Stringrays @ Elderly Instruments
DESCRIPTION:Join us for a live performance with the Stringrays! \nStringrays is an inimitable three-some of musicians with a shared interest in exploring great fiddle tunes. Their playing is fueled by a love of the living tradition of New England fiddle music and its cousins. Expect dynamic\, lyrical improvisation and fresh\, dance-inspired interplay. \nRodney Miller’s fiddling commands the stage and the eardrums. A long-time New Hampshire resident (now living in sunny California)\, Rodney is well-known as both a traditionalist and innovator\, with a playful style and soulful tone. He is widely considered to be one of the foremost exponents of New England style fiddling\, although his exploratory style invites quite a few surprises. He has toured the world\, performed and taught at hundreds of music and dance festivals\, and recorded numerous albums\, among them the acclaimed New England Chestnuts\, Airplang\, and Airdance albums. He’s also a respected luthier\, building violins like the one he’s holding here. \nMax Newman has spent a good portion of his life playing dances great and small across the continent. His guitar playing is refreshing\, fun\, and creative\, and has allowed him to collaborate with a great variety of traditional musicians. In the Stringrays\, he often alternates between hammering down rhythms and trading licks with Rodney. His attention to detail with pairing music and dance is almost as well known as his love for a fresh cup of coffee. His playing has been profiled in Flatpicking Guitar Magazine. When not with the band\, he can often be found at his local dance in Concord\, Massachusetts. \nStuart Kenney is a go-to player for bass thump and a distinctive banjo thunk at any contra dance. His long career in several traditional music genres includes cutting his teeth with the legendary Cajun musician Dewey Balfa. He followed that with prodigious output with numerous groups and contra dance bands\, including Airdance with Rodney and Undertoe with Karen Tweed\, and Celtic groove band The Sevens. He also plays with Quebecois band Tidal Wave. His solo banjo album The Red Case has earned him numerous accolades. Stuart’s musical home is at the Guiding Star Grange in Greenfield\, MA. \nhttps://www.stringraysmusic.com/ \n\n  \n\n 
URL:https://www.tenpoundfiddle.org/event/the-stringrays-at-elderly/
LOCATION:Elderly Instruments\, 1100 N Washington Ave\, Lansing\, MI\, 48906\, United States
CATEGORIES:Concert,Featured
ATTACH;FMTTYPE=image/jpeg:https://www.tenpoundfiddle.org/2016/wp-content/uploads/2025/01/Stringrays-stair-photo-scaled.jpg
END:VEVENT
END:VCALENDAR