BEGIN:VCALENDAR
VERSION:2.0
PRODID:-//Ten Pound Fiddle - ECPv6.15.12.2//NONSGML v1.0//EN
CALSCALE:GREGORIAN
METHOD:PUBLISH
X-WR-CALNAME:Ten Pound Fiddle
X-ORIGINAL-URL:https://www.tenpoundfiddle.org
X-WR-CALDESC:Events for Ten Pound Fiddle
REFRESH-INTERVAL;VALUE=DURATION:PT1H
X-Robots-Tag:noindex
X-PUBLISHED-TTL:PT1H
BEGIN:VTIMEZONE
TZID:America/Detroit
BEGIN:DAYLIGHT
TZOFFSETFROM:-0500
TZOFFSETTO:-0400
TZNAME:EDT
DTSTART:20230312T070000
END:DAYLIGHT
BEGIN:STANDARD
TZOFFSETFROM:-0400
TZOFFSETTO:-0500
TZNAME:EST
DTSTART:20231105T060000
END:STANDARD
BEGIN:DAYLIGHT
TZOFFSETFROM:-0500
TZOFFSETTO:-0400
TZNAME:EDT
DTSTART:20240310T070000
END:DAYLIGHT
BEGIN:STANDARD
TZOFFSETFROM:-0400
TZOFFSETTO:-0500
TZNAME:EST
DTSTART:20241103T060000
END:STANDARD
BEGIN:DAYLIGHT
TZOFFSETFROM:-0500
TZOFFSETTO:-0400
TZNAME:EDT
DTSTART:20250309T070000
END:DAYLIGHT
BEGIN:STANDARD
TZOFFSETFROM:-0400
TZOFFSETTO:-0500
TZNAME:EST
DTSTART:20251102T060000
END:STANDARD
END:VTIMEZONE
BEGIN:VEVENT
DTSTART;TZID=America/Detroit:20240412T193000
DTEND;TZID=America/Detroit:20240412T220000
DTSTAMP:20260419T134057
CREATED:20230811T032713Z
LAST-MODIFIED:20240401T151009Z
UID:13262-1712950200-1712959200@www.tenpoundfiddle.org
SUMMARY:The Springtails CD Release Concert
DESCRIPTION:The Springtails are Julianna Wilson (vocals\, ukuleles\, upright bass)\, Andy Wilson (harmonicas\, cornet\, vocals)\, and Joe Wilson (dobro\, acoustic guitar\, trombone\, vocals)\, performing a variety of songs from vaudeville and swing-era standards to more recent pop\, folk\, and originals. You might also recognize Julianna as the bass-playing member of the band Stella! and Joe and Andy from The Wilson Brothers and Steppin’ In It. Samples of earlier Springtails recordings can be found here www.TheSpringtails.com
URL:https://www.tenpoundfiddle.org/event/the-springtails/
LOCATION:University United Methodist Church (UUMC)\, 1120 S. Harrison\, East Lansing\, MI\, 48823\, United States
CATEGORIES:Concert
ATTACH;FMTTYPE=image/jpeg:https://www.tenpoundfiddle.org/2016/wp-content/uploads/2023/08/240412.jpg
GEO:42.7213326;-84.4947507
X-APPLE-STRUCTURED-LOCATION;VALUE=URI;X-ADDRESS=University United Methodist Church (UUMC) 1120 S. Harrison East Lansing MI 48823 United States;X-APPLE-RADIUS=500;X-TITLE=1120 S. Harrison:geo:-84.4947507,42.7213326
END:VEVENT
END:VCALENDAR