BEGIN:VCALENDAR
VERSION:2.0
PRODID:-//Ten Pound Fiddle - ECPv6.15.12.2//NONSGML v1.0//EN
CALSCALE:GREGORIAN
METHOD:PUBLISH
X-WR-CALNAME:Ten Pound Fiddle
X-ORIGINAL-URL:https://www.tenpoundfiddle.org
X-WR-CALDESC:Events for Ten Pound Fiddle
REFRESH-INTERVAL;VALUE=DURATION:PT1H
X-Robots-Tag:noindex
X-PUBLISHED-TTL:PT1H
BEGIN:VTIMEZONE
TZID:America/Detroit
BEGIN:DAYLIGHT
TZOFFSETFROM:-0500
TZOFFSETTO:-0400
TZNAME:EDT
DTSTART:20240310T070000
END:DAYLIGHT
BEGIN:STANDARD
TZOFFSETFROM:-0400
TZOFFSETTO:-0500
TZNAME:EST
DTSTART:20241103T060000
END:STANDARD
BEGIN:DAYLIGHT
TZOFFSETFROM:-0500
TZOFFSETTO:-0400
TZNAME:EDT
DTSTART:20250309T070000
END:DAYLIGHT
BEGIN:STANDARD
TZOFFSETFROM:-0400
TZOFFSETTO:-0500
TZNAME:EST
DTSTART:20251102T060000
END:STANDARD
BEGIN:DAYLIGHT
TZOFFSETFROM:-0500
TZOFFSETTO:-0400
TZNAME:EDT
DTSTART:20260308T070000
END:DAYLIGHT
BEGIN:STANDARD
TZOFFSETFROM:-0400
TZOFFSETTO:-0500
TZNAME:EST
DTSTART:20261101T060000
END:STANDARD
END:VTIMEZONE
BEGIN:VEVENT
DTSTART;TZID=America/Detroit:20251107T193000
DTEND;TZID=America/Detroit:20251107T220000
DTSTAMP:20260419T145225
CREATED:20250730T212643Z
LAST-MODIFIED:20250731T021319Z
UID:21403-1762543800-1762552800@www.tenpoundfiddle.org
SUMMARY:The Rebel Eves\, Women in the Arts Festival
DESCRIPTION:The Rebel Eves started with a “stars-aligning” type of friendship and musical collaboration. With beginnings in early 2022\, the group formed from the love of creativity and the belief that the joy of connection can break down barriers that women have historically been put into in the music industry\, society\, and religious spaces. Composed of three Michigan bred award winning songwriters\, Katie Pederson\, Grace Theisen and Jilian Linklater have spent the better part of the last decade writing\, touring\, and harmonizing across the country with successful solo careers. With Grace and Jilian both coming out as queer in the last couple of years and Katie being a strong ally to the LGBTQIA community\, it is incredibly important to the band that the Rebel Eve shows create safe spaces for this community in particular\, especially in a world where their rights are being challenged and taken away at lightning speed. They wrote Heaven Without You as a way to reframe and push back on the messaging that heaven is only accessible to certain groups of people; they believe heaven can be created right here\, right now\, no matter who or how you love. In June of 2023 for the single’s release\, they partnered with the Tennessee Equality Project\, a nonprofit that is working for the equality of the LGBTQIA community in Tennessee through legislation. This year\, they will be donating a portion of the proceeds from their merchandise towards the ACLU for the continued fight for the many injustices happening in the United States. \n\nWith a motto of connection over perfection\, in less than two years the band has reached new heights in their collaboration\, outselling venues in Michigan and sharing main stages at large independent midwest festivals with national touring acts such as The Wood Brothers\, The War & Treaty and The Accidentals. They have played festivals such as BlissFest\, Mile of Music\, and Sonic Lunch. This summer they will be making their debut appearance at Frederik Meijer Gardens\, Wheatland Music Festival and Sisters Folk Festival in Oregon. With record merchandise sales over the last two years\, they have quickly won over the hearts of their audiences with their honest storytelling\, hair raising harmonies\, and compelling lyricism that makes for true listening room moments attendees won’t soon forget. Cultivating moments of vulnerability\, laughter\, original songs\, and incredible 3-part harmonies in their shows\, they can promise you will walk away feeling inspired\, connected\, and hopeful. Their first EP\, Shake The Ground\, will be out this September. You can hear the first two singles off this album\, American Dream and Rebel Eve on all streaming platforms. Their full length album will be out in the spring of 2026. \nhttps://www.therebeleves.com/ \nhttps://www.witafestival.com/ \n\n 
URL:https://www.tenpoundfiddle.org/event/the-rebel-eves-women-in-the-arts-festival/
LOCATION:Edgewood United Church\, 469 N Hagadorn Rd\, East Lansing\, MI\, 48823\, United States
CATEGORIES:Concert
ATTACH;FMTTYPE=image/jpeg:https://www.tenpoundfiddle.org/2016/wp-content/uploads/2025/07/251107-XHQVyg.jpg
GEO:42.7363524;-84.4630256
X-APPLE-STRUCTURED-LOCATION;VALUE=URI;X-ADDRESS=Edgewood United Church 469 N Hagadorn Rd East Lansing MI 48823 United States;X-APPLE-RADIUS=500;X-TITLE=469 N Hagadorn Rd:geo:-84.4630256,42.7363524
END:VEVENT
END:VCALENDAR