BEGIN:VCALENDAR
VERSION:2.0
PRODID:-//Ten Pound Fiddle - ECPv6.15.12.2//NONSGML v1.0//EN
CALSCALE:GREGORIAN
METHOD:PUBLISH
X-WR-CALNAME:Ten Pound Fiddle
X-ORIGINAL-URL:https://www.tenpoundfiddle.org
X-WR-CALDESC:Events for Ten Pound Fiddle
REFRESH-INTERVAL;VALUE=DURATION:PT1H
X-Robots-Tag:noindex
X-PUBLISHED-TTL:PT1H
BEGIN:VTIMEZONE
TZID:America/Detroit
BEGIN:DAYLIGHT
TZOFFSETFROM:-0500
TZOFFSETTO:-0400
TZNAME:EDT
DTSTART:20240310T070000
END:DAYLIGHT
BEGIN:STANDARD
TZOFFSETFROM:-0400
TZOFFSETTO:-0500
TZNAME:EST
DTSTART:20241103T060000
END:STANDARD
BEGIN:DAYLIGHT
TZOFFSETFROM:-0500
TZOFFSETTO:-0400
TZNAME:EDT
DTSTART:20250309T070000
END:DAYLIGHT
BEGIN:STANDARD
TZOFFSETFROM:-0400
TZOFFSETTO:-0500
TZNAME:EST
DTSTART:20251102T060000
END:STANDARD
BEGIN:DAYLIGHT
TZOFFSETFROM:-0500
TZOFFSETTO:-0400
TZNAME:EDT
DTSTART:20260308T070000
END:DAYLIGHT
BEGIN:STANDARD
TZOFFSETFROM:-0400
TZOFFSETTO:-0500
TZNAME:EST
DTSTART:20261101T060000
END:STANDARD
END:VTIMEZONE
BEGIN:VEVENT
DTSTART;TZID=America/Detroit:20250502T193000
DTEND;TZID=America/Detroit:20250502T220000
DTSTAMP:20260419T131837
CREATED:20240813T161017Z
LAST-MODIFIED:20241008T174718Z
UID:18964-1746214200-1746223200@www.tenpoundfiddle.org
SUMMARY:The Paxton/Spangler Band @ UrbanBeat
DESCRIPTION:Lifelong buddies RJ Spangler & Tbone Paxton started working together in 1980 with a very popular band around Detroit called the Sun Messengers. They toured the East Coast\, Midwest\, and Deep South for a number of years. Back then Tbone was awarded a Motor City Music Award for best trombonist. Since that time\, he has also become quite an engaging vocalist. In fact\, he has been nominated a number of years in a row now as best jazz vocalist at the Detroit Music Awards. The two are cornerstone members of the 10 pc Planet D Nonet\, and as such\, have toured to 11 states\, released as many CDs\, and garnered 9 Detroit Music Awards. Now they offer this stripped-down project – just five musicians\, with a debut CD out nationally in 2020 and a 2nd CD “Joys” which was also released nationally\, came out in 2023 to great acclaim. \nOn any given night the the Paxton/Spangler Band performs great songs by Fats Waller\, Hoagy Carmichael\, Leonard Cohen\, Hank Williams\, Earl King\, Danny Barker\, Duke Ellington\, The Stylistics\, Roy Ayers\, Leon Russell\, Jimmy Cliff\, Nat King Cole and of course\, Louis Jordan. They have first-hand experience backing New Orleans greats like Johnny Adams and Earl King. RJ was pianist/singer Eddie Bo’s bandleader up North for many years. And of course\, they have performed together and separately in New Orleans. \n\n\nSelections from the 2023 album\, Joys:\n\n\nLearn more:\nhttps://rjspangler.com/ \nSpotify: https://open.spotify.com/album/0EWRIVQ5eKawQFV6mZbtVN \nInstagram: https://www.instagram.com/paxtonspanglerband/ \nFacebook: https://www.facebook.com/Tbonepaxton
URL:https://www.tenpoundfiddle.org/event/the-paxton-spangler-band/
LOCATION:UrbanBeat\, 1213 Turner Street\, Lansing\, MI\, 48906\, United States
CATEGORIES:Concert,Featured
ATTACH;FMTTYPE=image/jpeg:https://www.tenpoundfiddle.org/2016/wp-content/uploads/2024/08/250502-1.jpg
GEO:42.747898;-84.549841
X-APPLE-STRUCTURED-LOCATION;VALUE=URI;X-ADDRESS=UrbanBeat 1213 Turner Street Lansing MI 48906 United States;X-APPLE-RADIUS=500;X-TITLE=1213 Turner Street:geo:-84.549841,42.747898
END:VEVENT
END:VCALENDAR