BEGIN:VCALENDAR
VERSION:2.0
PRODID:-//Ten Pound Fiddle - ECPv6.15.12.2//NONSGML v1.0//EN
CALSCALE:GREGORIAN
METHOD:PUBLISH
X-WR-CALNAME:Ten Pound Fiddle
X-ORIGINAL-URL:https://www.tenpoundfiddle.org
X-WR-CALDESC:Events for Ten Pound Fiddle
REFRESH-INTERVAL;VALUE=DURATION:PT1H
X-Robots-Tag:noindex
X-PUBLISHED-TTL:PT1H
BEGIN:VTIMEZONE
TZID:America/Detroit
BEGIN:DAYLIGHT
TZOFFSETFROM:-0500
TZOFFSETTO:-0400
TZNAME:EDT
DTSTART:20240310T070000
END:DAYLIGHT
BEGIN:STANDARD
TZOFFSETFROM:-0400
TZOFFSETTO:-0500
TZNAME:EST
DTSTART:20241103T060000
END:STANDARD
BEGIN:DAYLIGHT
TZOFFSETFROM:-0500
TZOFFSETTO:-0400
TZNAME:EDT
DTSTART:20250309T070000
END:DAYLIGHT
BEGIN:STANDARD
TZOFFSETFROM:-0400
TZOFFSETTO:-0500
TZNAME:EST
DTSTART:20251102T060000
END:STANDARD
BEGIN:DAYLIGHT
TZOFFSETFROM:-0500
TZOFFSETTO:-0400
TZNAME:EDT
DTSTART:20260308T070000
END:DAYLIGHT
BEGIN:STANDARD
TZOFFSETFROM:-0400
TZOFFSETTO:-0500
TZNAME:EST
DTSTART:20261101T060000
END:STANDARD
END:VTIMEZONE
BEGIN:VEVENT
DTSTART;TZID=America/Detroit:20251024T193000
DTEND;TZID=America/Detroit:20251024T220000
DTSTAMP:20260419T144507
CREATED:20250730T211155Z
LAST-MODIFIED:20250916T182317Z
UID:21396-1761334200-1761343200@www.tenpoundfiddle.org
SUMMARY:The Mammals
DESCRIPTION:“Equal parts protest\, poetry and pure joy.” – Radio Woodstock\n\n“A national treasure.” – Anais Mitchell \nThe Mammals are an indie-roots band from New York’s Hudson Valley led by singer-songwriters Ruth Ungar and Mike Merenda. Over two decades\, this fiercely independent outfit has built a legacy of genre-defying\, politically charged\, and emotionally resonant folk-rock praised as “some of the best songwriting of their generation” (LA Times). Their music resonates with urgency and tenderness—amplifying the voices of conscience\, connection\, and the full spectrum of human experience. \nEmerging in the early 2000s as “subversive acoustic traditionalists” (Boston Globe)\, The Mammals blend old-timey roots with lyrical fire and magnetic force. After a period of redefinition as Mike + Ruthy\, the band reemerged in 2017 and have since continued to forge music that is as topical as it is timeless. The Washington Post writes\, “They don’t suffer from multiple genre syndrome—they celebrate it.” \n\n  \nTheir forthcoming 2025 double album Touch Grass Vol. 1 & 2 marks the band’s most expansive offering to date. A lyrical wake-up call and a tender salve\, the album was recorded at their own Humble Abode Music studio over four years. Produced by the band and mastered by Greg Calbi\, Touch Grass pulses with Americana soul\, front-porch folk\, and barn-burning electricity. Volume 1 channels defiant spirit with tracks like “Unpopular Ideas” and “Rolling Stone Refugee\,” while Volume 2 invites introspection and healing with meditative songs like “Luna Light” and “Heal Our Heart.” “Doing good doesn’t have to mean do more\,” they sing—reminding us that kindness and community are forms of resistance. Listen below: \nTouch Grass Vol. 1 by The Mammals \nTouch Grass Vol. 2 by The Mammals \nTheir previous release\, Nonet (2020)\, was hailed as a landmark album that “marshals the defiant spirit needed to heal a damaged world” (No Depression)\, and the band continues to evolve with their sound\, touring internationally and maintaining a vibrant creative base in the Catskills. Twice a year\, The Mammals host The Hoot\, a spirited folk festival they curate at The Ashokan Center\, a nod to Ruth’s musical heritage—she’s the daughter of legendary fiddler Jay Ungar\, composer of “Ashokan Farewell.” \nWith praise from fans\, press\, and peers including Anaïs Mitchell (“a national treasure”)\, The Mammals remain in the vanguard of today’s folk revival—musical storytellers rooted in empathy\, joy\, and fierce authenticity. \n“Some of the best songwriting of their generation.” – LA Times \n”A party band with a conscience” – Boston Globe \n“Some of the best folk-rock music you will ever hear.” – TapeOp \nhttps://www.themammals.love/
URL:https://www.tenpoundfiddle.org/event/the-mammals/
LOCATION:University Lutheran Church (ULC)\, 1020 S Harrison Rd\, East Lansing\, MI\, 48823\, United States
CATEGORIES:Concert,Featured
ATTACH;FMTTYPE=image/jpeg:https://www.tenpoundfiddle.org/2016/wp-content/uploads/2025/07/251024-The-Mammals.jpg
GEO:42.723138;-84.4947078
X-APPLE-STRUCTURED-LOCATION;VALUE=URI;X-ADDRESS=University Lutheran Church (ULC) 1020 S Harrison Rd East Lansing MI 48823 United States;X-APPLE-RADIUS=500;X-TITLE=1020 S Harrison Rd:geo:-84.4947078,42.723138
END:VEVENT
END:VCALENDAR