BEGIN:VCALENDAR
VERSION:2.0
PRODID:-//Ten Pound Fiddle - ECPv6.15.12.2//NONSGML v1.0//EN
CALSCALE:GREGORIAN
METHOD:PUBLISH
X-WR-CALNAME:Ten Pound Fiddle
X-ORIGINAL-URL:https://www.tenpoundfiddle.org
X-WR-CALDESC:Events for Ten Pound Fiddle
REFRESH-INTERVAL;VALUE=DURATION:PT1H
X-Robots-Tag:noindex
X-PUBLISHED-TTL:PT1H
BEGIN:VTIMEZONE
TZID:America/Detroit
BEGIN:DAYLIGHT
TZOFFSETFROM:-0500
TZOFFSETTO:-0400
TZNAME:EDT
DTSTART:20180311T070000
END:DAYLIGHT
BEGIN:STANDARD
TZOFFSETFROM:-0400
TZOFFSETTO:-0500
TZNAME:EST
DTSTART:20181104T060000
END:STANDARD
BEGIN:DAYLIGHT
TZOFFSETFROM:-0500
TZOFFSETTO:-0400
TZNAME:EDT
DTSTART:20190310T070000
END:DAYLIGHT
BEGIN:STANDARD
TZOFFSETFROM:-0400
TZOFFSETTO:-0500
TZNAME:EST
DTSTART:20191103T060000
END:STANDARD
BEGIN:DAYLIGHT
TZOFFSETFROM:-0500
TZOFFSETTO:-0400
TZNAME:EDT
DTSTART:20200308T070000
END:DAYLIGHT
BEGIN:STANDARD
TZOFFSETFROM:-0400
TZOFFSETTO:-0500
TZNAME:EST
DTSTART:20201101T060000
END:STANDARD
END:VTIMEZONE
BEGIN:VEVENT
DTSTART;TZID=America/Detroit:20190331T190000
DTEND;TZID=America/Detroit:20190331T213000
DTSTAMP:20260419T165817
CREATED:20180810T135545Z
LAST-MODIFIED:20181101T193009Z
UID:5039-1554058800-1554067800@www.tenpoundfiddle.org
SUMMARY:CANCELLED The Fretless - Sunday Concert
DESCRIPTION:
URL:https://www.tenpoundfiddle.org/event/the-fretless/
LOCATION:The Robin Theatre\, 1105 S. Washington Ave\, Lansing\, MI\, 48901\, United States
CATEGORIES:Concert
ATTACH;FMTTYPE=image/jpeg:https://www.tenpoundfiddle.org/2016/wp-content/uploads/2018/08/190331.jpg
GEO:42.721602;-84.552
X-APPLE-STRUCTURED-LOCATION;VALUE=URI;X-ADDRESS=The Robin Theatre 1105 S. Washington Ave Lansing MI 48901 United States;X-APPLE-RADIUS=500;X-TITLE=1105 S. Washington Ave:geo:-84.552,42.721602
END:VEVENT
END:VCALENDAR