BEGIN:VCALENDAR
VERSION:2.0
PRODID:-//Ten Pound Fiddle - ECPv6.15.12.2//NONSGML v1.0//EN
CALSCALE:GREGORIAN
METHOD:PUBLISH
X-WR-CALNAME:Ten Pound Fiddle
X-ORIGINAL-URL:https://www.tenpoundfiddle.org
X-WR-CALDESC:Events for Ten Pound Fiddle
REFRESH-INTERVAL;VALUE=DURATION:PT1H
X-Robots-Tag:noindex
X-PUBLISHED-TTL:PT1H
BEGIN:VTIMEZONE
TZID:America/Detroit
BEGIN:DAYLIGHT
TZOFFSETFROM:-0500
TZOFFSETTO:-0400
TZNAME:EDT
DTSTART:20160313T070000
END:DAYLIGHT
BEGIN:STANDARD
TZOFFSETFROM:-0400
TZOFFSETTO:-0500
TZNAME:EST
DTSTART:20161106T060000
END:STANDARD
BEGIN:DAYLIGHT
TZOFFSETFROM:-0500
TZOFFSETTO:-0400
TZNAME:EDT
DTSTART:20170312T070000
END:DAYLIGHT
BEGIN:STANDARD
TZOFFSETFROM:-0400
TZOFFSETTO:-0500
TZNAME:EST
DTSTART:20171105T060000
END:STANDARD
BEGIN:DAYLIGHT
TZOFFSETFROM:-0500
TZOFFSETTO:-0400
TZNAME:EDT
DTSTART:20180311T070000
END:DAYLIGHT
BEGIN:STANDARD
TZOFFSETFROM:-0400
TZOFFSETTO:-0500
TZNAME:EST
DTSTART:20181104T060000
END:STANDARD
END:VTIMEZONE
BEGIN:VEVENT
DTSTART;TZID=America/Detroit:20171201T193000
DTEND;TZID=America/Detroit:20171201T220000
DTSTAMP:20260419T144747
CREATED:20170808T164053Z
LAST-MODIFIED:20250731T020222Z
UID:3678-1512156600-1512165600@www.tenpoundfiddle.org
SUMMARY:The Bills - Quintet from Western Canada
DESCRIPTION:“Their sound is panoramic\, mischievous\, fiercely unpretentious – and musically splendid” – Boston Globe \nhttps://www.youtube.com/watch?v=_cwi03goN1I \nStrings\, bellows\, keys\, voices\, skin and bows – these are the vehicles for The Bills’ unique sonic approach. With individual band members sporting world-class credentials in folk/roots\, jazz\, classical and world music\,  \nThe Bills truly are a Canadian acoustic music super-group\, and their combined creative studio talent and explosive live shows have made them legendary folk/roots entertainers. Whether spinning on your recorded playlist\, entertaining an intimate theatre audience or rocking a festival crowd of 10\,000\, these five gifted multi-instrumentalists are masters at somehow leaving listeners breathless and revitalized all at once. \nhttps://www.youtube.com/watch?v=CNpIv3d03EM \nWith two previous JUNO nominations and multiple Western Canadian Music Awards under their belts\, expect the musical magic you’ve come to love from this extraordinary quintet.  \nThe Bills are renowned for their instrumental virtuosity\, lush vocal arrangements\, evocative songwriting\, and a refreshing sound that transcends musical boundaries and defies simple categorization. \nThe Bills’ newest album\, Trail of Tales features 14 original tracks. For the first time in their storied career\, the album sees all five members of the band contributing compositional talents in a truly collaborative offering. Trail of Tales winds from infectious\, grooving folk/pop vocal numbers to beguiling\, hypnotic instrumentals. The album walks a verdant path through lyrics that explore and shimmer with melodies that are sure to become standards in the deep and rich Canadian folk/roots/rock songbook.
URL:https://www.tenpoundfiddle.org/event/the-bills-quintet-from-western-canada/
LOCATION:MSU Community Music School\, 4930 S. Hagadorn\, East Lansing\, MI\, 48823\, United States
CATEGORIES:Concert
ATTACH;FMTTYPE=image/jpeg:https://www.tenpoundfiddle.org/2016/wp-content/uploads/2017/08/1712012.jpg
GEO:42.725146;-84.4611
X-APPLE-STRUCTURED-LOCATION;VALUE=URI;X-ADDRESS=MSU Community Music School 4930 S. Hagadorn East Lansing MI 48823 United States;X-APPLE-RADIUS=500;X-TITLE=4930 S. Hagadorn:geo:-84.4611,42.725146
END:VEVENT
END:VCALENDAR