BEGIN:VCALENDAR
VERSION:2.0
PRODID:-//Ten Pound Fiddle - ECPv6.15.12.2//NONSGML v1.0//EN
CALSCALE:GREGORIAN
METHOD:PUBLISH
X-WR-CALNAME:Ten Pound Fiddle
X-ORIGINAL-URL:https://www.tenpoundfiddle.org
X-WR-CALDESC:Events for Ten Pound Fiddle
REFRESH-INTERVAL;VALUE=DURATION:PT1H
X-Robots-Tag:noindex
X-PUBLISHED-TTL:PT1H
BEGIN:VTIMEZONE
TZID:America/Detroit
BEGIN:DAYLIGHT
TZOFFSETFROM:-0500
TZOFFSETTO:-0400
TZNAME:EDT
DTSTART:20160313T070000
END:DAYLIGHT
BEGIN:STANDARD
TZOFFSETFROM:-0400
TZOFFSETTO:-0500
TZNAME:EST
DTSTART:20161106T060000
END:STANDARD
BEGIN:DAYLIGHT
TZOFFSETFROM:-0500
TZOFFSETTO:-0400
TZNAME:EDT
DTSTART:20170312T070000
END:DAYLIGHT
BEGIN:STANDARD
TZOFFSETFROM:-0400
TZOFFSETTO:-0500
TZNAME:EST
DTSTART:20171105T060000
END:STANDARD
BEGIN:DAYLIGHT
TZOFFSETFROM:-0500
TZOFFSETTO:-0400
TZNAME:EDT
DTSTART:20180311T070000
END:DAYLIGHT
BEGIN:STANDARD
TZOFFSETFROM:-0400
TZOFFSETTO:-0500
TZNAME:EST
DTSTART:20181104T060000
END:STANDARD
END:VTIMEZONE
BEGIN:VEVENT
DTSTART;TZID=America/Detroit:20170210T193000
DTEND;TZID=America/Detroit:20170210T220000
DTSTAMP:20260419T162427
CREATED:20160630T045845Z
LAST-MODIFIED:20160801T024738Z
UID:1747-1486755000-1486764000@www.tenpoundfiddle.org
SUMMARY:Ten Strings and a Goat Skin
DESCRIPTION:“A seamless\, polished\, barrel-drum-tight\, rhythmically innovative and wildly entertaining traditional music powerhouse.” -The Guardian \nThe Grey Funnel Line\n\nTEN STRINGS & A GOAT SKIN\, a young bilingual trad/folk/fusion trio celebrating the music of the Irish\, Acadian\, French & Maritime cultures\, is known for a rare musicality that belies the musicians ages. Integrating modern & world rhythms with traditional & original tunes\, they create a fiery\, contagious & unique sound that is increasingly catching the attention of international audiences. \nWith a background of classical training mixed with a youthful & innovative perspective\, their electrifying instrumentals breathe fresh life into traditional arrangements & their strong vocal harmonies invite audiences to sing along. \nAwarded MUSIC PEI’s 2012 Roots Traditional Recording of the Year\, nominated for 2012 ECMA Roots Traditional Group Recording of the Year and MPEI 2013 Spincount Touring Artist of the Year for their debut album\, “Tri”\, they continue to make waves with the recent launch of their bilingual CD “Corbeau” (produced by Lennie Gallant) and a lengthy touring resume which includes the premier maritime folk festivals & showcases. \nWith humour and seemingly ceaseless energy\, Jesse Périard\, Rowen and Caleb Gallant ignite onstage as Ten Strings And A Goat Skin. \n“…the young trio has steadily made a huge name all over the Maritimes over the past two years and has seemingly played absolutely everywhere\,….this on-fire fiddle/guitar/percussion trio have harnessed a traditional spirit between them that is completely intoxicating\, playing everything from French to Irish to even Gypsy music. You just never know where their ceaseless energy will take you next.” – Todd Maclean – The Guardian \nThe Night They Moved The House\n\nHuginn and Muninn\n\nJeff’s Musical Car: Ten Strings and a Goat Skin\n\nwww.tenstringsandagoatskin.com
URL:https://www.tenpoundfiddle.org/event/ten-strings-and-a-goat-skin/
LOCATION:MSU Community Music School\, 4930 S. Hagadorn\, East Lansing\, MI\, 48823\, United States
CATEGORIES:Concert
ATTACH;FMTTYPE=image/jpeg:https://www.tenpoundfiddle.org/2016/wp-content/uploads/2016/06/170210.jpg
GEO:42.725146;-84.4611
X-APPLE-STRUCTURED-LOCATION;VALUE=URI;X-ADDRESS=MSU Community Music School 4930 S. Hagadorn East Lansing MI 48823 United States;X-APPLE-RADIUS=500;X-TITLE=4930 S. Hagadorn:geo:-84.4611,42.725146
END:VEVENT
END:VCALENDAR