BEGIN:VCALENDAR
VERSION:2.0
PRODID:-//Ten Pound Fiddle - ECPv6.15.12.2//NONSGML v1.0//EN
CALSCALE:GREGORIAN
METHOD:PUBLISH
X-WR-CALNAME:Ten Pound Fiddle
X-ORIGINAL-URL:https://www.tenpoundfiddle.org
X-WR-CALDESC:Events for Ten Pound Fiddle
REFRESH-INTERVAL;VALUE=DURATION:PT1H
X-Robots-Tag:noindex
X-PUBLISHED-TTL:PT1H
BEGIN:VTIMEZONE
TZID:America/Detroit
BEGIN:DAYLIGHT
TZOFFSETFROM:-0500
TZOFFSETTO:-0400
TZNAME:EDT
DTSTART:20220313T070000
END:DAYLIGHT
BEGIN:STANDARD
TZOFFSETFROM:-0400
TZOFFSETTO:-0500
TZNAME:EST
DTSTART:20221106T060000
END:STANDARD
BEGIN:DAYLIGHT
TZOFFSETFROM:-0500
TZOFFSETTO:-0400
TZNAME:EDT
DTSTART:20230312T070000
END:DAYLIGHT
BEGIN:STANDARD
TZOFFSETFROM:-0400
TZOFFSETTO:-0500
TZNAME:EST
DTSTART:20231105T060000
END:STANDARD
BEGIN:DAYLIGHT
TZOFFSETFROM:-0500
TZOFFSETTO:-0400
TZNAME:EDT
DTSTART:20240310T070000
END:DAYLIGHT
BEGIN:STANDARD
TZOFFSETFROM:-0400
TZOFFSETTO:-0500
TZNAME:EST
DTSTART:20241103T060000
END:STANDARD
END:VTIMEZONE
BEGIN:VEVENT
DTSTART;TZID=America/Detroit:20230210T193000
DTEND;TZID=America/Detroit:20230210T220000
DTSTAMP:20260419T162207
CREATED:20220816T202200Z
LAST-MODIFIED:20250731T020218Z
UID:11953-1676057400-1676066400@www.tenpoundfiddle.org
SUMMARY:From Scotland\, Tannahill Weavers 
DESCRIPTION:“Formed from a Paisley pub session in 1968\, seminal trailblazers the Tannahill Weavers now also rank as national treasures.” -Glasgow Celtic Connections 2018\n“The music may be pure old time Celtic\, but the drive and enthusiasm are akin to straight ahead rock and roll.” -Winnipeg Free Press \nTraditional Celtic music at its best! With fire-driven instrumentals\, topical songs\, haunting ballads and a good dose of humour\, the Tannahill Weavers have transformed traditional material and brought it into the modern world\, vitally alive and kicking.\nMembers of the Scottish Traditional Music Hall of Fame\, in 2019 the Tannahill Weavers were nominated for Folk Album of the Year and Folk Band of the Year in Scotland. Recently they have been joined by piper Iain MacGillivray\, who is Scotland’s youngest Clan leader and has worked recently on such exciting productions as Outlander and Men in Kilts\, and has performed for a huge list of stars and dignitaries in recent years. \nhttps://www.youtube.com/watch?app=desktop&v=O_uCtdMec7Q
URL:https://www.tenpoundfiddle.org/event/tannahill-weavers-2/
LOCATION:University United Methodist Church (UUMC)\, 1120 S. Harrison\, East Lansing\, MI\, 48823\, United States
CATEGORIES:Concert
ATTACH;FMTTYPE=image/jpeg:https://www.tenpoundfiddle.org/2016/wp-content/uploads/2022/08/230210-chX6wX.tmp_.jpg
GEO:42.7213326;-84.4947507
X-APPLE-STRUCTURED-LOCATION;VALUE=URI;X-ADDRESS=University United Methodist Church (UUMC) 1120 S. Harrison East Lansing MI 48823 United States;X-APPLE-RADIUS=500;X-TITLE=1120 S. Harrison:geo:-84.4947507,42.7213326
END:VEVENT
END:VCALENDAR