BEGIN:VCALENDAR
VERSION:2.0
PRODID:-//Ten Pound Fiddle - ECPv6.15.12.2//NONSGML v1.0//EN
CALSCALE:GREGORIAN
METHOD:PUBLISH
X-WR-CALNAME:Ten Pound Fiddle
X-ORIGINAL-URL:https://www.tenpoundfiddle.org
X-WR-CALDESC:Events for Ten Pound Fiddle
REFRESH-INTERVAL;VALUE=DURATION:PT1H
X-Robots-Tag:noindex
X-PUBLISHED-TTL:PT1H
BEGIN:VTIMEZONE
TZID:America/Detroit
BEGIN:DAYLIGHT
TZOFFSETFROM:-0500
TZOFFSETTO:-0400
TZNAME:EDT
DTSTART:20230312T070000
END:DAYLIGHT
BEGIN:STANDARD
TZOFFSETFROM:-0400
TZOFFSETTO:-0500
TZNAME:EST
DTSTART:20231105T060000
END:STANDARD
BEGIN:DAYLIGHT
TZOFFSETFROM:-0500
TZOFFSETTO:-0400
TZNAME:EDT
DTSTART:20240310T070000
END:DAYLIGHT
BEGIN:STANDARD
TZOFFSETFROM:-0400
TZOFFSETTO:-0500
TZNAME:EST
DTSTART:20241103T060000
END:STANDARD
BEGIN:DAYLIGHT
TZOFFSETFROM:-0500
TZOFFSETTO:-0400
TZNAME:EDT
DTSTART:20250309T070000
END:DAYLIGHT
BEGIN:STANDARD
TZOFFSETFROM:-0400
TZOFFSETTO:-0500
TZNAME:EST
DTSTART:20251102T060000
END:STANDARD
END:VTIMEZONE
BEGIN:VEVENT
DTSTART;TZID=America/Detroit:20240424T193000
DTEND;TZID=America/Detroit:20240424T220000
DTSTAMP:20260419T131842
CREATED:20231129T211555Z
LAST-MODIFIED:20231129T220521Z
UID:16676-1713987000-1713996000@www.tenpoundfiddle.org
SUMMARY:Tall Poppy String Band and Northern Resonance
DESCRIPTION:BYOB permitted from Sleepwalker (next-door to venue)\nCo-produced with the Robin Theatre \nNorthern Resonance is the Scandinavian string trio that takes newly composed folk music into enormous soundscapes. With their previously untested combination of instruments; viola d’amore\, hardanger fiddle and nyckelharpa they let Scandinavian music meet explosive rhythms and grand chamber-like arrangements that takes folk music in a new direction. All members are highly skilled and accomplished musicians\, rooted in traditional music. With an intense musical connection that is rare to come across\, they invite you into their world of compositions. There is great life in their tunes\, and the trio knows how to bring it out. \nhttps://www.northernresonance.se/ \n\n  \nTall Poppy String Band is an Old Time trio featuring fiddler and 2022 International Bluegrass Music Association’s Momentum Instrumentalist of the year George Jackson\, guitarist Morgan Harris\, and banjoist Cameron DeWhitt. Drawing from the deep well of American string band music\, Tall Poppy String Band approaches tradition with playful curiosity; each performance more a discussion than a statement. Whether they’re chasing the elusive downbeat of a source recording\, playing with the pronouns in a bluegrass standard\, or challenging the assumed roles of their instruments\, Tall Poppy String Band endeavors to prove that tradition is still being written. \n\nhttps://www.tallpoppystringband.com/ \nTheir debut\, self titled album was released in 2022. “Intermittently majestic and mournful\, the breadth of the album’s emotional palette is wide.” — Country Queer \n“Just as it is a joy to listen to and watch this trio play music\, it is also a pleasure to watch them interact. The fun they have together enhances the deeply collaborative and respectful nature of their overall style. I truly look forward to seeing this album make its way into the world\, and to the future endeavors of Tall Poppy String Band.” — Folk Works
URL:https://www.tenpoundfiddle.org/event/tall-poppy-string-band-and-northern-resonance/
LOCATION:The Robin Theatre\, 1105 S. Washington Ave\, Lansing\, MI\, 48901\, United States
CATEGORIES:Concert
ATTACH;FMTTYPE=image/jpeg:https://www.tenpoundfiddle.org/2016/wp-content/uploads/2023/11/240424.jpg
GEO:42.721602;-84.552
X-APPLE-STRUCTURED-LOCATION;VALUE=URI;X-ADDRESS=The Robin Theatre 1105 S. Washington Ave Lansing MI 48901 United States;X-APPLE-RADIUS=500;X-TITLE=1105 S. Washington Ave:geo:-84.552,42.721602
END:VEVENT
END:VCALENDAR