BEGIN:VCALENDAR
VERSION:2.0
PRODID:-//Ten Pound Fiddle - ECPv6.15.12.2//NONSGML v1.0//EN
CALSCALE:GREGORIAN
METHOD:PUBLISH
X-WR-CALNAME:Ten Pound Fiddle
X-ORIGINAL-URL:https://www.tenpoundfiddle.org
X-WR-CALDESC:Events for Ten Pound Fiddle
REFRESH-INTERVAL;VALUE=DURATION:PT1H
X-Robots-Tag:noindex
X-PUBLISHED-TTL:PT1H
BEGIN:VTIMEZONE
TZID:America/Detroit
BEGIN:DAYLIGHT
TZOFFSETFROM:-0500
TZOFFSETTO:-0400
TZNAME:EDT
DTSTART:20190310T070000
END:DAYLIGHT
BEGIN:STANDARD
TZOFFSETFROM:-0400
TZOFFSETTO:-0500
TZNAME:EST
DTSTART:20191103T060000
END:STANDARD
BEGIN:DAYLIGHT
TZOFFSETFROM:-0500
TZOFFSETTO:-0400
TZNAME:EDT
DTSTART:20200308T070000
END:DAYLIGHT
BEGIN:STANDARD
TZOFFSETFROM:-0400
TZOFFSETTO:-0500
TZNAME:EST
DTSTART:20201101T060000
END:STANDARD
BEGIN:DAYLIGHT
TZOFFSETFROM:-0500
TZOFFSETTO:-0400
TZNAME:EDT
DTSTART:20210314T070000
END:DAYLIGHT
BEGIN:STANDARD
TZOFFSETFROM:-0400
TZOFFSETTO:-0500
TZNAME:EST
DTSTART:20211107T060000
END:STANDARD
END:VTIMEZONE
BEGIN:VEVENT
DTSTART;TZID=America/Detroit:20200214T193000
DTEND;TZID=America/Detroit:20200214T220000
DTSTAMP:20260419T151903
CREATED:20190805T232008Z
LAST-MODIFIED:20250731T020220Z
UID:6772-1581708600-1581717600@www.tenpoundfiddle.org
SUMMARY:SOLD OUT! Sweet Water Warblers: Rachael Davis\, May Erlewine\, Lindsay Lou
DESCRIPTION:Lindsay Lou is well known as lead vocalist with her band The Flatbellys who have toured extensively and appeared at festivals ranging from MerleFest in the USA to Shetland Folk Festival in the UK. One of the main visiting attractions at Celtic Connections in 2017\, she was nominated in the 2016 Best Vocalist category by the prestigious International Bluegrass Music Association. \nMay Erlewine has the sort of soul-baring voice that moves the Alan Lomaxes of the world to abandon the ivory tower for the back roads of rural America. One of the most prolific and passionate songwriters of her generation\, May’s music has touched the hearts of people all over the world. Her songs have been featured in Rolling Stone Magazine\, on Prairie Home Companion\, sung in churches\, played by musicians nationally and regionally and in living rooms across the land. Her words have held solace for weary hearts and her writing is for the times. \nRachael Davis has a broad and faithful fanbase\, admired especially by her peers\, with a reputation as one of the classiest gals on the scene. At the age of 21\, Rachael moved to Boston to start a career as a singer-songwriter and 7 short months after joining the music community she was was awarded the Boston Music Award for best new singer-songwriter. Her influences range from the jazz stylings of Ella Fitzgerald to the soulful contemporary vocals of Patty Griffin – and much more in between. \nhttps://vimeo.com/204577663 \nhttps://vimeo.com/204574376
URL:https://www.tenpoundfiddle.org/event/sweet-water-warblers-rachael-davis-may-erlewine-lindsay-lou-2/
LOCATION:MSU Community Music School\, 4930 S. Hagadorn\, East Lansing\, MI\, 48823\, United States
CATEGORIES:Concert
ATTACH;FMTTYPE=image/jpeg:https://www.tenpoundfiddle.org/2016/wp-content/uploads/2019/08/200214.jpg
GEO:42.725146;-84.4611
X-APPLE-STRUCTURED-LOCATION;VALUE=URI;X-ADDRESS=MSU Community Music School 4930 S. Hagadorn East Lansing MI 48823 United States;X-APPLE-RADIUS=500;X-TITLE=4930 S. Hagadorn:geo:-84.4611,42.725146
END:VEVENT
END:VCALENDAR