BEGIN:VCALENDAR
VERSION:2.0
PRODID:-//Ten Pound Fiddle - ECPv6.15.12.2//NONSGML v1.0//EN
CALSCALE:GREGORIAN
METHOD:PUBLISH
X-WR-CALNAME:Ten Pound Fiddle
X-ORIGINAL-URL:https://www.tenpoundfiddle.org
X-WR-CALDESC:Events for Ten Pound Fiddle
REFRESH-INTERVAL;VALUE=DURATION:PT1H
X-Robots-Tag:noindex
X-PUBLISHED-TTL:PT1H
BEGIN:VTIMEZONE
TZID:America/Detroit
BEGIN:DAYLIGHT
TZOFFSETFROM:-0500
TZOFFSETTO:-0400
TZNAME:EDT
DTSTART:20200308T070000
END:DAYLIGHT
BEGIN:STANDARD
TZOFFSETFROM:-0400
TZOFFSETTO:-0500
TZNAME:EST
DTSTART:20201101T060000
END:STANDARD
BEGIN:DAYLIGHT
TZOFFSETFROM:-0500
TZOFFSETTO:-0400
TZNAME:EDT
DTSTART:20210314T070000
END:DAYLIGHT
BEGIN:STANDARD
TZOFFSETFROM:-0400
TZOFFSETTO:-0500
TZNAME:EST
DTSTART:20211107T060000
END:STANDARD
BEGIN:DAYLIGHT
TZOFFSETFROM:-0500
TZOFFSETTO:-0400
TZNAME:EDT
DTSTART:20220313T070000
END:DAYLIGHT
BEGIN:STANDARD
TZOFFSETFROM:-0400
TZOFFSETTO:-0500
TZNAME:EST
DTSTART:20221106T060000
END:STANDARD
END:VTIMEZONE
BEGIN:VEVENT
DTSTART;VALUE=DATE:20210908
DTEND;VALUE=DATE:20210918
DTSTAMP:20260419T162732
CREATED:20210801T013851Z
LAST-MODIFIED:20210909T192118Z
UID:8717-1631059200-1631923199@www.tenpoundfiddle.org
SUMMARY:Streaming Audio: 9/14/ 2001 Benefit Concert for 9/11 Victims
DESCRIPTION:This year is the 20th anniversary of the 9/11/2001 attacks. \nThat week\, the Fiddle’s 9/14/2001 show was supposed to be a popular Irish band\, but since all plane travel was grounded\, the band could not get here. \nInstead\, four Michigan acts agreed to perform in what turned out to be a very moving night of contemplation and community. \nA packed house of 300 people jammed MSU’s Erickson Kiva. After expenses\, over $3000 was donated to 9/11 relief organizations. \n \nTen Pound Fiddle · 9 – 11 Benefit Live From The Ten Pound Fiddle – September 14\, 2001\nOne of the acts\, Kitty Donohoe\, debuted her song\,”There Are No Words.” \nThis video shows Kitty singing the song in DC at the dedication of the memorial at the Pentagon. \n\nThe four acts were:\nJoel Mabus\nSecond Opinion (Pat Madden\, Betsy Clinton\, and Sally Potter)\nKitty Donohoe\nLady of the Lake (Wanda Degen\, Karrie Potter\, and Rachel Alexander substituting for Pooh Stevenson – who was giving birth to her now 20 year old daughter\, Taylor)
URL:https://www.tenpoundfiddle.org/event/streaming-audio-9-14-2001-benefit-concert-for-9-11-victims/
LOCATION:Online\, MI\, United States
CATEGORIES:From the Archives,Special Event,Virtual
ATTACH;FMTTYPE=image/jpeg:https://www.tenpoundfiddle.org/2016/wp-content/uploads/2021/07/210908.jpg
END:VEVENT
END:VCALENDAR