BEGIN:VCALENDAR
VERSION:2.0
PRODID:-//Ten Pound Fiddle - ECPv6.15.12.2//NONSGML v1.0//EN
CALSCALE:GREGORIAN
METHOD:PUBLISH
X-WR-CALNAME:Ten Pound Fiddle
X-ORIGINAL-URL:https://www.tenpoundfiddle.org
X-WR-CALDESC:Events for Ten Pound Fiddle
REFRESH-INTERVAL;VALUE=DURATION:PT1H
X-Robots-Tag:noindex
X-PUBLISHED-TTL:PT1H
BEGIN:VTIMEZONE
TZID:America/Detroit
BEGIN:DAYLIGHT
TZOFFSETFROM:-0500
TZOFFSETTO:-0400
TZNAME:EDT
DTSTART:20240310T070000
END:DAYLIGHT
BEGIN:STANDARD
TZOFFSETFROM:-0400
TZOFFSETTO:-0500
TZNAME:EST
DTSTART:20241103T060000
END:STANDARD
BEGIN:DAYLIGHT
TZOFFSETFROM:-0500
TZOFFSETTO:-0400
TZNAME:EDT
DTSTART:20250309T070000
END:DAYLIGHT
BEGIN:STANDARD
TZOFFSETFROM:-0400
TZOFFSETTO:-0500
TZNAME:EST
DTSTART:20251102T060000
END:STANDARD
BEGIN:DAYLIGHT
TZOFFSETFROM:-0500
TZOFFSETTO:-0400
TZNAME:EDT
DTSTART:20260308T070000
END:DAYLIGHT
BEGIN:STANDARD
TZOFFSETFROM:-0400
TZOFFSETTO:-0500
TZNAME:EST
DTSTART:20261101T060000
END:STANDARD
END:VTIMEZONE
BEGIN:VEVENT
DTSTART;TZID=America/Detroit:20251108T193000
DTEND;TZID=America/Detroit:20251108T220000
DTSTAMP:20260419T144919
CREATED:20250730T213051Z
LAST-MODIFIED:20250730T232656Z
UID:21405-1762630200-1762639200@www.tenpoundfiddle.org
SUMMARY:Straight Ahead\, Women in the Arts Festival
DESCRIPTION:Out of Detroit’s vibrant jazz tradition comes Straight Ahead\, the Grammy-nominated\, all-woman ensemble that redefined boundaries in music and representation. As the first all-female jazz group signed to Atlantic Records\, they made history not just for who they are—but for the extraordinary music they create. \nMelding jazz with Latin grooves\, soulful hip-hop rhythms\, and a deep sense of musical storytelling\, Straight Ahead is known for its bold compositions\, eclectic arrangements\, and dynamic live performances. Their sound is a rich tapestry of power\, joy\, and musical excellence. \nOriginally introduced to the world as finalists in the prestigious Sony Innovators competition\, they gained international recognition by opening for Nina Simone at the Montreux Jazz Festival. Since then\, they’ve shared the stage with music legends like Nancy Wilson\, George Duke\, Stanley Clarke\, Tony Bennett\, Roy Ayers\, Max Roach\, Dianne Reeves\, and more—solidifying their place among jazz’s elite. \nWith five acclaimed recordings\, including the Billboard-charting Look Straight Ahead and Body and Soul\, and the genre-blending City Cuts and Still Swinging\, the band continues to evolve while staying rooted in their Detroit soul. Guest appearances by icons like Kenny Garrett and Fareed Haque add further depth to their expansive sound. \nHaving toured across the U.S.\, Europe\, and the Caribbean\, Straight Ahead has captivated audiences worldwide. \nTheir message is clear: \nJoy. Power. Love. Wisdom. Magic.This is not just jazz.This is Straight Ahead.
URL:https://www.tenpoundfiddle.org/event/straight-ahead-women-in-the-arts-festival/
LOCATION:Edgewood United Church\, 469 N Hagadorn Rd\, East Lansing\, MI\, 48823\, United States
CATEGORIES:Concert
ATTACH;FMTTYPE=image/jpeg:https://www.tenpoundfiddle.org/2016/wp-content/uploads/2025/07/251108-uwJ4al.jpg
GEO:42.7363524;-84.4630256
X-APPLE-STRUCTURED-LOCATION;VALUE=URI;X-ADDRESS=Edgewood United Church 469 N Hagadorn Rd East Lansing MI 48823 United States;X-APPLE-RADIUS=500;X-TITLE=469 N Hagadorn Rd:geo:-84.4630256,42.7363524
END:VEVENT
END:VCALENDAR