BEGIN:VCALENDAR
VERSION:2.0
PRODID:-//Ten Pound Fiddle - ECPv6.15.12.2//NONSGML v1.0//EN
CALSCALE:GREGORIAN
METHOD:PUBLISH
X-WR-CALNAME:Ten Pound Fiddle
X-ORIGINAL-URL:https://www.tenpoundfiddle.org
X-WR-CALDESC:Events for Ten Pound Fiddle
REFRESH-INTERVAL;VALUE=DURATION:PT1H
X-Robots-Tag:noindex
X-PUBLISHED-TTL:PT1H
BEGIN:VTIMEZONE
TZID:America/Detroit
BEGIN:DAYLIGHT
TZOFFSETFROM:-0500
TZOFFSETTO:-0400
TZNAME:EDT
DTSTART:20170312T070000
END:DAYLIGHT
BEGIN:STANDARD
TZOFFSETFROM:-0400
TZOFFSETTO:-0500
TZNAME:EST
DTSTART:20171105T060000
END:STANDARD
BEGIN:DAYLIGHT
TZOFFSETFROM:-0500
TZOFFSETTO:-0400
TZNAME:EDT
DTSTART:20180311T070000
END:DAYLIGHT
BEGIN:STANDARD
TZOFFSETFROM:-0400
TZOFFSETTO:-0500
TZNAME:EST
DTSTART:20181104T060000
END:STANDARD
BEGIN:DAYLIGHT
TZOFFSETFROM:-0500
TZOFFSETTO:-0400
TZNAME:EDT
DTSTART:20190310T070000
END:DAYLIGHT
BEGIN:STANDARD
TZOFFSETFROM:-0400
TZOFFSETTO:-0500
TZNAME:EST
DTSTART:20191103T060000
END:STANDARD
END:VTIMEZONE
BEGIN:VEVENT
DTSTART;TZID=America/Detroit:20180407T100000
DTEND;TZID=America/Detroit:20180407T111500
DTSTAMP:20260419T133431
CREATED:20170808T172256Z
LAST-MODIFIED:20250731T020222Z
UID:3731-1523095200-1523099700@www.tenpoundfiddle.org
SUMMARY:Story Rhythms with Karen Bonnici
DESCRIPTION:As a storyteller\, musician\, and teaching artist Karen Bonnici Czarnik’s unique performances combine music and stories to teach\, engage\, encourage and tickle the funny bone. Her collaboration of character and tale reveal colorful images in the minds of listeners. \nFrom stage to elementary classrooms\, campfires to coffee houses\, Karen’s music\, voice and stories inspire audiences of all ages. Karen’s performance programs\, workshops\, classes and camps offer “edutainment” through the art of Stories and Music. \nCome join folk enthusiasts ages 3 – 13 and their family for fun with folk music. Refreshments provided. \nDo your children love music? Come to Fiddle Scouts! See you there! \nFor more information\, contact Tamiko Rothhorn at 517.974.3751 or email her at fiddlescouts@gmail.com.
URL:https://www.tenpoundfiddle.org/event/story-rhythms-with-karen-bonnici/
LOCATION:MSU Community Music School\, 4930 S. Hagadorn\, East Lansing\, MI\, 48823\, United States
CATEGORIES:Fiddle Scouts
ATTACH;FMTTYPE=image/jpeg:https://www.tenpoundfiddle.org/2016/wp-content/uploads/2017/08/180407.jpg
GEO:42.725146;-84.4611
X-APPLE-STRUCTURED-LOCATION;VALUE=URI;X-ADDRESS=MSU Community Music School 4930 S. Hagadorn East Lansing MI 48823 United States;X-APPLE-RADIUS=500;X-TITLE=4930 S. Hagadorn:geo:-84.4611,42.725146
END:VEVENT
END:VCALENDAR