BEGIN:VCALENDAR
VERSION:2.0
PRODID:-//Ten Pound Fiddle - ECPv6.15.12.2//NONSGML v1.0//EN
CALSCALE:GREGORIAN
METHOD:PUBLISH
X-WR-CALNAME:Ten Pound Fiddle
X-ORIGINAL-URL:https://www.tenpoundfiddle.org
X-WR-CALDESC:Events for Ten Pound Fiddle
REFRESH-INTERVAL;VALUE=DURATION:PT1H
X-Robots-Tag:noindex
X-PUBLISHED-TTL:PT1H
BEGIN:VTIMEZONE
TZID:America/Detroit
BEGIN:DAYLIGHT
TZOFFSETFROM:-0500
TZOFFSETTO:-0400
TZNAME:EDT
DTSTART:20210314T070000
END:DAYLIGHT
BEGIN:STANDARD
TZOFFSETFROM:-0400
TZOFFSETTO:-0500
TZNAME:EST
DTSTART:20211107T060000
END:STANDARD
BEGIN:DAYLIGHT
TZOFFSETFROM:-0500
TZOFFSETTO:-0400
TZNAME:EDT
DTSTART:20220313T070000
END:DAYLIGHT
BEGIN:STANDARD
TZOFFSETFROM:-0400
TZOFFSETTO:-0500
TZNAME:EST
DTSTART:20221106T060000
END:STANDARD
BEGIN:DAYLIGHT
TZOFFSETFROM:-0500
TZOFFSETTO:-0400
TZNAME:EDT
DTSTART:20230312T070000
END:DAYLIGHT
BEGIN:STANDARD
TZOFFSETFROM:-0400
TZOFFSETTO:-0500
TZNAME:EST
DTSTART:20231105T060000
END:STANDARD
END:VTIMEZONE
BEGIN:VEVENT
DTSTART;TZID=America/Detroit:20220525T193000
DTEND;TZID=America/Detroit:20220525T220000
DTSTAMP:20260419T163054
CREATED:20211127T223244Z
LAST-MODIFIED:20250731T020219Z
UID:9028-1653507000-1653516000@www.tenpoundfiddle.org
SUMMARY:Sound an Echo:  Sara Pajunen and Rachael Kilgour - Wednesday Show
DESCRIPTION:Kilgour is an award-winning songwriter whose sincere and lyric-driven work (‘a heartfelt slice of indie folk’ [Billboard]) has been heard at Lincoln Center and The Sundance Film Festival. \nA classically-trained violinist with a Masters of Music in contemporary improvisation from New England Conservatory\, Pajunen is a sound artist\, composer and an acclaimed progressive practitioner of Nordic folk music with “extra elusive appeal…” (fRoots). \nPajunen’s sonic-focused aesthetic and Kilgour’s fluency in storyline combine artfully to highlight their shared sensitivity in powerful\, inventive arrangements. Sound an Echo’s debut album ‘And We’ll All Go Together’ was released in early 2020. \nhttps://www.youtube.com/watch?v=Dq022Cc3We4 \nhttps://www.youtube.com/watch?v=U7Wj-Pgl5UI \nhttps://www.youtube.com/watch?v=7r5hsjC00O4 \nhttps://www.youtube.com/watch?v=-hedyUgwt2E
URL:https://www.tenpoundfiddle.org/event/sound-an-echo-sara-pajunen-and-rachael-kilgour/
LOCATION:The Robin Theatre\, 1105 S. Washington Ave\, Lansing\, MI\, 48901\, United States
CATEGORIES:Concert
ATTACH;FMTTYPE=image/jpeg:https://www.tenpoundfiddle.org/2016/wp-content/uploads/2021/07/211203-C8465n.tmp_.jpg
GEO:42.721602;-84.552
X-APPLE-STRUCTURED-LOCATION;VALUE=URI;X-ADDRESS=The Robin Theatre 1105 S. Washington Ave Lansing MI 48901 United States;X-APPLE-RADIUS=500;X-TITLE=1105 S. Washington Ave:geo:-84.552,42.721602
END:VEVENT
END:VCALENDAR