BEGIN:VCALENDAR
VERSION:2.0
PRODID:-//Ten Pound Fiddle - ECPv6.15.12.2//NONSGML v1.0//EN
CALSCALE:GREGORIAN
METHOD:PUBLISH
X-WR-CALNAME:Ten Pound Fiddle
X-ORIGINAL-URL:https://www.tenpoundfiddle.org
X-WR-CALDESC:Events for Ten Pound Fiddle
REFRESH-INTERVAL;VALUE=DURATION:PT1H
X-Robots-Tag:noindex
X-PUBLISHED-TTL:PT1H
BEGIN:VTIMEZONE
TZID:America/Detroit
BEGIN:DAYLIGHT
TZOFFSETFROM:-0500
TZOFFSETTO:-0400
TZNAME:EDT
DTSTART:20230312T070000
END:DAYLIGHT
BEGIN:STANDARD
TZOFFSETFROM:-0400
TZOFFSETTO:-0500
TZNAME:EST
DTSTART:20231105T060000
END:STANDARD
BEGIN:DAYLIGHT
TZOFFSETFROM:-0500
TZOFFSETTO:-0400
TZNAME:EDT
DTSTART:20240310T070000
END:DAYLIGHT
BEGIN:STANDARD
TZOFFSETFROM:-0400
TZOFFSETTO:-0500
TZNAME:EST
DTSTART:20241103T060000
END:STANDARD
BEGIN:DAYLIGHT
TZOFFSETFROM:-0500
TZOFFSETTO:-0400
TZNAME:EDT
DTSTART:20250309T070000
END:DAYLIGHT
BEGIN:STANDARD
TZOFFSETFROM:-0400
TZOFFSETTO:-0500
TZNAME:EST
DTSTART:20251102T060000
END:STANDARD
END:VTIMEZONE
BEGIN:VEVENT
DTSTART;TZID=America/Detroit:20240301T193000
DTEND;TZID=America/Detroit:20240301T220000
DTSTAMP:20260419T132127
CREATED:20230811T032741Z
LAST-MODIFIED:20240301T183308Z
UID:13258-1709321400-1709330400@www.tenpoundfiddle.org
SUMMARY:Seth Bernard and Jordan Hamilton
DESCRIPTION:Two great friends\, and members of Michigan’s Earthwork Collective\, share an evening of songs and reflection.\n\nSeth Bernard was born and raised on Earthwork Farm in rural Northern Michigan\, Seth Bernard was brought up in the folk and farmstead culture with an enriching integrative experience of the arts\, agriculture\, and community. In 2001\, Seth founded Earthwork Music\, a renowned Michigan-based collective of successful independent musicians who focus their efforts on environmental advocacy\, social justice\, creative empowerment and community building.\nA longtime iconic leader and steward of Michigan’s music community\, Seth has 12 albums to his name and a dozen more collaborative projects in his catalog. He’s won 8 Jammie awards as a recording artist and producer\, and has been featured on NPR and at SXSW. Seth’s newest work\, “Eggtones”\, is an ambitious and vibrant four album series featuring members of Vulfpeck and Jack White’s band.\n\nIn the last two years\, Bernard has launched the Clean Water Campaign for Michigan\, a social movement using storytelling and music to uplift the groundswell of support for water issues\, and Title Track\, a non-profit organization engaging creative practice to work for clean water\, racial equity\, and youth empowerment.\n\nhttps://samuelsethbernard.com/\n\n\nJordan Hamilton\, cellist of Last Gasp Collective and the Southwest Michigan Symphony Orchestra\, merges songwriting\, loop pedals\, sample machines\, and vocals to create a sonic landscape of experimental hip-hop\, folk\, soul\, and classical music. The Western Michigan University graduate aims to find new ways for the cello\, a traditional instrument\, to relate to a modern audience where it can be found playing the music of Bach\, the Beatles\, or Chance the Rapper. Filled with an eclectic range of songs\, Jordan’s set is sure to capture the heart and mind while reflecting on new horizons.\nhttp://www.jordanhamiltonmusic.com/ \n\n  \n\n 
URL:https://www.tenpoundfiddle.org/event/seth-bernard-and-jordan-hamilton/
LOCATION:University United Methodist Church (UUMC)\, 1120 S. Harrison\, East Lansing\, MI\, 48823\, United States
CATEGORIES:Concert
ATTACH;FMTTYPE=image/jpeg:https://www.tenpoundfiddle.org/2016/wp-content/uploads/2023/08/240301.jpg
GEO:42.7213326;-84.4947507
X-APPLE-STRUCTURED-LOCATION;VALUE=URI;X-ADDRESS=University United Methodist Church (UUMC) 1120 S. Harrison East Lansing MI 48823 United States;X-APPLE-RADIUS=500;X-TITLE=1120 S. Harrison:geo:-84.4947507,42.7213326
END:VEVENT
END:VCALENDAR