BEGIN:VCALENDAR
VERSION:2.0
PRODID:-//Ten Pound Fiddle - ECPv6.15.12.2//NONSGML v1.0//EN
CALSCALE:GREGORIAN
METHOD:PUBLISH
X-WR-CALNAME:Ten Pound Fiddle
X-ORIGINAL-URL:https://www.tenpoundfiddle.org
X-WR-CALDESC:Events for Ten Pound Fiddle
REFRESH-INTERVAL;VALUE=DURATION:PT1H
X-Robots-Tag:noindex
X-PUBLISHED-TTL:PT1H
BEGIN:VTIMEZONE
TZID:America/Detroit
BEGIN:DAYLIGHT
TZOFFSETFROM:-0500
TZOFFSETTO:-0400
TZNAME:EDT
DTSTART:20160313T070000
END:DAYLIGHT
BEGIN:STANDARD
TZOFFSETFROM:-0400
TZOFFSETTO:-0500
TZNAME:EST
DTSTART:20161106T060000
END:STANDARD
BEGIN:DAYLIGHT
TZOFFSETFROM:-0500
TZOFFSETTO:-0400
TZNAME:EDT
DTSTART:20170312T070000
END:DAYLIGHT
BEGIN:STANDARD
TZOFFSETFROM:-0400
TZOFFSETTO:-0500
TZNAME:EST
DTSTART:20171105T060000
END:STANDARD
BEGIN:DAYLIGHT
TZOFFSETFROM:-0500
TZOFFSETTO:-0400
TZNAME:EDT
DTSTART:20180311T070000
END:DAYLIGHT
BEGIN:STANDARD
TZOFFSETFROM:-0400
TZOFFSETTO:-0500
TZNAME:EST
DTSTART:20181104T060000
END:STANDARD
END:VTIMEZONE
BEGIN:VEVENT
DTSTART;TZID=America/Detroit:20170922T193000
DTEND;TZID=America/Detroit:20170922T220000
DTSTAMP:20260419T144444
CREATED:20170808T165528Z
LAST-MODIFIED:20250731T020222Z
UID:3665-1506108600-1506117600@www.tenpoundfiddle.org
SUMMARY:Scott Ainslie
DESCRIPTION:Armed with a variety of instruments – vintage guitars\, a fretless gourd banjo\, a one-string\, homemade diddley bow (aka cigar box guitar) and carefully chosen historical personal anecdotes of his encounters with senior musicians across the South – Ainslie brings the history\, roots music\, and sounds of America alive. \n  \nhttps://www.youtube.com/watch?v=SVYt7xS3IW0 \nScott Ainslie’s mother found him at the family piano picking out melodies from the records she listened to during the day when he was three years old. \nHe’s been a musician all his life. \nA Phi Beta Kappa and honors graduate of Washington & Lee University\, Ainslie came of age during the Civil Rights era\, and cultivated a powerful affinity for cross-cultural exchange. \nhttps://www.youtube.com/watch?v=QqB0O5fcU50 \nHe has studied with elder musicians on both sides of the color line – in the Old-Time Southern Appalachian fiddle and banjo traditions\, as well as Black Gospel and Blues. He plays this music with affection\, authority\, and power. \nOn stage\, in educational teaching concerts\, workshops\, and school residencies\, Ainslie explores the African and European roots of American music and culture. His easy\, conversational way with audiences and cross-disciplinary approach to the music consistently garners rave reviews from presenters\, audiences\, students\, and teachers\, alike. He is a masterful and thoughtful historian\, storyteller\, and musician. \nAinslie has spent more than 30 years looking for the right story\, the right set of facts\, the right piece of history\, to introduce a song. He offers a personality\, a moment in history\, a vignette to entice you into a song and to give that song a chance to wake and breathe among us like a living thing.
URL:https://www.tenpoundfiddle.org/event/scott-ainslie/
LOCATION:MSU Community Music School\, 4930 S. Hagadorn\, East Lansing\, MI\, 48823\, United States
CATEGORIES:Concert
ATTACH;FMTTYPE=image/jpeg:https://www.tenpoundfiddle.org/2016/wp-content/uploads/2017/08/170922.jpg
GEO:42.725146;-84.4611
X-APPLE-STRUCTURED-LOCATION;VALUE=URI;X-ADDRESS=MSU Community Music School 4930 S. Hagadorn East Lansing MI 48823 United States;X-APPLE-RADIUS=500;X-TITLE=4930 S. Hagadorn:geo:-84.4611,42.725146
END:VEVENT
END:VCALENDAR