BEGIN:VCALENDAR
VERSION:2.0
PRODID:-//Ten Pound Fiddle - ECPv6.15.12.2//NONSGML v1.0//EN
CALSCALE:GREGORIAN
METHOD:PUBLISH
X-WR-CALNAME:Ten Pound Fiddle
X-ORIGINAL-URL:https://www.tenpoundfiddle.org
X-WR-CALDESC:Events for Ten Pound Fiddle
REFRESH-INTERVAL;VALUE=DURATION:PT1H
X-Robots-Tag:noindex
X-PUBLISHED-TTL:PT1H
BEGIN:VTIMEZONE
TZID:America/Detroit
BEGIN:DAYLIGHT
TZOFFSETFROM:-0500
TZOFFSETTO:-0400
TZNAME:EDT
DTSTART:20240310T070000
END:DAYLIGHT
BEGIN:STANDARD
TZOFFSETFROM:-0400
TZOFFSETTO:-0500
TZNAME:EST
DTSTART:20241103T060000
END:STANDARD
BEGIN:DAYLIGHT
TZOFFSETFROM:-0500
TZOFFSETTO:-0400
TZNAME:EDT
DTSTART:20250309T070000
END:DAYLIGHT
BEGIN:STANDARD
TZOFFSETFROM:-0400
TZOFFSETTO:-0500
TZNAME:EST
DTSTART:20251102T060000
END:STANDARD
BEGIN:DAYLIGHT
TZOFFSETFROM:-0500
TZOFFSETTO:-0400
TZNAME:EDT
DTSTART:20260308T070000
END:DAYLIGHT
BEGIN:STANDARD
TZOFFSETFROM:-0400
TZOFFSETTO:-0500
TZNAME:EST
DTSTART:20261101T060000
END:STANDARD
END:VTIMEZONE
BEGIN:VEVENT
DTSTART;TZID=America/Detroit:20250319T193000
DTEND;TZID=America/Detroit:20250319T220000
DTSTAMP:20260419T144718
CREATED:20240813T160901Z
LAST-MODIFIED:20250128T054735Z
UID:18948-1742412600-1742421600@www.tenpoundfiddle.org
SUMMARY:Canceled - Sara Pajunen wsg Frances Olson
DESCRIPTION:By request of the artist\, this concert has been canceled.  \n“Extra elusive appeal” – fRoots (UK)\n“Swoons lovingly” – Rolling Stone (US) \nSara Pajunen is a violinist/hardanger d’amore player\, sound artist and composer-improviser. Born and based in Minnesota (USA)\, Pajunen’s work is motivated by the interaction between her deep connection to ancestral roots and her experience of current American culture. Steeped in Finnish folk music since her childhood\, she has released six albums using folk and traditional music as the basis for singular collaborations. Pajunen’s interests also lie in blurring human perceptions and cultivating presence through listening\, using sound to shift our relationships to our landscapes and accepted histories. Longterm project Mine Songs: Sounding an Altered Landscape employs environmental recordings\, image\, and composition/improvisation to create a variegated depiction of Minnesota’s Mesabi Iron Range\, her childhood and ancestral home. \nPajunen has performed extensively in Europe and North America and her work has received funding from the Jerome Foundation\, Minnesota State Arts Board\, Kone Foundation\, New Music USA\, American Scandinavian Foundation\, and the Arts Council of Finland – amongst others. She holds classical music degrees in both the United States and Finland\, and a Master of Music in Contemporary Improvisation from New England Conservatory. In addition to presenting solo material\, she will be joined by Frances Olson on keys/fiddle. \nhttp://www.sarapajunen.com
URL:https://www.tenpoundfiddle.org/event/sara-pajunen-wsg-frances-olson/
LOCATION:The Robin Theatre\, 1105 S. Washington Ave\, Lansing\, MI\, 48901\, United States
CATEGORIES:Concert,Postponed/Cancelled
ATTACH;FMTTYPE=image/jpeg:https://www.tenpoundfiddle.org/2016/wp-content/uploads/2024/08/250319-MNbFLl.tmp_.jpg
GEO:42.721602;-84.552
X-APPLE-STRUCTURED-LOCATION;VALUE=URI;X-ADDRESS=The Robin Theatre 1105 S. Washington Ave Lansing MI 48901 United States;X-APPLE-RADIUS=500;X-TITLE=1105 S. Washington Ave:geo:-84.552,42.721602
END:VEVENT
END:VCALENDAR