BEGIN:VCALENDAR
VERSION:2.0
PRODID:-//Ten Pound Fiddle - ECPv6.15.12.2//NONSGML v1.0//EN
CALSCALE:GREGORIAN
METHOD:PUBLISH
X-WR-CALNAME:Ten Pound Fiddle
X-ORIGINAL-URL:https://www.tenpoundfiddle.org
X-WR-CALDESC:Events for Ten Pound Fiddle
REFRESH-INTERVAL;VALUE=DURATION:PT1H
X-Robots-Tag:noindex
X-PUBLISHED-TTL:PT1H
BEGIN:VTIMEZONE
TZID:America/Detroit
BEGIN:DAYLIGHT
TZOFFSETFROM:-0500
TZOFFSETTO:-0400
TZNAME:EDT
DTSTART:20230312T070000
END:DAYLIGHT
BEGIN:STANDARD
TZOFFSETFROM:-0400
TZOFFSETTO:-0500
TZNAME:EST
DTSTART:20231105T060000
END:STANDARD
BEGIN:DAYLIGHT
TZOFFSETFROM:-0500
TZOFFSETTO:-0400
TZNAME:EDT
DTSTART:20240310T070000
END:DAYLIGHT
BEGIN:STANDARD
TZOFFSETFROM:-0400
TZOFFSETTO:-0500
TZNAME:EST
DTSTART:20241103T060000
END:STANDARD
BEGIN:DAYLIGHT
TZOFFSETFROM:-0500
TZOFFSETTO:-0400
TZNAME:EDT
DTSTART:20250309T070000
END:DAYLIGHT
BEGIN:STANDARD
TZOFFSETFROM:-0400
TZOFFSETTO:-0500
TZNAME:EST
DTSTART:20251102T060000
END:STANDARD
END:VTIMEZONE
BEGIN:VEVENT
DTSTART;TZID=America/Detroit:20240307T193000
DTEND;TZID=America/Detroit:20240307T220000
DTSTAMP:20260419T115554
CREATED:20231129T220519Z
LAST-MODIFIED:20250731T020217Z
UID:16672-1709839800-1709848800@www.tenpoundfiddle.org
SUMMARY:Sam Robbins
DESCRIPTION:Sam Robbins is often described as an “old soul singer songwriter.” A Nashville based musician whose music evokes classic 70’s singer songwriters like James Taylor and Neil Young\, Sam adds a modern\, upbeat edge to the storyteller troubadour persona. An avid performer\, he has gained recognition from extensive touring and as one of the six 2021 winners in the Kerrville Folk Festival New Folk competition\, one of the largest and most prestigious songwriting competitions in the country. \nSam released his debut album\, Finally Feeling Young\, on May 14th\, 2021. The album is reminiscent of his 70’s singer-songwriter heroes\, with a modern perspective. On the heels of the award winning opening single\, ‘Remind Me”\, Finally Feeling Young has already garnered radio airplay and critical acclaim. Two album tracks\, Remind Me and Saying Amen\, won him a place as one of the six Kerrville Folk Festival New Folk winners. Americana Highways writes: “He writes of subjects that others don’t explore. Saying Amen has Robbins touching that special place Leonard Cohen went. This is brilliance.” Fateau Magazine in the UK writes “One of the most promising new songwriters of his generation”. \nA multi-instrumentalist from a young age\, Sam began learning drums and piano\, falling in love with guitar at age 15. He then started writing original music\, recording his first CD during his sophomore year of high school\, while playing open mics in his hometown of Portsmouth\, NH. \nOver his career\, Sam has performed countless shows across the country\, in theaters\, house concerts\, biker bars\, weddings\, proposals\, frat parties\, and everything in between. Sam is able to tour full time\, and feels at home in both intimate listening rooms and larger venues. Wherever he is performing\, Sam builds an intimate\, easy connection with the listener\, naturally creating a feeling of closeness throughout the performance. \nhttps://youtu.be/GBl7nGjDgb4 \nSam is a full time troubadour\, playing over 150 shows a year across the country\, including the MainStage at the Kerrville Folk Festival\, Dripping Springs Songwriter’s Festival\, and as one of the “‘Most Wanted to Return” artists in the 2023 Falcon Ridge Folk Festival. \nSince moving to Nashville in September 2019 following his graduation from Berklee College of Music\, Sam has made a splash in music city – performing at the Bluebird Cafe within a month of moving\, and sitting in again at the legendary venue with Liz Longley in February. Sam was also a winner at the Eddie’s Attic Songwriter’s shootout competition in Atlanta in early March 2020. \nIn 2018\, Sam was able to audition and was aired on NBC’s The Voice\, performing for Adam Levine\, Kelly Clarkson\, Blake Shelton and Jennifer Hudson as the first artist to perform a Jim Croce song on the show. \nSam considers himself a student of songwriting\, constantly searching and learning about why songs have the impact they do. A 2019 graduate of Berklee College of Music’s songwriting department\, he has hosted many songwriting workshops and masterclasses\, including at the Harvard Music Department\, the Boys & Girls Club of Boston\, and the Folk Project’s Fall Acoustic Getaway. In his performances and workshops\, Sam explores the magic behind the craft of songwriting\, and tries to help others express themselves through the unique and powerful medium of songwriting. \nSam released his second album\, “Bigger Than in Between”\, to critical acclaim on August 5th\, 2022.
URL:https://www.tenpoundfiddle.org/event/sam-robbins/
LOCATION:The Robin Theatre\, 1105 S. Washington Ave\, Lansing\, MI\, 48901\, United States
CATEGORIES:Concert
ATTACH;FMTTYPE=image/jpeg:https://www.tenpoundfiddle.org/2016/wp-content/uploads/2023/11/240307-gEZU0k.tmp_.jpg
GEO:42.721602;-84.552
X-APPLE-STRUCTURED-LOCATION;VALUE=URI;X-ADDRESS=The Robin Theatre 1105 S. Washington Ave Lansing MI 48901 United States;X-APPLE-RADIUS=500;X-TITLE=1105 S. Washington Ave:geo:-84.552,42.721602
END:VEVENT
END:VCALENDAR