BEGIN:VCALENDAR
VERSION:2.0
PRODID:-//Ten Pound Fiddle - ECPv6.15.12.2//NONSGML v1.0//EN
CALSCALE:GREGORIAN
METHOD:PUBLISH
X-WR-CALNAME:Ten Pound Fiddle
X-ORIGINAL-URL:https://www.tenpoundfiddle.org
X-WR-CALDESC:Events for Ten Pound Fiddle
REFRESH-INTERVAL;VALUE=DURATION:PT1H
X-Robots-Tag:noindex
X-PUBLISHED-TTL:PT1H
BEGIN:VTIMEZONE
TZID:America/Detroit
BEGIN:DAYLIGHT
TZOFFSETFROM:-0500
TZOFFSETTO:-0400
TZNAME:EDT
DTSTART:20170312T070000
END:DAYLIGHT
BEGIN:STANDARD
TZOFFSETFROM:-0400
TZOFFSETTO:-0500
TZNAME:EST
DTSTART:20171105T060000
END:STANDARD
BEGIN:DAYLIGHT
TZOFFSETFROM:-0500
TZOFFSETTO:-0400
TZNAME:EDT
DTSTART:20180311T070000
END:DAYLIGHT
BEGIN:STANDARD
TZOFFSETFROM:-0400
TZOFFSETTO:-0500
TZNAME:EST
DTSTART:20181104T060000
END:STANDARD
BEGIN:DAYLIGHT
TZOFFSETFROM:-0500
TZOFFSETTO:-0400
TZNAME:EDT
DTSTART:20190310T070000
END:DAYLIGHT
BEGIN:STANDARD
TZOFFSETFROM:-0400
TZOFFSETTO:-0500
TZNAME:EST
DTSTART:20191103T060000
END:STANDARD
END:VTIMEZONE
BEGIN:VEVENT
DTSTART;TZID=America/Detroit:20181116T193000
DTEND;TZID=America/Detroit:20181116T220000
DTSTAMP:20260419T162232
CREATED:20180810T134056Z
LAST-MODIFIED:20250731T020221Z
UID:5023-1542396600-1542405600@www.tenpoundfiddle.org
SUMMARY:Sam Gleaves
DESCRIPTION:Sam Gleaves is a singer\, multi-instrumentalist and songwriter originally from Wytheville\, Virginia. Sam began playing Appalachian music as a teenager with the help of mentors Jim Lloyd\, a multi-instrumentalist\, storyteller and local barber\, and nationally recognized ballad singer Sheila Kay Adams. While earning a degree in Folklore at Berea College\, Sam performed with the Berea College Bluegrass Ensemble directed by Al White. In 2015\, Sam collaborated with Grammy-winning producer Cathy Fink and released a debut record of original songs\, titled “Ain’t We Brothers\,” which has been featured by The Guardian\, National Public Radio\, and No Depression. Appalachian novelist Lee Smith has heralded Sam as “the best young songwriter around.” Sam has toured throughout the U.S. and he has performed in Ireland\, England\, Canada\, Japan and Italy. In 2017\, Sam released a duo recording with Tyler Hughes\, a fellow southwest Virginian steeped in the region’s musical traditions. In 2018\, Sam collaborated with Cathy Fink and Marcy Marxer on a trio recording\, “Shout & Shine\,” which Justin Hiltner of the Bluegrass Situation called\, “a perfect illustration of cross-generational mind melds and musical melds.”  Sam currently lives in Hindman\, Kentucky where he serves as the Traditional Arts Director at the Hindman Settlement School.  \n“Ain’t We Brothers”\nhttps://youtu.be/S1udLmz5x5w \n“My Singing Bird”\nhttps://youtu.be/KoJO8SlilX4 \n“Johnny”
URL:https://www.tenpoundfiddle.org/event/sam-gleaves/
LOCATION:Edgewood United Church\, 469 N Hagadorn Rd\, East Lansing\, MI\, 48823\, United States
CATEGORIES:Concert
ATTACH;FMTTYPE=image/jpeg:https://www.tenpoundfiddle.org/2016/wp-content/uploads/2018/08/181116.jpg
GEO:42.7363524;-84.4630256
X-APPLE-STRUCTURED-LOCATION;VALUE=URI;X-ADDRESS=Edgewood United Church 469 N Hagadorn Rd East Lansing MI 48823 United States;X-APPLE-RADIUS=500;X-TITLE=469 N Hagadorn Rd:geo:-84.4630256,42.7363524
END:VEVENT
END:VCALENDAR