BEGIN:VCALENDAR
VERSION:2.0
PRODID:-//Ten Pound Fiddle - ECPv6.15.12.2//NONSGML v1.0//EN
CALSCALE:GREGORIAN
METHOD:PUBLISH
X-WR-CALNAME:Ten Pound Fiddle
X-ORIGINAL-URL:https://www.tenpoundfiddle.org
X-WR-CALDESC:Events for Ten Pound Fiddle
REFRESH-INTERVAL;VALUE=DURATION:PT1H
X-Robots-Tag:noindex
X-PUBLISHED-TTL:PT1H
BEGIN:VTIMEZONE
TZID:America/Detroit
BEGIN:DAYLIGHT
TZOFFSETFROM:-0500
TZOFFSETTO:-0400
TZNAME:EDT
DTSTART:20200308T070000
END:DAYLIGHT
BEGIN:STANDARD
TZOFFSETFROM:-0400
TZOFFSETTO:-0500
TZNAME:EST
DTSTART:20201101T060000
END:STANDARD
BEGIN:DAYLIGHT
TZOFFSETFROM:-0500
TZOFFSETTO:-0400
TZNAME:EDT
DTSTART:20210314T070000
END:DAYLIGHT
BEGIN:STANDARD
TZOFFSETFROM:-0400
TZOFFSETTO:-0500
TZNAME:EST
DTSTART:20211107T060000
END:STANDARD
BEGIN:DAYLIGHT
TZOFFSETFROM:-0500
TZOFFSETTO:-0400
TZNAME:EDT
DTSTART:20220313T070000
END:DAYLIGHT
BEGIN:STANDARD
TZOFFSETFROM:-0400
TZOFFSETTO:-0500
TZNAME:EST
DTSTART:20221106T060000
END:STANDARD
END:VTIMEZONE
BEGIN:VEVENT
DTSTART;TZID=America/Detroit:20211112T193000
DTEND;TZID=America/Detroit:20211112T220000
DTSTAMP:20260419T162500
CREATED:20210731T195412Z
LAST-MODIFIED:20250731T020219Z
UID:8654-1636745400-1636754400@www.tenpoundfiddle.org
SUMMARY:Richie and Rosie
DESCRIPTION:Richie Stearns and Rosie Newton grew up 150 miles and a few decades apart. Having originally met at Saratoga Springs’ Flurry festival\, the two reunited in the Ithaca old-time scene\, where Richie grew up and Rosie had moved for college. During Rosie’s freshman year\, they began touring together regionally as members of the Evil City String Band and eventually decided to pursue a more intimate project as a duo. In 2013 the duo released their first album\, Tractor Beam\, a 12-track mix of originals and classics\, designed to mirror the experience of a live performance. \nAfter three years of touring and writing\, Richie and Rosie returned to the studio last December to record their second full-length album\, Nowhere in Time. Set for release November 10\, 2017\, the record finds itself at a junction of Americana\, old-time\, and folk\, bringing a new sound to traditional music. Recorded with producer Alex Perialas at Pyramid Sound Studios\, the project gives fans a look inside the band’s personal lives with a variety of introspective lyrics. With singles like\, “Honey Bee”\, “No Longer Lonely”\, and title-track\, “Nowhere in Time\,” the album highlights the incredibly-refined skill of both musicians. \nBefore joining forces\, both members were well-established within the old-time community. Rosie has toured with multiple bands\, including an appearance while she was in high school with folk-rock band The Mammals. In 2010\, she released a self-titled album as part of the duo The Pearly Snaps. In addition to releasing two solo albums\, Richie’s discography includes collaborations with Natalie Merchant\, Jim Lauderdale\, Donna the Buffalo\, and Carrie Rodriguez. He has performed internationally with bands like Bela Fleck\, Pete Seeger\, David Byrne\, Billy Bragg & Wilco\, Old Crow Medicine Show\, and Joan Baez. He is the President of the iconic GrassRoots Festival of Music & Dance. \nWith the fated combination of Richie and Rosie’s unique skill\, varied musical influence\, and honest storytelling\, Nowhere in Time defines exactly what the duo hopes to achieve — music that people can connect with. As two musicians in two very different parts of life\, Richie and Rosie are proof of two things: the power and magic of two people making music\, and that the universal messages that lie within their songs remain timeless. \nhttps://www.youtube.com/watch?v=SlvbhTLeu04 \nhttps://www.youtube.com/watch?v=AqOvw32Flmw
URL:https://www.tenpoundfiddle.org/event/richie-and-rosie/
LOCATION:University United Methodist Church (UUMC)\, 1120 S. Harrison\, East Lansing\, MI\, 48823\, United States
CATEGORIES:Concert
ATTACH;FMTTYPE=image/jpeg:https://www.tenpoundfiddle.org/2016/wp-content/uploads/2021/07/211112-4UZW7l.tmp_.jpg
GEO:42.7213326;-84.4947507
X-APPLE-STRUCTURED-LOCATION;VALUE=URI;X-ADDRESS=University United Methodist Church (UUMC) 1120 S. Harrison East Lansing MI 48823 United States;X-APPLE-RADIUS=500;X-TITLE=1120 S. Harrison:geo:-84.4947507,42.7213326
END:VEVENT
END:VCALENDAR