BEGIN:VCALENDAR
VERSION:2.0
PRODID:-//Ten Pound Fiddle - ECPv6.15.12.2//NONSGML v1.0//EN
CALSCALE:GREGORIAN
METHOD:PUBLISH
X-WR-CALNAME:Ten Pound Fiddle
X-ORIGINAL-URL:https://www.tenpoundfiddle.org
X-WR-CALDESC:Events for Ten Pound Fiddle
REFRESH-INTERVAL;VALUE=DURATION:PT1H
X-Robots-Tag:noindex
X-PUBLISHED-TTL:PT1H
BEGIN:VTIMEZONE
TZID:America/Detroit
BEGIN:DAYLIGHT
TZOFFSETFROM:-0500
TZOFFSETTO:-0400
TZNAME:EDT
DTSTART:20180311T070000
END:DAYLIGHT
BEGIN:STANDARD
TZOFFSETFROM:-0400
TZOFFSETTO:-0500
TZNAME:EST
DTSTART:20181104T060000
END:STANDARD
BEGIN:DAYLIGHT
TZOFFSETFROM:-0500
TZOFFSETTO:-0400
TZNAME:EDT
DTSTART:20190310T070000
END:DAYLIGHT
BEGIN:STANDARD
TZOFFSETFROM:-0400
TZOFFSETTO:-0500
TZNAME:EST
DTSTART:20191103T060000
END:STANDARD
BEGIN:DAYLIGHT
TZOFFSETFROM:-0500
TZOFFSETTO:-0400
TZNAME:EDT
DTSTART:20200308T070000
END:DAYLIGHT
BEGIN:STANDARD
TZOFFSETFROM:-0400
TZOFFSETTO:-0500
TZNAME:EST
DTSTART:20201101T060000
END:STANDARD
BEGIN:DAYLIGHT
TZOFFSETFROM:-0500
TZOFFSETTO:-0400
TZNAME:EDT
DTSTART:20210314T070000
END:DAYLIGHT
BEGIN:STANDARD
TZOFFSETFROM:-0400
TZOFFSETTO:-0500
TZNAME:EST
DTSTART:20211107T060000
END:STANDARD
END:VTIMEZONE
BEGIN:VEVENT
DTSTART;TZID=America/Detroit:20191231T200000
DTEND;TZID=America/Detroit:20200101T000000
DTSTAMP:20260419T133553
CREATED:20170808T172247Z
LAST-MODIFIED:20191209T151932Z
UID:3718-1577822400-1577836800@www.tenpoundfiddle.org
SUMMARY:New Years Eve Contra and Square Dance
DESCRIPTION:Bring in the New Year with your fellow dancers! Come early for the community potluck from 6:30 until 7:45. \nNew dancer workshop at 7:30.  \nAll dances taught – no partner needed. Wear loose clothes\, comfortable shoes\, and be prepared to have a good time!  For more info\, call (517) 337-0235. \n 
URL:https://www.tenpoundfiddle.org/event/new-years-eve-contra-and-square-dance/
LOCATION:Dewitt Township Community Center\, 16101 Brook Rd.\, Lansing\, MI\, 48906\, United States
CATEGORIES:Dance
ATTACH;FMTTYPE=image/jpeg:https://www.tenpoundfiddle.org/2016/wp-content/uploads/2017/08/newyears.jpg
GEO:42.7828198;-84.5398942
X-APPLE-STRUCTURED-LOCATION;VALUE=URI;X-ADDRESS=Dewitt Township Community Center 16101 Brook Rd. Lansing MI 48906 United States;X-APPLE-RADIUS=500;X-TITLE=16101 Brook Rd.:geo:-84.5398942,42.7828198
END:VEVENT
END:VCALENDAR