BEGIN:VCALENDAR
VERSION:2.0
PRODID:-//Ten Pound Fiddle - ECPv6.15.12.2//NONSGML v1.0//EN
CALSCALE:GREGORIAN
METHOD:PUBLISH
X-WR-CALNAME:Ten Pound Fiddle
X-ORIGINAL-URL:https://www.tenpoundfiddle.org
X-WR-CALDESC:Events for Ten Pound Fiddle
REFRESH-INTERVAL;VALUE=DURATION:PT1H
X-Robots-Tag:noindex
X-PUBLISHED-TTL:PT1H
BEGIN:VTIMEZONE
TZID:America/Detroit
BEGIN:DAYLIGHT
TZOFFSETFROM:-0500
TZOFFSETTO:-0400
TZNAME:EDT
DTSTART:20230312T070000
END:DAYLIGHT
BEGIN:STANDARD
TZOFFSETFROM:-0400
TZOFFSETTO:-0500
TZNAME:EST
DTSTART:20231105T060000
END:STANDARD
BEGIN:DAYLIGHT
TZOFFSETFROM:-0500
TZOFFSETTO:-0400
TZNAME:EDT
DTSTART:20240310T070000
END:DAYLIGHT
BEGIN:STANDARD
TZOFFSETFROM:-0400
TZOFFSETTO:-0500
TZNAME:EST
DTSTART:20241103T060000
END:STANDARD
BEGIN:DAYLIGHT
TZOFFSETFROM:-0500
TZOFFSETTO:-0400
TZNAME:EDT
DTSTART:20250309T070000
END:DAYLIGHT
BEGIN:STANDARD
TZOFFSETFROM:-0400
TZOFFSETTO:-0500
TZNAME:EST
DTSTART:20251102T060000
END:STANDARD
END:VTIMEZONE
BEGIN:VEVENT
DTSTART;TZID=America/Detroit:20240203T110000
DTEND;TZID=America/Detroit:20240203T120000
DTSTAMP:20260419T144908
CREATED:20230812T122356Z
LAST-MODIFIED:20231204T190044Z
UID:13334-1706958000-1706961600@www.tenpoundfiddle.org
SUMMARY:MWSF Children's Concert - Lake Effect Family Band
DESCRIPTION:Lake Effect is a family roots band from northern Michigan that has been delighting audiences near and far for over 30 years. With their tight family harmonies\, hilarious original songs\, traditional music\, and a deep understanding of how to engage audiences of all ages\, Lake Effect is a perfect storm for family fun with music. Lake Effect consists of Tiyi Schippers on lap dulcimer and percussion\, David Bunce on Guitar and banjo\, Barry Lempe on guitar\, Zak Bunce on upright bass\, and Brian Roman on fiddle. \nMeant as a playful introduction to folk music\, the Ten Pound Fiddle Scouts children’s concert series features a variety of interactive and accessible musical experiences for children ages 3+ and their families. Refreshments provided. Suggested donation is $5 per child or $10 per family and can be paid online at the link below or with cash in person. \nClick here to make a donation to Fiddle Scouts!\nFor more information\, email Julianna Wilson at fiddlescouts@gmail.com.
URL:https://www.tenpoundfiddle.org/event/mwsf-childrens-concert-lake-effect-family-band/
LOCATION:University United Methodist Church (UUMC)\, 1120 S. Harrison\, East Lansing\, MI\, 48823\, United States
CATEGORIES:Fiddle Scouts,Mid-Winter Singing Festival
ATTACH;FMTTYPE=image/jpeg:https://www.tenpoundfiddle.org/2016/wp-content/uploads/2022/11/240203.jpg
GEO:42.7213326;-84.4947507
X-APPLE-STRUCTURED-LOCATION;VALUE=URI;X-ADDRESS=University United Methodist Church (UUMC) 1120 S. Harrison East Lansing MI 48823 United States;X-APPLE-RADIUS=500;X-TITLE=1120 S. Harrison:geo:-84.4947507,42.7213326
END:VEVENT
END:VCALENDAR