BEGIN:VCALENDAR
VERSION:2.0
PRODID:-//Ten Pound Fiddle - ECPv6.15.12.2//NONSGML v1.0//EN
CALSCALE:GREGORIAN
METHOD:PUBLISH
X-WR-CALNAME:Ten Pound Fiddle
X-ORIGINAL-URL:https://www.tenpoundfiddle.org
X-WR-CALDESC:Events for Ten Pound Fiddle
REFRESH-INTERVAL;VALUE=DURATION:PT1H
X-Robots-Tag:noindex
X-PUBLISHED-TTL:PT1H
BEGIN:VTIMEZONE
TZID:America/Detroit
BEGIN:DAYLIGHT
TZOFFSETFROM:-0500
TZOFFSETTO:-0400
TZNAME:EDT
DTSTART:20180311T070000
END:DAYLIGHT
BEGIN:STANDARD
TZOFFSETFROM:-0400
TZOFFSETTO:-0500
TZNAME:EST
DTSTART:20181104T060000
END:STANDARD
BEGIN:DAYLIGHT
TZOFFSETFROM:-0500
TZOFFSETTO:-0400
TZNAME:EDT
DTSTART:20190310T070000
END:DAYLIGHT
BEGIN:STANDARD
TZOFFSETFROM:-0400
TZOFFSETTO:-0500
TZNAME:EST
DTSTART:20191103T060000
END:STANDARD
BEGIN:DAYLIGHT
TZOFFSETFROM:-0500
TZOFFSETTO:-0400
TZNAME:EDT
DTSTART:20200308T070000
END:DAYLIGHT
BEGIN:STANDARD
TZOFFSETFROM:-0400
TZOFFSETTO:-0500
TZNAME:EST
DTSTART:20201101T060000
END:STANDARD
END:VTIMEZONE
BEGIN:VEVENT
DTSTART;TZID=America/Detroit:20191016T193000
DTEND;TZID=America/Detroit:20191016T220000
DTSTAMP:20260419T170322
CREATED:20190805T223308Z
LAST-MODIFIED:20191015T033358Z
UID:6756-1571254200-1571263200@www.tenpoundfiddle.org
SUMMARY:"Mother Jones in Heaven" - A Musical by Si Kahn (Wednesday)
DESCRIPTION:“Mother Jones in Heaven\,” is underwritten through a generous grant from the MSU labor series\, “Our Daily Work: Our Daily Lives.” \n \nAuthor Si Kahn has worked for over fifty years as a professional civil rights\, labor and community organizer and musician\, touring and recording with such artists as Pete Seeger. The seven musicals for which he wrote the songs and/or script have had full productions at the Berkeley\, Milwaukee and Tennessee Repertory Theatres; the Goodspeed Opera House’s Norma Terris Theatre; Piccolo Spoleto Fringe in Charleston\, SC; Perseverance Theatre in Juneau\, AK; Central Square Theatre in Cambridge\, MA; the Warehouse Performing Arts Center in Cornelius\, NC; the Subversive Theatre Collective in Buffalo\, NY; and Main Stage West in Sebastopol\, CA. \n\nKnown for their work on the public radio program Art of the Song heard on 120 stations across the country including WLNZ in Lansing\, Nesbitt and Dillon skillfully set the pace for Si Kahn’s musical featuring original book and thirteen of Kahn’s songs. John’s musical skills are highlighted on his handmade guitars and harmony vocals. Nesbitt is an accomplished actress and has been seen on Breaking Bad\, The Night Shift\, Manhattan\, Longmire\, Law & Order: SVU\, and is fresh off a production of King Lear and her own solo show The Bark & The Tree that was a Best of the Fest Encore at United Solo Off Broadway in NYC. \n“Anyone with even an inkling of interest in the history of the American labor movement\, or just American history\, should see Mother Jones In Heaven. Vivian Nesbitt’s dramatic embodiment of “Mother” Jones had me transfixed from start to finish. The musical interludes only heighten the dramatic quality of the play. A thoroughly enjoyable experience.” Doug Born\, Pres. Southern Maine Labor Council/Treasurer Maine Chapter AFL-CIO\, IATSE member. \n\n 
URL:https://www.tenpoundfiddle.org/event/mother-jones-in-heaven-a-musical-by-si-kahn-wednesday/
LOCATION:The Robin Theatre\, 1105 S. Washington Ave\, Lansing\, MI\, 48901\, United States
CATEGORIES:Concert
ATTACH;FMTTYPE=image/jpeg:https://www.tenpoundfiddle.org/2016/wp-content/uploads/2019/08/191016.jpg
GEO:42.721602;-84.552
X-APPLE-STRUCTURED-LOCATION;VALUE=URI;X-ADDRESS=The Robin Theatre 1105 S. Washington Ave Lansing MI 48901 United States;X-APPLE-RADIUS=500;X-TITLE=1105 S. Washington Ave:geo:-84.552,42.721602
END:VEVENT
END:VCALENDAR