BEGIN:VCALENDAR
VERSION:2.0
PRODID:-//Ten Pound Fiddle - ECPv6.15.12.2//NONSGML v1.0//EN
CALSCALE:GREGORIAN
METHOD:PUBLISH
X-WR-CALNAME:Ten Pound Fiddle
X-ORIGINAL-URL:https://www.tenpoundfiddle.org
X-WR-CALDESC:Events for Ten Pound Fiddle
REFRESH-INTERVAL;VALUE=DURATION:PT1H
X-Robots-Tag:noindex
X-PUBLISHED-TTL:PT1H
BEGIN:VTIMEZONE
TZID:America/Detroit
BEGIN:DAYLIGHT
TZOFFSETFROM:-0500
TZOFFSETTO:-0400
TZNAME:EDT
DTSTART:20190310T070000
END:DAYLIGHT
BEGIN:STANDARD
TZOFFSETFROM:-0400
TZOFFSETTO:-0500
TZNAME:EST
DTSTART:20191103T060000
END:STANDARD
BEGIN:DAYLIGHT
TZOFFSETFROM:-0500
TZOFFSETTO:-0400
TZNAME:EDT
DTSTART:20200308T070000
END:DAYLIGHT
BEGIN:STANDARD
TZOFFSETFROM:-0400
TZOFFSETTO:-0500
TZNAME:EST
DTSTART:20201101T060000
END:STANDARD
BEGIN:DAYLIGHT
TZOFFSETFROM:-0500
TZOFFSETTO:-0400
TZNAME:EDT
DTSTART:20210314T070000
END:DAYLIGHT
BEGIN:STANDARD
TZOFFSETFROM:-0400
TZOFFSETTO:-0500
TZNAME:EST
DTSTART:20211107T060000
END:STANDARD
END:VTIMEZONE
BEGIN:VEVENT
DTSTART;TZID=America/Detroit:20200223T193000
DTEND;TZID=America/Detroit:20200223T220000
DTSTAMP:20260419T162425
CREATED:20190805T232903Z
LAST-MODIFIED:20250731T020220Z
UID:6775-1582486200-1582495200@www.tenpoundfiddle.org
SUMMARY:Molsky's Mountain Drifters  (Sunday)
DESCRIPTION:A laser-tight trio with an ear for lovely\, lilting traditional melodies\, Molsky’s Mountain Drifters brings tradition steeped in possibility. The grace and wisdom of longtime fiddle player and Grammy nominated multi-instrumentalist Bruce Molsky\, Berklee College of Music’s Visiting Scholar in the American Roots Program\, described as “an absolute master” (No Depression) melds with the electricity of guitarist Stash Wyslouch and banjoist Allison de Groot’s to bring new ideas to traditional music. \nAllison de Groot is the kind of artist who’s virtuosity is built on her strength as a player\, performer\, composer\, is known for her “great clawhammer banjo technique\, exquisite tone\, timing\, and taste. She has deep roots in the old time tradition and yet she’s fearless when it comes to breaking new ground”. (Tony Trischka) \nStash Wyslouch is one of bluegrass’s great young genre-bending pioneers\, “a brilliant and free-thinking mind” (Chris Eldridge\, Punch Brothers). Coming over from the punk-metal world\, Stash brings great sensitivity and real emotion to the trio\, plus superb guitar and vocal chops. \nThese striking musicians have come together for a new sound within the traditional music genre through their audacious approach. “I was looking for a new voice\,” says Molsky\, “a new avenue of expression using old time mountain music as the jumping-off point\, but not being constrained by hard core traditionalism. Allison and Stash are showing me the way\, just where the music is headed\, in directions I never would have imagined when I started my own journey into the mountains a long time ago.” \nhttps://youtu.be/5Ex9HfW5X9s \nThe Mountain Drifters are delighted to announce the release of their 2nd album\, Closing the Gap (Allison’s original composition for banjo & band). Closing the Gap is the Mountain Drifters in their natural and instinctual state; raw\, playful and free\, the way the music is meant to be — hopeful and optimistic and coming from the heart. The recording starts with the song “There’s a bright side somewhere\, ain’t gonna rest until I find it;” which premiered in April as the #1 song on the FolkDJ Charts. \n“Bruce Molsky has long been one of my musical heroes\, and it is such a joy to hear him in this configuration with the Molsky Mountain Drifters\, featuring two of my good friends — Stash Wyslouch and Allison de Groot — accompanying him seamlessly on guitar and banjo. Together\, they are a force to be reckoned with and are creating some of the most soul-stirring music out there today. It’s hard to believe they are a new trio since the sounds they create together instantly feel so at home. The effortlessness and ease with which Bruce plays and sings has always been something I’ve deeply admired\, and that is only highlighted alongside Stash and Allison. It is a rarity to hear music that lacks ego and puts soulfulness and a respect for tradition at the forefront. Bruce is simply one of the greatest musicians there is\, period.” — Sarah Jarosz \n“Love what you and the band have done with the song Bruce [Between the Wars].” — Billy Bragg \n“This record captures all the intricate\, meditative\, overwhelming joy that I love so much in old time music.” -THE MILK CARTON KIDS — Joey Ryan \n“Bruce has always been a major player and influence on all around him. I am happy to say this recording will give him that same stamp of approval from all who hear it.” — JERRY DOUGLAS
URL:https://www.tenpoundfiddle.org/event/molskys-mountain-drifters-sunday/
LOCATION:The Robin Theatre\, 1105 S. Washington Ave\, Lansing\, MI\, 48901\, United States
CATEGORIES:Concert
ATTACH;FMTTYPE=image/jpeg:https://www.tenpoundfiddle.org/2016/wp-content/uploads/2019/08/200223.jpg
GEO:42.721602;-84.552
X-APPLE-STRUCTURED-LOCATION;VALUE=URI;X-ADDRESS=The Robin Theatre 1105 S. Washington Ave Lansing MI 48901 United States;X-APPLE-RADIUS=500;X-TITLE=1105 S. Washington Ave:geo:-84.552,42.721602
END:VEVENT
END:VCALENDAR