BEGIN:VCALENDAR
VERSION:2.0
PRODID:-//Ten Pound Fiddle - ECPv6.15.12.2//NONSGML v1.0//EN
CALSCALE:GREGORIAN
METHOD:PUBLISH
X-WR-CALNAME:Ten Pound Fiddle
X-ORIGINAL-URL:https://www.tenpoundfiddle.org
X-WR-CALDESC:Events for Ten Pound Fiddle
REFRESH-INTERVAL;VALUE=DURATION:PT1H
X-Robots-Tag:noindex
X-PUBLISHED-TTL:PT1H
BEGIN:VTIMEZONE
TZID:America/Detroit
BEGIN:DAYLIGHT
TZOFFSETFROM:-0500
TZOFFSETTO:-0400
TZNAME:EDT
DTSTART:20230312T070000
END:DAYLIGHT
BEGIN:STANDARD
TZOFFSETFROM:-0400
TZOFFSETTO:-0500
TZNAME:EST
DTSTART:20231105T060000
END:STANDARD
BEGIN:DAYLIGHT
TZOFFSETFROM:-0500
TZOFFSETTO:-0400
TZNAME:EDT
DTSTART:20240310T070000
END:DAYLIGHT
BEGIN:STANDARD
TZOFFSETFROM:-0400
TZOFFSETTO:-0500
TZNAME:EST
DTSTART:20241103T060000
END:STANDARD
BEGIN:DAYLIGHT
TZOFFSETFROM:-0500
TZOFFSETTO:-0400
TZNAME:EDT
DTSTART:20250309T070000
END:DAYLIGHT
BEGIN:STANDARD
TZOFFSETFROM:-0400
TZOFFSETTO:-0500
TZNAME:EST
DTSTART:20251102T060000
END:STANDARD
END:VTIMEZONE
BEGIN:VEVENT
DTSTART;TZID=America/Detroit:20241018T193000
DTEND;TZID=America/Detroit:20241018T220000
DTSTAMP:20260419T162300
CREATED:20240807T064826Z
LAST-MODIFIED:20241008T175549Z
UID:18273-1729279800-1729288800@www.tenpoundfiddle.org
SUMMARY:May Erlewine - Solo
DESCRIPTION:“One of the Midwest’s most prolific and passionate songwriters\, May continues to share her gift for writing songs of substance that feel both new and soulfully familiar. Her lyrics offer a window into her heartbreak\, her empowerment\, and her emboldened spirit. \nMay considers her career in the music industry as a service-oriented one and uses her platform for positive change. She stresses the importance of environmental advocacy\, social justice\, creative empowerment\, and community building as necessary work in our world. May’s body of work has become an anthem and an example of why we need to listen to women\, empower women\, and why we need to hear their stories. \n\nWith a long list of full-length albums and numerous collaborations\, May Erlewine’s catalog is proof of her creative power. Her work has been spotlighted by Rolling Stone and NBC’s “”The Voice”” and covered by countless artists. Erlewine’s 2020 release\, “”Anyway\,”” a collaboration with Woody Goss (vulfpeck)\, showcases her diversity as a singer featuring the newly acclaimed song\, “”Days Go By.”” Her 2017 album. Mother Lion\, produced by Tyler Duncan (vulfpeck) and backed by Joe Dart\, Theo Katzman\, Woody Goss and Joshua Pinkham (Jeremy Kittel)\, has become an Indie favorite most notably for the empowering single “”Never One Thing.”” Her newest album\, The Real Thing produced by Theo Katzman\, highlights her songwriting recorded live at his studio in the Northern Woods of Michigan. \nAmong her successes\, perhaps her biggest accomplishment is that her music has touched people all over the world. Her words have held solace for weary hearts\, offered a light in the darkness\, and held a lot of space for the pain and joy of being alive. When she starts to sing\, there’s no way around it: welcome in\, everyone. The door is wide open. \nhttps://www.mayerlewine.com/
URL:https://www.tenpoundfiddle.org/event/may-erlewine2024/
LOCATION:University Lutheran Church (ULC)\, 1020 S Harrison Rd\, East Lansing\, MI\, 48823\, United States
CATEGORIES:Concert,Featured
ATTACH;FMTTYPE=image/jpeg:https://www.tenpoundfiddle.org/2016/wp-content/uploads/2023/08/231103.jpg
GEO:42.723138;-84.4947078
X-APPLE-STRUCTURED-LOCATION;VALUE=URI;X-ADDRESS=University Lutheran Church (ULC) 1020 S Harrison Rd East Lansing MI 48823 United States;X-APPLE-RADIUS=500;X-TITLE=1020 S Harrison Rd:geo:-84.4947078,42.723138
END:VEVENT
END:VCALENDAR