BEGIN:VCALENDAR
VERSION:2.0
PRODID:-//Ten Pound Fiddle - ECPv6.15.12.2//NONSGML v1.0//EN
CALSCALE:GREGORIAN
METHOD:PUBLISH
X-WR-CALNAME:Ten Pound Fiddle
X-ORIGINAL-URL:https://www.tenpoundfiddle.org
X-WR-CALDESC:Events for Ten Pound Fiddle
REFRESH-INTERVAL;VALUE=DURATION:PT1H
X-Robots-Tag:noindex
X-PUBLISHED-TTL:PT1H
BEGIN:VTIMEZONE
TZID:America/Detroit
BEGIN:DAYLIGHT
TZOFFSETFROM:-0500
TZOFFSETTO:-0400
TZNAME:EDT
DTSTART:20170312T070000
END:DAYLIGHT
BEGIN:STANDARD
TZOFFSETFROM:-0400
TZOFFSETTO:-0500
TZNAME:EST
DTSTART:20171105T060000
END:STANDARD
BEGIN:DAYLIGHT
TZOFFSETFROM:-0500
TZOFFSETTO:-0400
TZNAME:EDT
DTSTART:20180311T070000
END:DAYLIGHT
BEGIN:STANDARD
TZOFFSETFROM:-0400
TZOFFSETTO:-0500
TZNAME:EST
DTSTART:20181104T060000
END:STANDARD
BEGIN:DAYLIGHT
TZOFFSETFROM:-0500
TZOFFSETTO:-0400
TZNAME:EDT
DTSTART:20190310T070000
END:DAYLIGHT
BEGIN:STANDARD
TZOFFSETFROM:-0400
TZOFFSETTO:-0500
TZNAME:EST
DTSTART:20191103T060000
END:STANDARD
END:VTIMEZONE
BEGIN:VEVENT
DTSTART;TZID=America/Detroit:20181026T193000
DTEND;TZID=America/Detroit:20181026T220000
DTSTAMP:20260419T151016
CREATED:20180810T134204Z
LAST-MODIFIED:20250731T020221Z
UID:5019-1540582200-1540591200@www.tenpoundfiddle.org
SUMMARY:May Erlewine
DESCRIPTION:  \nMay Erlewine\, featuring Eric Kuhn\, Max Lockwood and Joe Hettinga \nMay returns to the Fiddle offering new songs of courage and heart. Join the songwriter for an intimate evening. \nMay will offer two different sets. The first set will highlight her solo folk songs and stories and the 2nd set she will perform with the full band. \nThe brilliant researcher Brene’ Brown speaks at great length about our vulnerability as being our strength. \nMay Erlewine has split her heart wide open and has left nothing off the emotional table. The places she travels to to tell her story run deep within her search for the source…that thing every true artist seeks to understand…themselves amongst it all.\nThe amazingly beautiful aspect of her writing is the clever lyrical hooks that leave you pondering her questions\, her searching\, long after a first listen. Her songs stick with you May is an anthem and another incredible example of why we need to start listening to women\, we need to hear these stories. \nhttps://www.youtube.com/watch?v=FlB44qq_ipI \nhttps://www.youtube.com/watch?v=wVaFNs3luHw \n 
URL:https://www.tenpoundfiddle.org/event/may-erlewine/
LOCATION:MSU Community Music School\, 4930 S. Hagadorn\, East Lansing\, MI\, 48823\, United States
CATEGORIES:Concert
ATTACH;FMTTYPE=image/jpeg:https://www.tenpoundfiddle.org/2016/wp-content/uploads/2018/08/181026.jpg
GEO:42.725146;-84.4611
X-APPLE-STRUCTURED-LOCATION;VALUE=URI;X-ADDRESS=MSU Community Music School 4930 S. Hagadorn East Lansing MI 48823 United States;X-APPLE-RADIUS=500;X-TITLE=4930 S. Hagadorn:geo:-84.4611,42.725146
END:VEVENT
END:VCALENDAR