BEGIN:VCALENDAR
VERSION:2.0
PRODID:-//Ten Pound Fiddle - ECPv6.15.12.2//NONSGML v1.0//EN
CALSCALE:GREGORIAN
METHOD:PUBLISH
X-WR-CALNAME:Ten Pound Fiddle
X-ORIGINAL-URL:https://www.tenpoundfiddle.org
X-WR-CALDESC:Events for Ten Pound Fiddle
REFRESH-INTERVAL;VALUE=DURATION:PT1H
X-Robots-Tag:noindex
X-PUBLISHED-TTL:PT1H
BEGIN:VTIMEZONE
TZID:America/Detroit
BEGIN:DAYLIGHT
TZOFFSETFROM:-0500
TZOFFSETTO:-0400
TZNAME:EDT
DTSTART:20180311T070000
END:DAYLIGHT
BEGIN:STANDARD
TZOFFSETFROM:-0400
TZOFFSETTO:-0500
TZNAME:EST
DTSTART:20181104T060000
END:STANDARD
BEGIN:DAYLIGHT
TZOFFSETFROM:-0500
TZOFFSETTO:-0400
TZNAME:EDT
DTSTART:20190310T070000
END:DAYLIGHT
BEGIN:STANDARD
TZOFFSETFROM:-0400
TZOFFSETTO:-0500
TZNAME:EST
DTSTART:20191103T060000
END:STANDARD
BEGIN:DAYLIGHT
TZOFFSETFROM:-0500
TZOFFSETTO:-0400
TZNAME:EDT
DTSTART:20200308T070000
END:DAYLIGHT
BEGIN:STANDARD
TZOFFSETFROM:-0400
TZOFFSETTO:-0500
TZNAME:EST
DTSTART:20201101T060000
END:STANDARD
END:VTIMEZONE
BEGIN:VEVENT
DTSTART;TZID=America/Detroit:20190125T193000
DTEND;TZID=America/Detroit:20190125T220000
DTSTAMP:20260419T144908
CREATED:20180810T134941Z
LAST-MODIFIED:20190109T175317Z
UID:5027-1548444600-1548453600@www.tenpoundfiddle.org
SUMMARY:Matt Watroba and Robert Jones - The American Experience: From Roots to Rap\, A Musical Celebration of History and Diversity
DESCRIPTION:“This show delivers a wonderful and powerful message of love\, friendship\, tolerance: where we have been\, where we are\, and hopefully where we can go. It is a walk through the roots and history of American music that not only educates\, but entertains. Robert and Matt are consummate professionals\, and always a joy to work with. Children and teachers love this interactive show\, and the evaluations I get are enthusiastic endorsements and requests to present it again.”\n– Jennifer Tobin\, Arts Coord\, Village Theater of Canton \nEver since their first meeting\, over twenty years ago\, Robert Jones and Matt Watroba have been musical partners.  Their relationship started when they hosted back to back\, radio shows on WDET-FM\, Detroit.  Later on they started performing together and\, in doing so\, they discovered a friendship based in mutual respect and a love for traditional American music.  Now\, Matt and Robert literally travel the nation extolling the virtues of “Music That Matters”. \nFor Matt and Robert\, American Roots Music (Folk\, Blues\, Spirituals\, Work Songs\, Chants\, etc.) is music that matters.  This is the music that America and the world have in common.  It is music that reflects history\, social change\, migration\, hopes and dreams.  It is music that is rich and diverse\, direct and powerful.  As talented as they are individually\, Matt and Robert together form a synergy that hard to describe.  Whether for a performance\, a workshop or a school presentation any organization would be well served by bringing in this duo. \n\n\nAbout Matt Watroba\nVeteran performer\, teacher\, radio host\, song writer…the list goes on\, but what Matt prefers to be known as is a community singer\, song leader and educator. \nMany know Matt as the voice of folk music in Michigan for his work with WDET–Detroit Public Radio. As producer and host of the Folks Like Us program\, and the nationally syndicated\, Sing Out Radio Magazine and Folk Alley\, Watroba has come in contact with many aspects of folk music and culture. This has helped shape a repertoire and presentation that is unique on stages across the state and country. He is committed to inspiring the world to sing– one town at a time. \nhttps://www.mattwatroba.net \n  \nAbout Robert Jones\nRev. Robert Jones\, Sr. is a native Detroiter and an inspirational storyteller and musician celebrating the history\, humor and power of American Roots music. His deep love for traditional African American and American traditional music is shared inlive performances that interweave timeless stories with original and traditional songs. \nFor more than thirty years Robert has entertained and educated audiences of all ages in schools\, colleges\, libraries\, union halls\, prisons\, churches and civil rights organizations. At the heart of his message is the belief that our cultural diversity tells a story that should celebrate\, not just tolerate.  \nAcclaimed photographer James Fraher writes about Robert: “Perhaps the world’s most highly educated blues musician\, an ordained minister\, a longtime DJ\, and a living encyclopedia of blues history\, the Reverend Robert Jones is comfortable among juke joint loud talkers\, fancy-hatted church ladies\, and PhDs alike.” \nhttps://www.revrobertjones.com/
URL:https://www.tenpoundfiddle.org/event/matt-watroba-robert-jones-american-experience-roots-rap-musical-celebration-history-diversity/
LOCATION:MSU Community Music School\, 4930 S. Hagadorn\, East Lansing\, MI\, 48823\, United States
CATEGORIES:Concert
ATTACH;FMTTYPE=image/jpeg:https://www.tenpoundfiddle.org/2016/wp-content/uploads/2018/08/190125.jpg
GEO:42.725146;-84.4611
X-APPLE-STRUCTURED-LOCATION;VALUE=URI;X-ADDRESS=MSU Community Music School 4930 S. Hagadorn East Lansing MI 48823 United States;X-APPLE-RADIUS=500;X-TITLE=4930 S. Hagadorn:geo:-84.4611,42.725146
END:VEVENT
END:VCALENDAR