BEGIN:VCALENDAR
VERSION:2.0
PRODID:-//Ten Pound Fiddle - ECPv6.15.12.2//NONSGML v1.0//EN
CALSCALE:GREGORIAN
METHOD:PUBLISH
X-WR-CALNAME:Ten Pound Fiddle
X-ORIGINAL-URL:https://www.tenpoundfiddle.org
X-WR-CALDESC:Events for Ten Pound Fiddle
REFRESH-INTERVAL;VALUE=DURATION:PT1H
X-Robots-Tag:noindex
X-PUBLISHED-TTL:PT1H
BEGIN:VTIMEZONE
TZID:America/Detroit
BEGIN:DAYLIGHT
TZOFFSETFROM:-0500
TZOFFSETTO:-0400
TZNAME:EDT
DTSTART:20180311T070000
END:DAYLIGHT
BEGIN:STANDARD
TZOFFSETFROM:-0400
TZOFFSETTO:-0500
TZNAME:EST
DTSTART:20181104T060000
END:STANDARD
BEGIN:DAYLIGHT
TZOFFSETFROM:-0500
TZOFFSETTO:-0400
TZNAME:EDT
DTSTART:20190310T070000
END:DAYLIGHT
BEGIN:STANDARD
TZOFFSETFROM:-0400
TZOFFSETTO:-0500
TZNAME:EST
DTSTART:20191103T060000
END:STANDARD
BEGIN:DAYLIGHT
TZOFFSETFROM:-0500
TZOFFSETTO:-0400
TZNAME:EDT
DTSTART:20200308T070000
END:DAYLIGHT
BEGIN:STANDARD
TZOFFSETFROM:-0400
TZOFFSETTO:-0500
TZNAME:EST
DTSTART:20201101T060000
END:STANDARD
END:VTIMEZONE
BEGIN:VEVENT
DTSTART;TZID=America/Detroit:20190405T193000
DTEND;TZID=America/Detroit:20190405T220000
DTSTAMP:20260419T162428
CREATED:20180810T135409Z
LAST-MODIFIED:20190402T174626Z
UID:5040-1554492600-1554501600@www.tenpoundfiddle.org
SUMMARY:The Matchsellers & Red Tail Ring: Old Time Duos
DESCRIPTION:The Matchsellers\nAs featured on NPR’s Mountain Stage Radio Show\, The Bluegrass Situation and Bluegrass Today\, the Matchsellers are Warsaw\, Indiana native Andrew Morris and Julie Bates of Kansas City\, Missouri. Their exciting\, gritty\, and often hilarious stage show has been developed over 6 years of touring across the US and Europe. The two met while working as American Cultural Ambassadors in Germany via the Fulbright Program and began exploring traditional American music from abroad. Since then\, they have collected influences from various regional styles of American folk music including Bluegrass\, Old-Time Fiddle\, Hambone\, Fiddlesticks\, Cajun\, Gospel and others. Their work has delved into subjects as academic as “German-American Musical Exchange” and as wild as “Science Fiction Bluegrass”. While a focus on humor and absurdity permeates their show\, they are dedicated interpreters of tradition whose excellent musicianship\, songwriting and taste are never overshadowed. \nthematchsellers.com \n\nhttps://youtu.be/FnrBHnUZqUA \n  \nRed Tail Ring\nRed Tail Ring: “Old-Time Roots; New-Time Sound.” Laurel Premo and Michael Beauchamp of Red Tail Ring create lush\, intricate arrangements of original folk music and traditional ballads with banjo\, fiddle\, guitar\, and close harmonies. \nThe Michigan-based band is fresh off their fourth full-length studio release\, Fall Away Blues. Featuring new songwriting fused with old-time and country blues themes\, the album tackles topical subjects such as gun violence and environmentalism as well as age-old questions of place and love. Red Tail Ring “doesn’t just pay homage to vintage folk and roots music: The Kalamazoo duo breathes new life into it\, channeling the power and charm of seminal material into its own original songs.” – John Sinkevics\, LocalSpins.com \nSince 2009\, Red Tail Ring has performed their brand of acoustic roots all over the United States\, traveled over seas to play in Australia\, Denmark\, Germany\, Sweden\, Scotland\, Finland\, and England and has also appeared at some of the most notable festivals and venues that the US has to offer\, such as The Ark\, Club Passim\, Caffe Lena\, the Indiana Fiddlers Gathering\, Wheatland Music Festival\, and Hiawatha Traditional Music Festival. \nFor more Red Tail Ring info and music\, visit www.redtailring.com. \n\n  \n\n 
URL:https://www.tenpoundfiddle.org/event/matchsellers-red-tail-ring-old-time-duos/
LOCATION:The Robin Theatre\, 1105 S. Washington Ave\, Lansing\, MI\, 48901\, United States
CATEGORIES:Concert
ATTACH;FMTTYPE=image/jpeg:https://www.tenpoundfiddle.org/2016/wp-content/uploads/2018/08/190405.jpg
GEO:42.721602;-84.552
X-APPLE-STRUCTURED-LOCATION;VALUE=URI;X-ADDRESS=The Robin Theatre 1105 S. Washington Ave Lansing MI 48901 United States;X-APPLE-RADIUS=500;X-TITLE=1105 S. Washington Ave:geo:-84.552,42.721602
END:VEVENT
END:VCALENDAR