BEGIN:VCALENDAR
VERSION:2.0
PRODID:-//Ten Pound Fiddle - ECPv6.15.12.2//NONSGML v1.0//EN
CALSCALE:GREGORIAN
METHOD:PUBLISH
X-WR-CALNAME:Ten Pound Fiddle
X-ORIGINAL-URL:https://www.tenpoundfiddle.org
X-WR-CALDESC:Events for Ten Pound Fiddle
REFRESH-INTERVAL;VALUE=DURATION:PT1H
X-Robots-Tag:noindex
X-PUBLISHED-TTL:PT1H
BEGIN:VTIMEZONE
TZID:America/Detroit
BEGIN:DAYLIGHT
TZOFFSETFROM:-0500
TZOFFSETTO:-0400
TZNAME:EDT
DTSTART:20240310T070000
END:DAYLIGHT
BEGIN:STANDARD
TZOFFSETFROM:-0400
TZOFFSETTO:-0500
TZNAME:EST
DTSTART:20241103T060000
END:STANDARD
BEGIN:DAYLIGHT
TZOFFSETFROM:-0500
TZOFFSETTO:-0400
TZNAME:EDT
DTSTART:20250309T070000
END:DAYLIGHT
BEGIN:STANDARD
TZOFFSETFROM:-0400
TZOFFSETTO:-0500
TZNAME:EST
DTSTART:20251102T060000
END:STANDARD
BEGIN:DAYLIGHT
TZOFFSETFROM:-0500
TZOFFSETTO:-0400
TZNAME:EDT
DTSTART:20260308T070000
END:DAYLIGHT
BEGIN:STANDARD
TZOFFSETFROM:-0400
TZOFFSETTO:-0500
TZNAME:EST
DTSTART:20261101T060000
END:STANDARD
END:VTIMEZONE
BEGIN:VEVENT
DTSTART;TZID=America/Detroit:20251104T180000
DTEND;TZID=America/Detroit:20251104T200000
DTSTAMP:20260419T144623
CREATED:20250730T211910Z
LAST-MODIFIED:20250731T021254Z
UID:21400-1762279200-1762286400@www.tenpoundfiddle.org
SUMMARY:Mama's Broke - Elderly - 6 pm Show!
DESCRIPTION:“When Keeler and Maria come together and sing\, it’s magic\, and they reaffirm how nourishing music can be”\n— No Depression \nMama’s Broke is a powerful folk duo that deliver a compelling performance with heart and raw energy. Although highly influenced by their Canadian roots\, Lisa and Amy are based out of nowhere and everywhere. \nTheir two strong voices blend to create haunting harmonies\, while they artfully juggle fiddle\, banjo\, guitar and mandolin\, and incorporate traditional dance and foot percussion into their performance. Their original – and often dark – compositions push the boundaries of tradition and the constraints of genre. Drawing from old-time\, Quebecois\, blues\, punk\, Celtic\, Balkan and doom metal\, they create a soundscape that is both familiar and new. \nSince forming the band in 2014\, Mama’s Broke has been gaining momentum fast ; having already completed two European\, and several Canadian and U.S. tours. They have performed in a wide range of venues\, from circus shows in New Orleans\, to pirate ships in Amsterdam\, to concert halls in Ireland\, to theatres in Brooklyn. In this way\, they stay true to the transient nature of folklore\, as they travel the world sharing and collecting song. \n\n2017 brought the release of their debut album\, Count the Wicked\, which earned them a Canadian Folk Music Award for Ensemble of the Year as well as a nomination for an ECMA Rising Star Award. \nThe driving force behind this band is – and has always been – the commitment to challenge borders between people\, places and traditions; while encouraging freedom of expression and community through music. \nhttps://mamasbroke.ca/
URL:https://www.tenpoundfiddle.org/event/mamas-broke-elderly-6-pm-show/
LOCATION:Elderly Instruments\, 1100 N Washington Ave\, Lansing\, MI\, 48906\, United States
CATEGORIES:Concert
ATTACH;FMTTYPE=image/jpeg:https://www.tenpoundfiddle.org/2016/wp-content/uploads/2025/07/251104-CERkFn.jpg
END:VEVENT
END:VCALENDAR