BEGIN:VCALENDAR
VERSION:2.0
PRODID:-//Ten Pound Fiddle - ECPv6.15.12.2//NONSGML v1.0//EN
CALSCALE:GREGORIAN
METHOD:PUBLISH
X-WR-CALNAME:Ten Pound Fiddle
X-ORIGINAL-URL:https://www.tenpoundfiddle.org
X-WR-CALDESC:Events for Ten Pound Fiddle
REFRESH-INTERVAL;VALUE=DURATION:PT1H
X-Robots-Tag:noindex
X-PUBLISHED-TTL:PT1H
BEGIN:VTIMEZONE
TZID:America/Detroit
BEGIN:DAYLIGHT
TZOFFSETFROM:-0500
TZOFFSETTO:-0400
TZNAME:EDT
DTSTART:20200308T070000
END:DAYLIGHT
BEGIN:STANDARD
TZOFFSETFROM:-0400
TZOFFSETTO:-0500
TZNAME:EST
DTSTART:20201101T060000
END:STANDARD
BEGIN:DAYLIGHT
TZOFFSETFROM:-0500
TZOFFSETTO:-0400
TZNAME:EDT
DTSTART:20210314T070000
END:DAYLIGHT
BEGIN:STANDARD
TZOFFSETFROM:-0400
TZOFFSETTO:-0500
TZNAME:EST
DTSTART:20211107T060000
END:STANDARD
BEGIN:DAYLIGHT
TZOFFSETFROM:-0500
TZOFFSETTO:-0400
TZNAME:EDT
DTSTART:20220313T070000
END:DAYLIGHT
BEGIN:STANDARD
TZOFFSETFROM:-0400
TZOFFSETTO:-0500
TZNAME:EST
DTSTART:20221106T060000
END:STANDARD
END:VTIMEZONE
BEGIN:VEVENT
DTSTART;VALUE=DATE:20210115
DTEND;VALUE=DATE:20210130
DTSTAMP:20260419T162426
CREATED:20200827T200946Z
LAST-MODIFIED:20210115T193258Z
UID:7908-1610668800-1611964799@www.tenpoundfiddle.org
SUMMARY:Liz Carroll with Jake Charron
DESCRIPTION:From the Archives:\n \nTen Pound Fiddle · Liz Carroll Live From The Ten Pound Fiddle – February 22\, 2013\n  \nChicago’s premier Irish Fiddler\, Liz Carroll is joined by guitarist Jake Charon. \n“Brilliant…She does more than run through her fingertwisting reels and sustained slow airs. Carroll – and her listeners – continually rediscover each melody.” -The New York Times \n  \n\nLiz Carroll was born in Chicago of Irish parents. She’s a junior and senior All-Ireland Fiddle Champion\, and has toured as a solo artist and with the Greenfields of America\, Trian\, String Sisters\, and as part of the duo Liz Carroll & John Doyle. She’s featured on eleven albums and has appeared on many more.  \n\nLiz is a recipient of the National Heritage Fellowship Award (1994). In 2010 she became the first Irish-American musician nominated for a Grammy. In 2011 she became the first American-born composer honored with the Cumadóir TG4\, Ireland’s most significant traditional music prize. \n\nwww.lizcarroll.com
URL:https://www.tenpoundfiddle.org/event/liz-carroll-with-jake-charron/
CATEGORIES:From the Archives,Virtual
ATTACH;FMTTYPE=image/jpeg:https://www.tenpoundfiddle.org/2016/wp-content/uploads/2020/08/liz-jake.jpg
END:VEVENT
END:VCALENDAR