BEGIN:VCALENDAR
VERSION:2.0
PRODID:-//Ten Pound Fiddle - ECPv6.15.12.2//NONSGML v1.0//EN
CALSCALE:GREGORIAN
METHOD:PUBLISH
X-WR-CALNAME:Ten Pound Fiddle
X-ORIGINAL-URL:https://www.tenpoundfiddle.org
X-WR-CALDESC:Events for Ten Pound Fiddle
REFRESH-INTERVAL;VALUE=DURATION:PT1H
X-Robots-Tag:noindex
X-PUBLISHED-TTL:PT1H
BEGIN:VTIMEZONE
TZID:America/Detroit
BEGIN:DAYLIGHT
TZOFFSETFROM:-0500
TZOFFSETTO:-0400
TZNAME:EDT
DTSTART:20170312T070000
END:DAYLIGHT
BEGIN:STANDARD
TZOFFSETFROM:-0400
TZOFFSETTO:-0500
TZNAME:EST
DTSTART:20171105T060000
END:STANDARD
BEGIN:DAYLIGHT
TZOFFSETFROM:-0500
TZOFFSETTO:-0400
TZNAME:EDT
DTSTART:20180311T070000
END:DAYLIGHT
BEGIN:STANDARD
TZOFFSETFROM:-0400
TZOFFSETTO:-0500
TZNAME:EST
DTSTART:20181104T060000
END:STANDARD
BEGIN:DAYLIGHT
TZOFFSETFROM:-0500
TZOFFSETTO:-0400
TZNAME:EDT
DTSTART:20190310T070000
END:DAYLIGHT
BEGIN:STANDARD
TZOFFSETFROM:-0400
TZOFFSETTO:-0500
TZNAME:EST
DTSTART:20191103T060000
END:STANDARD
END:VTIMEZONE
BEGIN:VEVENT
DTSTART;TZID=America/Detroit:20180223T193000
DTEND;TZID=America/Detroit:20180223T220000
DTSTAMP:20260419T162632
CREATED:20170808T164102Z
LAST-MODIFIED:20170808T194659Z
UID:3689-1519414200-1519423200@www.tenpoundfiddle.org
SUMMARY:Liz Carroll\, with Jake Charron and Nic Gareiss
DESCRIPTION:Chicago’s premier Irish Fiddler\, Liz Carroll is joined by guitarist Jake Charon\, and Lansing’s own dance phenom Nic Gareiss. \n“Brilliant…She does more than run through her fingertwisting reels and sustained slow airs. Carroll – and her listeners – continually rediscover each melody.” -The New York Times \n“A show-stopper…the most inventive and expressive step dancer on the scene. The nimble Gareiss called forth visions of Fred Astaire.” – Daniel Gewertz\, The Boston Herald \n  \n\nLiz Carroll was born in Chicago of Irish parents. She’s a junior and senior All-Ireland Fiddle Champion\, and has toured as a solo artist and with the Greenfields of America\, Trian\, String Sisters\, and as part of the duo Liz Carroll & John Doyle. She’s featured on eleven albums and has appeared on many more.  \n\nLiz is a recipient of the National Heritage Fellowship Award (1994). In 2010 she became the first Irish-American musician nominated for a Grammy. In 2011 she became the first American-born composer honored with the Cumadóir TG4\, Ireland’s most significant traditional music prize. \n\nwww.lizcarroll.com \n  \nNic Gareiss\n\nNic Gareiss is a performer\, teacher and researcher examining the cultural employment of the human body as a musical instrument.  His work re-imagines aesthetic movement as a musical activity\, morphing dance into a medium that appeals to both the eyes and the ears.  \nAn enduring fascination with dance practices that create audible foot rhythm and the remarkable concurrent existence of percussive dance in so many disparate cultures has driven Gareiss to study shoe-sounds and grooves internationally\, tracing the roots of American traditional dance abroad.   \n\nInformed by 20 years of study and performance\, Nic’s dancing reflects his love of improvisation\, traditional footwork vocabulary\, and musical collaboration. \nwww.nicgareiss.com
URL:https://www.tenpoundfiddle.org/event/liz-carroll-with-jake-charron-and-nic-gareiss/
LOCATION:MSU Community Music School\, 4930 S. Hagadorn\, East Lansing\, MI\, 48823\, United States
CATEGORIES:Concert
ATTACH;FMTTYPE=image/jpeg:https://www.tenpoundfiddle.org/2016/wp-content/uploads/2017/08/180223.jpg
GEO:42.725146;-84.4611
X-APPLE-STRUCTURED-LOCATION;VALUE=URI;X-ADDRESS=MSU Community Music School 4930 S. Hagadorn East Lansing MI 48823 United States;X-APPLE-RADIUS=500;X-TITLE=4930 S. Hagadorn:geo:-84.4611,42.725146
END:VEVENT
END:VCALENDAR