BEGIN:VCALENDAR
VERSION:2.0
PRODID:-//Ten Pound Fiddle - ECPv6.15.12.2//NONSGML v1.0//EN
CALSCALE:GREGORIAN
METHOD:PUBLISH
X-WR-CALNAME:Ten Pound Fiddle
X-ORIGINAL-URL:https://www.tenpoundfiddle.org
X-WR-CALDESC:Events for Ten Pound Fiddle
REFRESH-INTERVAL;VALUE=DURATION:PT1H
X-Robots-Tag:noindex
X-PUBLISHED-TTL:PT1H
BEGIN:VTIMEZONE
TZID:America/Detroit
BEGIN:DAYLIGHT
TZOFFSETFROM:-0500
TZOFFSETTO:-0400
TZNAME:EDT
DTSTART:20170312T070000
END:DAYLIGHT
BEGIN:STANDARD
TZOFFSETFROM:-0400
TZOFFSETTO:-0500
TZNAME:EST
DTSTART:20171105T060000
END:STANDARD
BEGIN:DAYLIGHT
TZOFFSETFROM:-0500
TZOFFSETTO:-0400
TZNAME:EDT
DTSTART:20180311T070000
END:DAYLIGHT
BEGIN:STANDARD
TZOFFSETFROM:-0400
TZOFFSETTO:-0500
TZNAME:EST
DTSTART:20181104T060000
END:STANDARD
BEGIN:DAYLIGHT
TZOFFSETFROM:-0500
TZOFFSETTO:-0400
TZNAME:EDT
DTSTART:20190310T070000
END:DAYLIGHT
BEGIN:STANDARD
TZOFFSETFROM:-0400
TZOFFSETTO:-0500
TZNAME:EST
DTSTART:20191103T060000
END:STANDARD
END:VTIMEZONE
BEGIN:VEVENT
DTSTART;TZID=America/Detroit:20181109T193000
DTEND;TZID=America/Detroit:20181109T220000
DTSTAMP:20260419T144906
CREATED:20180810T133955Z
LAST-MODIFIED:20180810T134015Z
UID:5022-1541791800-1541800800@www.tenpoundfiddle.org
SUMMARY:Laura Love\, Women in the Arts Festival
DESCRIPTION:
URL:https://www.tenpoundfiddle.org/event/laura-love-women-arts-festival/
LOCATION:Edgewood United Church\, 469 N Hagadorn Rd\, East Lansing\, MI\, 48823\, United States
CATEGORIES:Concert
ATTACH;FMTTYPE=image/jpeg:https://www.tenpoundfiddle.org/2016/wp-content/uploads/2018/08/181109.jpg
GEO:42.7363524;-84.4630256
X-APPLE-STRUCTURED-LOCATION;VALUE=URI;X-ADDRESS=Edgewood United Church 469 N Hagadorn Rd East Lansing MI 48823 United States;X-APPLE-RADIUS=500;X-TITLE=469 N Hagadorn Rd:geo:-84.4630256,42.7363524
END:VEVENT
END:VCALENDAR