BEGIN:VCALENDAR
VERSION:2.0
PRODID:-//Ten Pound Fiddle - ECPv6.15.12.2//NONSGML v1.0//EN
CALSCALE:GREGORIAN
METHOD:PUBLISH
X-WR-CALNAME:Ten Pound Fiddle
X-ORIGINAL-URL:https://www.tenpoundfiddle.org
X-WR-CALDESC:Events for Ten Pound Fiddle
REFRESH-INTERVAL;VALUE=DURATION:PT1H
X-Robots-Tag:noindex
X-PUBLISHED-TTL:PT1H
BEGIN:VTIMEZONE
TZID:America/Detroit
BEGIN:DAYLIGHT
TZOFFSETFROM:-0500
TZOFFSETTO:-0400
TZNAME:EDT
DTSTART:20240310T070000
END:DAYLIGHT
BEGIN:STANDARD
TZOFFSETFROM:-0400
TZOFFSETTO:-0500
TZNAME:EST
DTSTART:20241103T060000
END:STANDARD
BEGIN:DAYLIGHT
TZOFFSETFROM:-0500
TZOFFSETTO:-0400
TZNAME:EDT
DTSTART:20250309T070000
END:DAYLIGHT
BEGIN:STANDARD
TZOFFSETFROM:-0400
TZOFFSETTO:-0500
TZNAME:EST
DTSTART:20251102T060000
END:STANDARD
BEGIN:DAYLIGHT
TZOFFSETFROM:-0500
TZOFFSETTO:-0400
TZNAME:EDT
DTSTART:20260308T070000
END:DAYLIGHT
BEGIN:STANDARD
TZOFFSETFROM:-0400
TZOFFSETTO:-0500
TZNAME:EST
DTSTART:20261101T060000
END:STANDARD
END:VTIMEZONE
BEGIN:VEVENT
DTSTART;TZID=America/Detroit:20250118T193000
DTEND;TZID=America/Detroit:20250118T220000
DTSTAMP:20260419T162112
CREATED:20240813T160758Z
LAST-MODIFIED:20241117T163313Z
UID:18927-1737228600-1737237600@www.tenpoundfiddle.org
SUMMARY:Larry & Joe
DESCRIPTION:Note: Due to scheduling conflicts\, Larry and Joe have been moved from Friday\, Jan. 17 to Saturday\, Jan. 18 at The Robin Theatre. Thanks for your understanding. \nLarry & Joe were destined to make music together. \nLarry Bellorín hails from Monagas\, Venezuela and is a legend of Llanera music. Joe Troop is from North Carolina and is a GRAMMY-nominated bluegrass and oldtime musician. Larry was forced into exile and is an asylum seeker in North Carolina. Joe\, after a decade in South America\, got stranded back in his stomping grounds in the pandemic. Larry worked construction to make ends meet. Joe’s acclaimed “latingrass” band Che Apalache was forced into hiatus\, and he shifted into action working with asylum seeking migrants. Then Larry met Joe. \nCurrently based in the Triangle of North Carolina\, both men are versatile multi-instrumentalists and singer-songwriters on a mission to show that music has no borders. As a duo they perform a fusion of Venezuelan and Appalachian folk music on harp\, banjo\, cuatro\, fiddle\, maracas\, guitar\, upright bass\, and whatever else they decide to throw in the van. The program they offer features a distinct blend of their musical inheritances and traditions as well as storytelling about the ways that music and social movements coalesce. \nhttps://www.larryandjoe.com/ \n\n\nLarry & Joe estaban destinados a hacer música juntos. \nOriundo de Monagas\, Venezuela\, Larry es una leyenda de la música llanera. Proveniente de Carolina del Norte\, Joe es un músico de bluegrass y oldtime que fue nominado para un GRAMMY. Larry tuvo que exiliarse a Carolina del Norte y es solicitante de asilo. Joe\, después de una década en Sudamérica quedó varado en su tierra natal por la pandemia. Larry trabajó en construcción para llegar a fin de mes. Cuando el ascenso de su renombrada banda Che Apalache se detuvo\, Joe pivotó para trabajar con migrantes solicitando asilo. Entonces Larry conoció a Joe. \nActualmente basados en el Triángulo de Carolina del Norte\, ambos hombres son multi-instrumentistas versátiles con una misión de mostrar que la música no tiene fronteras. Como dueto tocan una fusión de folklore de Venezuela y de los montes Apalaches en arpa\, banjo\, cuatro\, violín\, maracas\, guitarra\, contrabajo y cualquier otra cosa que decidan subir a la camioneta. Como músicos su programa ofrece una mezcla única de sus diversas herencias y tradiciones\, y cómo cuentacuentos demuestran cómo la música y los movimientos sociales interactúan.
URL:https://www.tenpoundfiddle.org/event/larry-joe/
LOCATION:The Robin Theatre\, 1105 S. Washington Ave\, Lansing\, MI\, 48901\, United States
CATEGORIES:Concert,Featured
ATTACH;FMTTYPE=image/jpeg:https://www.tenpoundfiddle.org/2016/wp-content/uploads/2024/08/250117-1rc9X1.tmp_.jpg
GEO:42.721602;-84.552
X-APPLE-STRUCTURED-LOCATION;VALUE=URI;X-ADDRESS=The Robin Theatre 1105 S. Washington Ave Lansing MI 48901 United States;X-APPLE-RADIUS=500;X-TITLE=1105 S. Washington Ave:geo:-84.552,42.721602
END:VEVENT
END:VCALENDAR