BEGIN:VCALENDAR
VERSION:2.0
PRODID:-//Ten Pound Fiddle - ECPv6.15.12.2//NONSGML v1.0//EN
CALSCALE:GREGORIAN
METHOD:PUBLISH
X-WR-CALNAME:Ten Pound Fiddle
X-ORIGINAL-URL:https://www.tenpoundfiddle.org
X-WR-CALDESC:Events for Ten Pound Fiddle
REFRESH-INTERVAL;VALUE=DURATION:PT1H
X-Robots-Tag:noindex
X-PUBLISHED-TTL:PT1H
BEGIN:VTIMEZONE
TZID:America/Detroit
BEGIN:DAYLIGHT
TZOFFSETFROM:-0500
TZOFFSETTO:-0400
TZNAME:EDT
DTSTART:20210314T070000
END:DAYLIGHT
BEGIN:STANDARD
TZOFFSETFROM:-0400
TZOFFSETTO:-0500
TZNAME:EST
DTSTART:20211107T060000
END:STANDARD
BEGIN:DAYLIGHT
TZOFFSETFROM:-0500
TZOFFSETTO:-0400
TZNAME:EDT
DTSTART:20220313T070000
END:DAYLIGHT
BEGIN:STANDARD
TZOFFSETFROM:-0400
TZOFFSETTO:-0500
TZNAME:EST
DTSTART:20221106T060000
END:STANDARD
BEGIN:DAYLIGHT
TZOFFSETFROM:-0500
TZOFFSETTO:-0400
TZNAME:EDT
DTSTART:20230312T070000
END:DAYLIGHT
BEGIN:STANDARD
TZOFFSETFROM:-0400
TZOFFSETTO:-0500
TZNAME:EST
DTSTART:20231105T060000
END:STANDARD
END:VTIMEZONE
BEGIN:VEVENT
DTSTART;TZID=America/Detroit:20221014T193000
DTEND;TZID=America/Detroit:20221014T220000
DTSTAMP:20260419T144408
CREATED:20220126T201820Z
LAST-MODIFIED:20220816T210730Z
UID:9138-1665775800-1665784800@www.tenpoundfiddle.org
SUMMARY:Kitty Donohoe
DESCRIPTION:Kitty Donohoe\n“Far above and beyond most singer-songwriters.” – Rich Warren \n“Kitty creates a glorious sound” – Sing Out \nMichigan Emmy award-winning songwriter Kitty Donohoe was born into a large\, creative family outside of Detroit and has been ‘making up’ songs for as long as she can remember. She describes her music as ‘folky\, Irishy\, Canadianish\,’ elements of her heritage that she draws on in the music she creates. A writer of tunes as well as songs\, Kitty is currently working on an all-instrumental album\, incorporating some newer\, unrecorded pieces with tunes from previous albums. She is also actively working toward getting her music placed in films and TV shows\, a path she’s been interested in pursuing for a long time\, with the hope of one day scoring a film herself! Kitty’s work is unique\, a sound that All Music Guide calls ‘haunting\, melodic and literate.’ With a love of language\, an innate sense of melody\, and the soul of a storyteller\, she backs herself on piano\, guitar and cittern with equal finesse\, but she sees these skills as mostly providing the foundation for the music she writes\, both songs and instrumentals. ‘Kitty creates a glorious sound’ ~ Sing Out. Over the years she has delved ever deeper into Irish music and her latest CD\, titled ‘The Irishman’s Daughter\,’ is a combination of original songs and traditional Irish pieces\, recorded with her own unique arrangements. \nwww.kittydonodoe.com \n\n  \n\n 
URL:https://www.tenpoundfiddle.org/event/kitty-donohoe/
LOCATION:University United Methodist Church (UUMC)\, 1120 S. Harrison\, East Lansing\, MI\, 48823\, United States
CATEGORIES:Concert
ATTACH;FMTTYPE=image/jpeg:https://www.tenpoundfiddle.org/2016/wp-content/uploads/2022/01/kitty.jpg
GEO:42.7213326;-84.4947507
X-APPLE-STRUCTURED-LOCATION;VALUE=URI;X-ADDRESS=University United Methodist Church (UUMC) 1120 S. Harrison East Lansing MI 48823 United States;X-APPLE-RADIUS=500;X-TITLE=1120 S. Harrison:geo:-84.4947507,42.7213326
END:VEVENT
END:VCALENDAR