BEGIN:VCALENDAR
VERSION:2.0
PRODID:-//Ten Pound Fiddle - ECPv6.15.12.2//NONSGML v1.0//EN
CALSCALE:GREGORIAN
METHOD:PUBLISH
X-WR-CALNAME:Ten Pound Fiddle
X-ORIGINAL-URL:https://www.tenpoundfiddle.org
X-WR-CALDESC:Events for Ten Pound Fiddle
REFRESH-INTERVAL;VALUE=DURATION:PT1H
X-Robots-Tag:noindex
X-PUBLISHED-TTL:PT1H
BEGIN:VTIMEZONE
TZID:America/Detroit
BEGIN:DAYLIGHT
TZOFFSETFROM:-0500
TZOFFSETTO:-0400
TZNAME:EDT
DTSTART:20240310T070000
END:DAYLIGHT
BEGIN:STANDARD
TZOFFSETFROM:-0400
TZOFFSETTO:-0500
TZNAME:EST
DTSTART:20241103T060000
END:STANDARD
BEGIN:DAYLIGHT
TZOFFSETFROM:-0500
TZOFFSETTO:-0400
TZNAME:EDT
DTSTART:20250309T070000
END:DAYLIGHT
BEGIN:STANDARD
TZOFFSETFROM:-0400
TZOFFSETTO:-0500
TZNAME:EST
DTSTART:20251102T060000
END:STANDARD
BEGIN:DAYLIGHT
TZOFFSETFROM:-0500
TZOFFSETTO:-0400
TZNAME:EDT
DTSTART:20260308T070000
END:DAYLIGHT
BEGIN:STANDARD
TZOFFSETFROM:-0400
TZOFFSETTO:-0500
TZNAME:EST
DTSTART:20261101T060000
END:STANDARD
END:VTIMEZONE
BEGIN:VEVENT
DTSTART;TZID=America/Detroit:20250112T150000
DTEND;TZID=America/Detroit:20250112T170000
DTSTAMP:20260419T144745
CREATED:20240813T160756Z
LAST-MODIFIED:20241204T154401Z
UID:18925-1736694000-1736701200@www.tenpoundfiddle.org
SUMMARY:Kitty Donohoe - Sunday Afternoon Show
DESCRIPTION:“Kitty Donohoe is a true treasure\, a rare songwriter with tremendous range\, a beautiful voice and an ability to write haunting\, melodic and literate songs. She deserves a wider audience.” – All Music Guide \nMichigan Emmy award-winning songwriter Kitty Donohoe was born into a large\, creative family outside of Detroit and has been ‘making up’ songs for as long as she can remember. Describing her music as ‘folky\, bluesy\, Irishy\, American\, Canadianish’\, she draws from her roots to create music that is uniquely her own ~ music that’s ‘haunting\, melodic and literate’ ~ All Music Guide. With a love of language\, an innate sense of melody\, and the soul of a storyteller\, she backs herself on piano\, guitar and cittern with equal finesse\, but she sees these skills as mostly providing the foundation for the music she writes\, both songs and instrumentals. ‘Kitty creates a glorious sound’ ~ Sing Out. Kitty’s latest CD\, ‘The Irishman’s Daughter’\, combines her original pieces with some traditional music and is getting great reviews. ‘Kitty is making a name for herself in Irish America and you can see why from the high quality of the work here.’ Irish Music Magazine. Singing her songs with a ‘soaring voice’ (Victory Music Review) she often performs solo\, but can ramp it up when joined by Canadian Len Wallace on accordion\, Luke Panning on fiddle\, or ‘uber multi-instrumentalist’ David Mosher on pretty much everything else. In 2002 Kitty was awarded an Emmy for her 9/11 song ‘There Are No Words’\, which led to its use in a film and an appearance at the Pentagon for the dedication of the Pentagon 9/11 Memorial. \nhttps://kittydonohoe.com/
URL:https://www.tenpoundfiddle.org/event/kitty-donohoe-sunday-afternoon-show/
LOCATION:University Lutheran Church (ULC)\, 1020 S Harrison Rd\, East Lansing\, MI\, 48823\, United States
CATEGORIES:Concert,Featured,Special Event
ATTACH;FMTTYPE=image/jpeg:https://www.tenpoundfiddle.org/2016/wp-content/uploads/2024/08/250112-GW3dxl.tmp_.jpg
GEO:42.723138;-84.4947078
X-APPLE-STRUCTURED-LOCATION;VALUE=URI;X-ADDRESS=University Lutheran Church (ULC) 1020 S Harrison Rd East Lansing MI 48823 United States;X-APPLE-RADIUS=500;X-TITLE=1020 S Harrison Rd:geo:-84.4947078,42.723138
END:VEVENT
END:VCALENDAR