BEGIN:VCALENDAR
VERSION:2.0
PRODID:-//Ten Pound Fiddle - ECPv6.15.12.2//NONSGML v1.0//EN
CALSCALE:GREGORIAN
METHOD:PUBLISH
X-WR-CALNAME:Ten Pound Fiddle
X-ORIGINAL-URL:https://www.tenpoundfiddle.org
X-WR-CALDESC:Events for Ten Pound Fiddle
REFRESH-INTERVAL;VALUE=DURATION:PT1H
X-Robots-Tag:noindex
X-PUBLISHED-TTL:PT1H
BEGIN:VTIMEZONE
TZID:America/Detroit
BEGIN:DAYLIGHT
TZOFFSETFROM:-0500
TZOFFSETTO:-0400
TZNAME:EDT
DTSTART:20170312T070000
END:DAYLIGHT
BEGIN:STANDARD
TZOFFSETFROM:-0400
TZOFFSETTO:-0500
TZNAME:EST
DTSTART:20171105T060000
END:STANDARD
BEGIN:DAYLIGHT
TZOFFSETFROM:-0500
TZOFFSETTO:-0400
TZNAME:EDT
DTSTART:20180311T070000
END:DAYLIGHT
BEGIN:STANDARD
TZOFFSETFROM:-0400
TZOFFSETTO:-0500
TZNAME:EST
DTSTART:20181104T060000
END:STANDARD
BEGIN:DAYLIGHT
TZOFFSETFROM:-0500
TZOFFSETTO:-0400
TZNAME:EDT
DTSTART:20190310T070000
END:DAYLIGHT
BEGIN:STANDARD
TZOFFSETFROM:-0400
TZOFFSETTO:-0500
TZNAME:EST
DTSTART:20191103T060000
END:STANDARD
END:VTIMEZONE
BEGIN:VEVENT
DTSTART;TZID=America/Detroit:20180112T193000
DTEND;TZID=America/Detroit:20180112T220000
DTSTAMP:20260419T144454
CREATED:20170808T164053Z
LAST-MODIFIED:20170811T145923Z
UID:3680-1515785400-1515794400@www.tenpoundfiddle.org
SUMMARY:Joshua Davis
DESCRIPTION:Joshua Davis was raised in the folk tradition: the music\, the social movements\, the land. \n\nA tried and true Michigan musician\, Joshua Davis is set to release a new album\, The Way Back Home\, on September 8\, 2017. Produced by Steve Berlin of Los Lobos\, The Way Back Home is Davis’ latest full-length studio album and first since his 2015 appearances as a Top 3 finalist on NBC’s “The Voice” (season 8).  \nThe 11 original Americana songs featured on The Way Back Homereflect an honest\, hardworking family man scribing scenes of the cycle of life through dark\, broken\, hopeful\, and triumphant times. \nAn upbringing that occupied the urban landscapes of Detroit while spending summers in the wilderness on the southern tip of Lake Superior in Marquette\, MI brings into view the backdrop of Davis’ latest works. The Way Back Home follows a series of singular recordings (Fool Rooster\, Magnolia Belles\, A Miracle of Birds) by the prolific songwriter who has shared the stage with a “Who’s Who” of American folk music icons such as Pete Seeger\, Arlo Guthrie\, Greg Brown\, and Abigail Washburn.  \nRecorded in East Lansing\, MI by legendary engineer Glenn Brown\, The Way Back Home highlights Davis’ longtime collaboration with Jack White’s bassist Dominic John Davis\, pianist Mike Lynch (Willie Nelson\, Leon Russell)\, and drummer Mike Shimmin (The Olllam). \n\nAlready a heavily touring/recording artist with his previous band Steppin’ In It (who have released five albums) and as a solo act with five albums under his name\, getting a call from “The Voice” was completely out of the blue for Davis. Unfamiliar with the show\, he initially rejected the inquiry but the producers were persistent.  \nAfter being convinced by his wife and allowed to skip the auditions\, Davis signed up for an incredible six months in the national TV spotlight. He went on to sing high profile duets with Sheryl Crow (Live Finale: “Give It To Me”) and Adam Levine (Live Finale: “Diamonds on the Soles of Her Shows”)\, and he helped break the mold of original material being showcased on “The Voice.” Davis was the first artist to sing an original on the show\, which spawned the later segment\, “This Week of Original Songs.” \nDavis entered the recording sessions for The Way Back Home with a well-oiled machine of a voice primed for the collaboration with Steve Berlin. His rough-n-tumble grit mixes with an undeniable Midwesterner’s charm for a soaring vocal performance on The Way Back Home. With his voice taking center stage\, Davis’ signature lyricism and deft acoustic guitar work is backed by a trio of Michigan’s finest musicians.  \n“The Way Back Home is a very personal look at where I’ve been and who I’ve become\,” says Davis. “In my 20’s\, I felt like a disconnected ghost going town to town performing every night\, and it just wasn’t a healthy life. I’ve learned many valuable lessons in how to be a better person\, husband and father. Home grows and changes with or without you. If you don’t pull it together\, it’ll leave you behind. I feel very reassured to have found stable ground in life and in a career that isn’t necessarily filled with security. The album takes listeners through my own trials and tribulations.”
URL:https://www.tenpoundfiddle.org/event/joshua-davis/
LOCATION:MSU Community Music School\, 4930 S. Hagadorn\, East Lansing\, MI\, 48823\, United States
CATEGORIES:Concert
ATTACH;FMTTYPE=image/jpeg:https://www.tenpoundfiddle.org/2016/wp-content/uploads/2017/08/180112.jpg
GEO:42.725146;-84.4611
X-APPLE-STRUCTURED-LOCATION;VALUE=URI;X-ADDRESS=MSU Community Music School 4930 S. Hagadorn East Lansing MI 48823 United States;X-APPLE-RADIUS=500;X-TITLE=4930 S. Hagadorn:geo:-84.4611,42.725146
END:VEVENT
END:VCALENDAR