BEGIN:VCALENDAR
VERSION:2.0
PRODID:-//Ten Pound Fiddle - ECPv6.15.12.2//NONSGML v1.0//EN
CALSCALE:GREGORIAN
METHOD:PUBLISH
X-WR-CALNAME:Ten Pound Fiddle
X-ORIGINAL-URL:https://www.tenpoundfiddle.org
X-WR-CALDESC:Events for Ten Pound Fiddle
REFRESH-INTERVAL;VALUE=DURATION:PT1H
X-Robots-Tag:noindex
X-PUBLISHED-TTL:PT1H
BEGIN:VTIMEZONE
TZID:America/Detroit
BEGIN:DAYLIGHT
TZOFFSETFROM:-0500
TZOFFSETTO:-0400
TZNAME:EDT
DTSTART:20210314T070000
END:DAYLIGHT
BEGIN:STANDARD
TZOFFSETFROM:-0400
TZOFFSETTO:-0500
TZNAME:EST
DTSTART:20211107T060000
END:STANDARD
BEGIN:DAYLIGHT
TZOFFSETFROM:-0500
TZOFFSETTO:-0400
TZNAME:EDT
DTSTART:20220313T070000
END:DAYLIGHT
BEGIN:STANDARD
TZOFFSETFROM:-0400
TZOFFSETTO:-0500
TZNAME:EST
DTSTART:20221106T060000
END:STANDARD
BEGIN:DAYLIGHT
TZOFFSETFROM:-0500
TZOFFSETTO:-0400
TZNAME:EDT
DTSTART:20230312T070000
END:DAYLIGHT
BEGIN:STANDARD
TZOFFSETFROM:-0400
TZOFFSETTO:-0500
TZNAME:EST
DTSTART:20231105T060000
END:STANDARD
END:VTIMEZONE
BEGIN:VEVENT
DTSTART;TZID=America/Detroit:20221007T193000
DTEND;TZID=America/Detroit:20221007T220000
DTSTAMP:20260419T162234
CREATED:20220816T202149Z
LAST-MODIFIED:20220816T203600Z
UID:11939-1665171000-1665180000@www.tenpoundfiddle.org
SUMMARY:Joel Mabus
DESCRIPTION:Joel Mabus may be called a singer-songwriter\, but he doesn’t sound like one.  He defies the stereotype.  Joel’s the son of a 1930’s old-time fiddle champ & a banjo-pickin’ farm girl\, raised on full-throated Holiness singing every Sunday in smalltown Illinois: 105 miles southeast of Mark Twain\, 190 miles northwest of Bill Monroe\, 110 miles southwest of Burl Ives and just over the river and up the hill from Scott Joplin.   That’s where Joel is from. \n\nA National Merit Scholarship took him up north to college during the Vietnam era\, where he studied anthropology & literature by day\, performing in bars & coffeehouses by night. His palette ranges from mountain banjo to jazz guitar — from sensitive introspection to wicked satire. As both picker & poet\, he’s toured most of North America over the past 40 years. Among his honors: the Detroit Music Awards Hall of Fame in 2000\, the inaugural Lantern Bearer Award from Folk Alliance Region Midwest (FARM) in 2006.     \nWith 27 albums of original & traditional music\, Joel’s latest is 2019’s Time & Truth — a return to his songwriting craft.   Cornell Folk Song Society wrote: “Joel Mabus is a free-ranging fretboard genius and funny\, deep songwriter whose warm voice\, sly humor\, and musicianship sweep audiences along for the ride… in a gentle\, easy manner\, he may lull his audience into a relaxed state\, then roll them on the floor with laughter or make them sit up and think.”
URL:https://www.tenpoundfiddle.org/event/joel-mabus-5/
CATEGORIES:Concert
ATTACH;FMTTYPE=image/jpeg:https://www.tenpoundfiddle.org/2016/wp-content/uploads/2022/08/221007-mAYuNL.tmp_.jpg
END:VEVENT
END:VCALENDAR