BEGIN:VCALENDAR
VERSION:2.0
PRODID:-//Ten Pound Fiddle - ECPv6.15.12.2//NONSGML v1.0//EN
CALSCALE:GREGORIAN
METHOD:PUBLISH
X-WR-CALNAME:Ten Pound Fiddle
X-ORIGINAL-URL:https://www.tenpoundfiddle.org
X-WR-CALDESC:Events for Ten Pound Fiddle
REFRESH-INTERVAL;VALUE=DURATION:PT1H
X-Robots-Tag:noindex
X-PUBLISHED-TTL:PT1H
BEGIN:VTIMEZONE
TZID:America/Detroit
BEGIN:DAYLIGHT
TZOFFSETFROM:-0500
TZOFFSETTO:-0400
TZNAME:EDT
DTSTART:20190310T070000
END:DAYLIGHT
BEGIN:STANDARD
TZOFFSETFROM:-0400
TZOFFSETTO:-0500
TZNAME:EST
DTSTART:20191103T060000
END:STANDARD
BEGIN:DAYLIGHT
TZOFFSETFROM:-0500
TZOFFSETTO:-0400
TZNAME:EDT
DTSTART:20200308T070000
END:DAYLIGHT
BEGIN:STANDARD
TZOFFSETFROM:-0400
TZOFFSETTO:-0500
TZNAME:EST
DTSTART:20201101T060000
END:STANDARD
BEGIN:DAYLIGHT
TZOFFSETFROM:-0500
TZOFFSETTO:-0400
TZNAME:EDT
DTSTART:20210314T070000
END:DAYLIGHT
BEGIN:STANDARD
TZOFFSETFROM:-0400
TZOFFSETTO:-0500
TZNAME:EST
DTSTART:20211107T060000
END:STANDARD
END:VTIMEZONE
BEGIN:VEVENT
DTSTART;TZID=America/Detroit:20200228T193000
DTEND;TZID=America/Detroit:20200228T220000
DTSTAMP:20260419T161804
CREATED:20190805T233825Z
LAST-MODIFIED:20250731T020220Z
UID:6777-1582918200-1582927200@www.tenpoundfiddle.org
SUMMARY:JigJam
DESCRIPTION:JigJam is a multi-award winning quartet from the heart of the midlands in Ireland. Blending the best of traditional Irish music with bluegrass and Americana in a new genre which has been branded as ‘iGrass’\, their onstage energy along with their virtuos musical ability has captivated audiences throughout the world. “Here’s an Irish band that’s going to impact the world as hard as Clancy Brothers or U2 if they get only half a chance.” \nhttps://www.youtube.com/watch?v=pHAt7U005Hk \nJamie McKeogh\, Cathal Guinan and Daithi Melia all hail from Tullamore\, Co.Offaly with Co. Tipperary born Gavin Strappe completing the quartet. All four members grew up immersed in Irish traditional music and culture which is reflected by the band collectively achieving over twenty All-Ireland titles at Fleadh Cheoil na hÉireann competitions. They have now developed their own unique style of music influenced by American Folk music whilst staying true to their Irish roots. Described as ‘The best Irish group so far in bluegrass’ this sharply dressed outfit deliver an energy-fuelled\, foot-stomping live performance. All multi-instrumentalists\, JigJam interchange between banjos\, guitars\, fiddles\, mandolins and double bass onstage which creates an experience which is pleasing to both the eye and the ear. JigJam have recorded two studio albums to critical acclaim and have been compared to the Punch Brothers by the European Bluegrass Music Association. JigJam have made a huge impact on the Irish American circuit performing at all major festivals including the world-renowned Milwaukee Irish Fest as well as touring various parts of the UK and Europe. ‘The words sparkling\, innovative and infectious come first to mind’ when you witness your first JigJam show. Miss this band at your peril. \nhttps://youtu.be/UJ7QukgWs_E \n 
URL:https://www.tenpoundfiddle.org/event/jigjam/
LOCATION:MSU Community Music School\, 4930 S. Hagadorn\, East Lansing\, MI\, 48823\, United States
CATEGORIES:Concert
ATTACH;FMTTYPE=image/jpeg:https://www.tenpoundfiddle.org/2016/wp-content/uploads/2019/08/200228.jpg
GEO:42.725146;-84.4611
X-APPLE-STRUCTURED-LOCATION;VALUE=URI;X-ADDRESS=MSU Community Music School 4930 S. Hagadorn East Lansing MI 48823 United States;X-APPLE-RADIUS=500;X-TITLE=4930 S. Hagadorn:geo:-84.4611,42.725146
END:VEVENT
END:VCALENDAR