BEGIN:VCALENDAR
VERSION:2.0
PRODID:-//Ten Pound Fiddle - ECPv6.15.12.2//NONSGML v1.0//EN
CALSCALE:GREGORIAN
METHOD:PUBLISH
X-WR-CALNAME:Ten Pound Fiddle
X-ORIGINAL-URL:https://www.tenpoundfiddle.org
X-WR-CALDESC:Events for Ten Pound Fiddle
REFRESH-INTERVAL;VALUE=DURATION:PT1H
X-Robots-Tag:noindex
X-PUBLISHED-TTL:PT1H
BEGIN:VTIMEZONE
TZID:America/Detroit
BEGIN:DAYLIGHT
TZOFFSETFROM:-0500
TZOFFSETTO:-0400
TZNAME:EDT
DTSTART:20170312T070000
END:DAYLIGHT
BEGIN:STANDARD
TZOFFSETFROM:-0400
TZOFFSETTO:-0500
TZNAME:EST
DTSTART:20171105T060000
END:STANDARD
BEGIN:DAYLIGHT
TZOFFSETFROM:-0500
TZOFFSETTO:-0400
TZNAME:EDT
DTSTART:20180311T070000
END:DAYLIGHT
BEGIN:STANDARD
TZOFFSETFROM:-0400
TZOFFSETTO:-0500
TZNAME:EST
DTSTART:20181104T060000
END:STANDARD
BEGIN:DAYLIGHT
TZOFFSETFROM:-0500
TZOFFSETTO:-0400
TZNAME:EDT
DTSTART:20190310T070000
END:DAYLIGHT
BEGIN:STANDARD
TZOFFSETFROM:-0400
TZOFFSETTO:-0500
TZNAME:EST
DTSTART:20191103T060000
END:STANDARD
END:VTIMEZONE
BEGIN:VEVENT
DTSTART;TZID=America/Detroit:20181012T193000
DTEND;TZID=America/Detroit:20181012T220000
DTSTAMP:20260419T161926
CREATED:20180810T133828Z
LAST-MODIFIED:20250731T020221Z
UID:5017-1539372600-1539381600@www.tenpoundfiddle.org
SUMMARY:Jen Sygit - CD release
DESCRIPTION:Jen Sygit is a Lansing based singer/songwriter/multi-instrumentalist releasing her fourth studio album “It’s About Time” October 2018.  Produced by Dominic John Davis (Jack White\, Buddy Miller\, Joshua Davis) and featuring performances from artists such as Luther Dickinson\, Colin Linden and the McCrary Sisters in addition to a top shelf cast of Michigan talent\, “It’s About Time” showcases the breadth and depth of Sygits’ songwriting and musicianship.  Some awards/nominations previously garnered by Sygit include: Album of the Year (Bommarito WQKL Ann Arbor\, MI)\, (Progressive Torch & Twang WDBM Lansing\, MI); Best Folk Album nomination (WYCE Grand Rapids\, MI)\, (Detroit Music Awards).  Beyond her solo career Jen is also a founding member of all-female stringband Stella!\, roots rock band Lincoln County Process and is a veteran session vocalist having recorded on nearly 50 albums nationwide.  In addition to touring\, Jen hosts the weekly radio show “Eclecticana” (WLNZ Lansing\, MI) and has hosted a popular open mic in Lansing since 2003.   \n  \nLove is Wild\nhttps://youtu.be/OrZp8qZjjo8 \nConductor Man\nhttps://youtu.be/CoJUhNAztyo \nOne in a Million\nhttps://youtu.be/Vzm6VEf4wxc \n  \n 
URL:https://www.tenpoundfiddle.org/event/jen-sygit-cd-release/
LOCATION:MSU Community Music School\, 4930 S. Hagadorn\, East Lansing\, MI\, 48823\, United States
CATEGORIES:Concert
ATTACH;FMTTYPE=image/jpeg:https://www.tenpoundfiddle.org/2016/wp-content/uploads/2018/08/181012.jpg
GEO:42.725146;-84.4611
X-APPLE-STRUCTURED-LOCATION;VALUE=URI;X-ADDRESS=MSU Community Music School 4930 S. Hagadorn East Lansing MI 48823 United States;X-APPLE-RADIUS=500;X-TITLE=4930 S. Hagadorn:geo:-84.4611,42.725146
END:VEVENT
END:VCALENDAR