BEGIN:VCALENDAR
VERSION:2.0
PRODID:-//Ten Pound Fiddle - ECPv6.15.12.2//NONSGML v1.0//EN
CALSCALE:GREGORIAN
METHOD:PUBLISH
X-WR-CALNAME:Ten Pound Fiddle
X-ORIGINAL-URL:https://www.tenpoundfiddle.org
X-WR-CALDESC:Events for Ten Pound Fiddle
REFRESH-INTERVAL;VALUE=DURATION:PT1H
X-Robots-Tag:noindex
X-PUBLISHED-TTL:PT1H
BEGIN:VTIMEZONE
TZID:America/Detroit
BEGIN:DAYLIGHT
TZOFFSETFROM:-0500
TZOFFSETTO:-0400
TZNAME:EDT
DTSTART:20240310T070000
END:DAYLIGHT
BEGIN:STANDARD
TZOFFSETFROM:-0400
TZOFFSETTO:-0500
TZNAME:EST
DTSTART:20241103T060000
END:STANDARD
BEGIN:DAYLIGHT
TZOFFSETFROM:-0500
TZOFFSETTO:-0400
TZNAME:EDT
DTSTART:20250309T070000
END:DAYLIGHT
BEGIN:STANDARD
TZOFFSETFROM:-0400
TZOFFSETTO:-0500
TZNAME:EST
DTSTART:20251102T060000
END:STANDARD
BEGIN:DAYLIGHT
TZOFFSETFROM:-0500
TZOFFSETTO:-0400
TZNAME:EDT
DTSTART:20260308T070000
END:DAYLIGHT
BEGIN:STANDARD
TZOFFSETFROM:-0400
TZOFFSETTO:-0500
TZNAME:EST
DTSTART:20261101T060000
END:STANDARD
END:VTIMEZONE
BEGIN:VEVENT
DTSTART;TZID=America/Detroit:20250911T200000
DTEND;TZID=America/Detroit:20250911T223000
DTSTAMP:20260419T144605
CREATED:20250729T201036Z
LAST-MODIFIED:20250731T025750Z
UID:21380-1757620800-1757629800@www.tenpoundfiddle.org
SUMMARY:Jen Sygit and Mike Ward
DESCRIPTION:Two brilliant\, Michigan-based songwriters share the stage! Here’s a chance to see Jen Sygit\, a beloved Lansing gem\, and the acclaimed (by audiences and artists\, alike) folk songwriter\, Mike Ward! Fans of great songwriting and storytelling should not miss this one! \nJen Sygit\nSometimes traditional\, sometimes contemporary\, always imbued with a raw honesty\, Lansing based Independent Music Award winning songwriter Jen Sygit wields a rare and powerful talent that seems equally comfortable performing ethereal folk tunes\, crooning sultry swing numbers or soulfully belting gritty alt country ballads. An accomplished multi-instrumentalist who isn’t afraid to test boundaries and cross genres\, Jen’s eclectic musical style draws the listener in and holds them captivated. Her poignant lyrics tinged with a delicate melancholy\, reveal an oft-overlooked beauty to life’s mundane struggles while offering the occasional glimpse into the plight of a modern day troubadour. \nhttp://www.jensygit.com \n\nMike Ward\nDetroit singer-songwriter Mike Ward is known for his lyrically-centric\, vocally-charged folk songs. While growing up in Port Huron\, Michigan\, he listened to the Irish music of his heritage and sang in several choirs before digesting the influential sounds of Simon & Garfunkel\, Dylan\, Springsteen and John Prine. These days\, he finds inspiration in the works of Jason Isbell\, Sarah Jarosz and Lori McKenna. His intimate songwriting echoes through empty city streets\, back country roads and family portraits. It also resides in the hidden spaces between joy and tragedy\, love and loss. \nhttps://www.psychosongs.com/
URL:https://www.tenpoundfiddle.org/event/jen-sygit-and-mike-ward/
LOCATION:The Robin Theatre\, 1105 S. Washington Ave\, Lansing\, MI\, 48901\, United States
CATEGORIES:Concert,Featured
ATTACH;FMTTYPE=image/jpeg:https://www.tenpoundfiddle.org/2016/wp-content/uploads/2025/07/250911-1.jpg
GEO:42.721602;-84.552
X-APPLE-STRUCTURED-LOCATION;VALUE=URI;X-ADDRESS=The Robin Theatre 1105 S. Washington Ave Lansing MI 48901 United States;X-APPLE-RADIUS=500;X-TITLE=1105 S. Washington Ave:geo:-84.552,42.721602
END:VEVENT
END:VCALENDAR