BEGIN:VCALENDAR
VERSION:2.0
PRODID:-//Ten Pound Fiddle - ECPv6.15.12.2//NONSGML v1.0//EN
CALSCALE:GREGORIAN
METHOD:PUBLISH
X-WR-CALNAME:Ten Pound Fiddle
X-ORIGINAL-URL:https://www.tenpoundfiddle.org
X-WR-CALDESC:Events for Ten Pound Fiddle
REFRESH-INTERVAL;VALUE=DURATION:PT1H
X-Robots-Tag:noindex
X-PUBLISHED-TTL:PT1H
BEGIN:VTIMEZONE
TZID:America/Detroit
BEGIN:DAYLIGHT
TZOFFSETFROM:-0500
TZOFFSETTO:-0400
TZNAME:EDT
DTSTART:20160313T070000
END:DAYLIGHT
BEGIN:STANDARD
TZOFFSETFROM:-0400
TZOFFSETTO:-0500
TZNAME:EST
DTSTART:20161106T060000
END:STANDARD
BEGIN:DAYLIGHT
TZOFFSETFROM:-0500
TZOFFSETTO:-0400
TZNAME:EDT
DTSTART:20170312T070000
END:DAYLIGHT
BEGIN:STANDARD
TZOFFSETFROM:-0400
TZOFFSETTO:-0500
TZNAME:EST
DTSTART:20171105T060000
END:STANDARD
BEGIN:DAYLIGHT
TZOFFSETFROM:-0500
TZOFFSETTO:-0400
TZNAME:EDT
DTSTART:20180311T070000
END:DAYLIGHT
BEGIN:STANDARD
TZOFFSETFROM:-0400
TZOFFSETTO:-0500
TZNAME:EST
DTSTART:20181104T060000
END:STANDARD
END:VTIMEZONE
BEGIN:VEVENT
DTSTART;TZID=America/Detroit:20170322T193000
DTEND;TZID=America/Detroit:20170322T220000
DTSTAMP:20260419T131705
CREATED:20160630T045901Z
LAST-MODIFIED:20170126T185141Z
UID:1753-1490211000-1490220000@www.tenpoundfiddle.org
SUMMARY:Jayme Stone's Lomax Project
DESCRIPTION:Join the Fiddle for this very\, very special mid-week concert\, to be held at Urban Beat\, a new\, intimate performance space on the first block of Turner Street\, in Lansing’s Old Town.\nJayme Stone will present a combination of songs from his brand new CD “FolkLife\,” as well as songs from his very popular “Lomax Project.” \nJayme Stone’s Folklife\nSea island spirituals\, Creole calypsos and stomp-down Appalachian dance tunes \n“Jayme Stone’s Folklife” follows the bends and bayous through the deep river of song and story. Evolving out of Stone’s “Lomax Project\,” this gathering of versatile musicians blows the dust off of old songs and remakes them for modern ears. With spellbinding singing\, virtuosic playing and captivating storytelling\, their concerts and educational programs are moving\, inventive and participatory experiences. \nThe evening performers:\nJayme Stone (banjo\, voice)\nMoira Smiley (voice\, accordion)\nSumaia Jackson (fiddle\, voice)\nJoe Phillips (bass\, voice) \n\nWhat the press says:\nA truly inventive spin on some very old tunes. -GEORGIA STRAIGHT \nThey’ve put a fresh contemporary sound on musical treasures found in Lomax’s deep and rich archives. -NPR \nAn album of beautiful\, intriguing\, thoughtful music coming from a collaboration of outstanding musicians who apply their talents together. It rewards our attention as much as it captures it\, leading us to the music\, rather than pushing us to it. -SING OUT! \nWhat results is a marvelous expression of Stone’s collaboratory distillation of the folk process. -BOSTON GLOBE \nOne of the most compelling and rich roots music recordings of recent years. -PEGHEAD NATION \nIt places new wonders alongside old favorites\, for a listening experience that’s fresh and fun no matter how familiar you are with Lomax’s collection. -HUFFINGTON POST \nThis project is not about the collector — it’s about the songs and the way Stone and his musical team take them to new\, often harmonious\, heights. -CBC MUSIC \nA testament to the endless inspiration the songs Lomax recorded are still able to conjure. -UTNE READER \nIn every track you’ll hear the utter joy that came from making this record\, and that joy is infectious. -PENGUIN EGG \nJayme Stone\nTwo-time Juno-winning banjoist\, composer and instigator Jayme Stone makes music inspired by sounds from around the world\, bridging folk\, jazz and chamber music. Stone is the consummate collaborator\, unearthing musical artifacts and magnetizing extraordinary artists to help rekindle these understudied sounds. \nJayme Stone’s Lomax Project\nFocusing on songs collected by folklorist and field recording pioneer Alan Lomax\, this collaboratory brings together some of North America’s most distinctive and creative roots musicians to revive\, recycle\, and reimagine traditional music. \nThe repertoire includes Bahamian sea chanties\, African-American a cappella singing from the Georgia Sea Islands\, ancient Appalachian ballads\, fiddle tunes\, and work songs collected from both well-known musicians and everyday folk: sea captains\, cowhands\, fishermen\, prisoners\, and homemakers. \nCollaborators include Grammy-winning singer Tim O’Brien\, Bruce Molsky\, Margaret Glaspy\, Moira Smiley\, Brittany Haas\, Julian Lage\, and more. \n\n\nwww.jaymestone.com
URL:https://www.tenpoundfiddle.org/event/jayme-stones-lomax-project/
LOCATION:UrbanBeat\, 1213 Turner Street\, Lansing\, MI\, 48906\, United States
CATEGORIES:Concert
ATTACH;FMTTYPE=image/jpeg:https://www.tenpoundfiddle.org/2016/wp-content/uploads/2016/06/170322.jpg
GEO:42.747898;-84.549841
X-APPLE-STRUCTURED-LOCATION;VALUE=URI;X-ADDRESS=UrbanBeat 1213 Turner Street Lansing MI 48906 United States;X-APPLE-RADIUS=500;X-TITLE=1213 Turner Street:geo:-84.549841,42.747898
END:VEVENT
END:VCALENDAR