BEGIN:VCALENDAR
VERSION:2.0
PRODID:-//Ten Pound Fiddle - ECPv6.15.12.2//NONSGML v1.0//EN
CALSCALE:GREGORIAN
METHOD:PUBLISH
X-WR-CALNAME:Ten Pound Fiddle
X-ORIGINAL-URL:https://www.tenpoundfiddle.org
X-WR-CALDESC:Events for Ten Pound Fiddle
REFRESH-INTERVAL;VALUE=DURATION:PT1H
X-Robots-Tag:noindex
X-PUBLISHED-TTL:PT1H
BEGIN:VTIMEZONE
TZID:America/Detroit
BEGIN:DAYLIGHT
TZOFFSETFROM:-0500
TZOFFSETTO:-0400
TZNAME:EDT
DTSTART:20200308T070000
END:DAYLIGHT
BEGIN:STANDARD
TZOFFSETFROM:-0400
TZOFFSETTO:-0500
TZNAME:EST
DTSTART:20201101T060000
END:STANDARD
BEGIN:DAYLIGHT
TZOFFSETFROM:-0500
TZOFFSETTO:-0400
TZNAME:EDT
DTSTART:20210314T070000
END:DAYLIGHT
BEGIN:STANDARD
TZOFFSETFROM:-0400
TZOFFSETTO:-0500
TZNAME:EST
DTSTART:20211107T060000
END:STANDARD
BEGIN:DAYLIGHT
TZOFFSETFROM:-0500
TZOFFSETTO:-0400
TZNAME:EDT
DTSTART:20220313T070000
END:DAYLIGHT
BEGIN:STANDARD
TZOFFSETFROM:-0400
TZOFFSETTO:-0500
TZNAME:EST
DTSTART:20221106T060000
END:STANDARD
END:VTIMEZONE
BEGIN:VEVENT
DTSTART;TZID=America/Detroit:20211021T193000
DTEND;TZID=America/Detroit:20211021T220000
DTSTAMP:20260419T162605
CREATED:20210731T195410Z
LAST-MODIFIED:20250731T020219Z
UID:8650-1634844600-1634853600@www.tenpoundfiddle.org
SUMMARY:Jake Blount and His Band - Thursday Show
DESCRIPTION:“An incredible example of historically informed\, beautifully played old-time music.” – Rhiannon Giddens \nJake Blount is an award-winning banjoist\, fiddler\, singer and ethnomusicologist based in Providence\, RI. He is half of the internationally touring duo Tui\, a 2020 Strathmore Artist in Residence and a board member of Bluegrass Pride. He is a 2020 recipient of the Steve Martin Banjo Prize. Blount specializes in the music of Black communities in the southeastern United States\, and in the regional style of the Finger Lakes. \nA versatile performer\, Blount interpolates blues\, bluegrass and spirituals into the old-time string band tradition he belongs to. He foregrounds the experiences of queer people and people of color in his work. His teachers include Rhiannon Giddens\, Bruce Molsky and Judy Hyman. \nHe has claimed first place in both the Banjo and the Traditional Band categories at the prestigious Appalachian String Band Music Festival in Clifftop\, WV. Blount has shared his music and research at the Smithsonian Institution\, Yale University\, and Berklee School of Music\, among other venues and institutions. He has also appeared on Radiolab\, Soundcheck and NPR’s Weekend Edition. He regularly teaches fiddle and banjo at festivals and camps like the Augusta Heritage Center\, the Ashokan Center\, and Midwest Banjo Camp. Blount tours domestically and internationally as a solo performer\, with his duo Tui\, and with his band The Moose Whisperers. He has performed and recorded solo\, and in ensembles of up to six people. \nHis first full-length solo album\, Spider Tales\, is out now on Free Dirt Records & Service Co. It debuted at #2 on the Billboard Bluegrass Chart\, received positive coverage from NPR\, Rolling Stone and Billboard among others\, and earned five out of five stars as The Guardian’s Folk Album of the Month. \nhttps://www.youtube.com/watch?v=Cy0q14KBCk8&ab_channel=BeehiveProductions
URL:https://www.tenpoundfiddle.org/event/jake-blount-and-his-band-thursday-show/
LOCATION:University United Methodist Church (UUMC)\, 1120 S. Harrison\, East Lansing\, MI\, 48823\, United States
CATEGORIES:Concert
ATTACH;FMTTYPE=image/jpeg:https://www.tenpoundfiddle.org/2016/wp-content/uploads/2021/07/211021-DH7uj5.tmp_.jpg
GEO:42.7213326;-84.4947507
X-APPLE-STRUCTURED-LOCATION;VALUE=URI;X-ADDRESS=University United Methodist Church (UUMC) 1120 S. Harrison East Lansing MI 48823 United States;X-APPLE-RADIUS=500;X-TITLE=1120 S. Harrison:geo:-84.4947507,42.7213326
END:VEVENT
END:VCALENDAR