BEGIN:VCALENDAR
VERSION:2.0
PRODID:-//Ten Pound Fiddle - ECPv6.15.12.2//NONSGML v1.0//EN
CALSCALE:GREGORIAN
METHOD:PUBLISH
X-WR-CALNAME:Ten Pound Fiddle
X-ORIGINAL-URL:https://www.tenpoundfiddle.org
X-WR-CALDESC:Events for Ten Pound Fiddle
REFRESH-INTERVAL;VALUE=DURATION:PT1H
X-Robots-Tag:noindex
X-PUBLISHED-TTL:PT1H
BEGIN:VTIMEZONE
TZID:America/Detroit
BEGIN:DAYLIGHT
TZOFFSETFROM:-0500
TZOFFSETTO:-0400
TZNAME:EDT
DTSTART:20200308T070000
END:DAYLIGHT
BEGIN:STANDARD
TZOFFSETFROM:-0400
TZOFFSETTO:-0500
TZNAME:EST
DTSTART:20201101T060000
END:STANDARD
BEGIN:DAYLIGHT
TZOFFSETFROM:-0500
TZOFFSETTO:-0400
TZNAME:EDT
DTSTART:20210314T070000
END:DAYLIGHT
BEGIN:STANDARD
TZOFFSETFROM:-0400
TZOFFSETTO:-0500
TZNAME:EST
DTSTART:20211107T060000
END:STANDARD
BEGIN:DAYLIGHT
TZOFFSETFROM:-0500
TZOFFSETTO:-0400
TZNAME:EDT
DTSTART:20220313T070000
END:DAYLIGHT
BEGIN:STANDARD
TZOFFSETFROM:-0400
TZOFFSETTO:-0500
TZNAME:EST
DTSTART:20221106T060000
END:STANDARD
END:VTIMEZONE
BEGIN:VEVENT
DTSTART;TZID=America/Detroit:20211210T193000
DTEND;TZID=America/Detroit:20211210T220000
DTSTAMP:20260419T162710
CREATED:20210731T195416Z
LAST-MODIFIED:20231203T192339Z
UID:8657-1639164600-1639173600@www.tenpoundfiddle.org
SUMMARY:Holiday Sing with song leader Sally Potter\, Doug Berch\, Doug Austin and spoken word artist Ruelaine Stokes
DESCRIPTION:For almost 20 years\, the Ten Pound Fiddle has presented an annual Holiday Sing\, produced and hosted by singer/ song leader\, Sally Potter. The Holiday Sing is an annual fund-raiser for the Ten Pound Fiddle. \nWatch the New York Times video about community singing in Lansing: \n \n  \nRead the New York Times article. \nLearn more about community singing at www.singingfestival.com. \nSally Potter\nWhen Sally Potter isn’t directing the Mid-Winter Singing Festival\, the annual Holiday Sing\, monthly Community Sings\, or singing with Sistrum\, The Greater Lansing’s Women’s Chorus\, she is teaching Personal Finance to 150 seniors at Waverly High School\, Lansing. \nSally’s grandmother\, Lillian Paulson Potter was an opera singer\, and later\, a church choir director\, producing countless community events over a fifty-year span. Her uncle\, Brian Shanley\, played Dixieland jazz clarinet with Bob Scoby in Chicago in the 50’s. Yet it was when her brother Tom taught her Old-Time tunes on his back-up banjo that Sally settled into the folk music world. \nA mainstay in the Mid-Michigan folk music community since 1984\, Sally was recently honored with a Lifetime Achievement Award from FARM\, Folk Alliance Region Mid-West. From 1989 – 2001\, Sally\, Betsy Clinton and Pat Madden were members of the very popular folk trio\, Second Opinion. In 2005\, Sally released her fifth CD\, this one together with Madden\, entitled\, “it’s about time.” \nIn 2003\, Sally organized the first Mid-Winter Singing Festival\, now an annual event where hundreds of people get together on the first weekend in February – just to sing. (www.singingfestival.com) Since then\, she has continued to perform\, song lead\, and help produce numerous music events\, including the annual Holiday Sing. She is also the volunteer concert booking manager for the 45 year-old Ten Pound Fiddle Concert and Dance Series. \n www.sally-potter.com\n\nDoug Berch\n \nBy day\, luthier Doug Berch makes mountain dulcimers in Haslett\, Michigan. \nBy night\, multi-instrumentalist Doug Berch can be found on stage and in the studio\, playing a wide variety of styles. He has been performing\, teaching and making dulcimers since the mid 1970’s. During the 1980’s\, he toured throughout the United States and performed at many folk festivals\, dulcimer festivals and concert venues. He recorded two solo recordings for Kicking Mule Records. \nIn 1983\, Doug took first place in both the National Hammered Dulcimer Championship and the National Mountain Dulcimer Championship in Winfield\, Kansas. \nIn the early 1990’s\, he recorded a tune he composed on hammered dulcimer called\, “Ocean of Wisdom” that has been performed and recorded by several other hammered dulcimer players. His work appears on dozens of albums and soundtracks as a support musician. For ten years\, he performed\, recorded and toured with the Celtic ensemble\, Colcannon\, and taught at The Swallow Hill School of Music in Denver. “Musically I am inspired by the traditional music of the world\, the rock and roll I grew up with and anything else that comes along\,” Doug says. \nDoug has added hammered dulcimer pieces\, stories and inspired commentary to the annual Holiday Sing for 10 years.\nwww.dougberch.com \n\n\n\n\nRuelaine Stokes\n \nRuelaine Stokes is a spoken word artist\, writer and teacher based in Lansing\, Michigan. She gives poetry readings\, lectures\, and workshops on poetry\, spoken word\, and creative writing. Her goal is to bring poetry to life and to bring people to poetry. \nruelainestokes.com
URL:https://www.tenpoundfiddle.org/event/holiday-sing-with-song-leader-sally-potter-and-doug-austin-doug-berch-and-special-guests/
LOCATION:University United Methodist Church (UUMC)\, 1120 S. Harrison\, East Lansing\, MI\, 48823\, United States
CATEGORIES:Concert,Special Event
ATTACH;FMTTYPE=image/jpeg:https://www.tenpoundfiddle.org/2016/wp-content/uploads/2021/07/211210-5us4ZQ.tmp_.jpg
GEO:42.7213326;-84.4947507
X-APPLE-STRUCTURED-LOCATION;VALUE=URI;X-ADDRESS=University United Methodist Church (UUMC) 1120 S. Harrison East Lansing MI 48823 United States;X-APPLE-RADIUS=500;X-TITLE=1120 S. Harrison:geo:-84.4947507,42.7213326
END:VEVENT
END:VCALENDAR