BEGIN:VCALENDAR
VERSION:2.0
PRODID:-//Ten Pound Fiddle - ECPv6.15.12.2//NONSGML v1.0//EN
CALSCALE:GREGORIAN
METHOD:PUBLISH
X-WR-CALNAME:Ten Pound Fiddle
X-ORIGINAL-URL:https://www.tenpoundfiddle.org
X-WR-CALDESC:Events for Ten Pound Fiddle
REFRESH-INTERVAL;VALUE=DURATION:PT1H
X-Robots-Tag:noindex
X-PUBLISHED-TTL:PT1H
BEGIN:VTIMEZONE
TZID:America/Detroit
BEGIN:DAYLIGHT
TZOFFSETFROM:-0500
TZOFFSETTO:-0400
TZNAME:EDT
DTSTART:20180311T070000
END:DAYLIGHT
BEGIN:STANDARD
TZOFFSETFROM:-0400
TZOFFSETTO:-0500
TZNAME:EST
DTSTART:20181104T060000
END:STANDARD
BEGIN:DAYLIGHT
TZOFFSETFROM:-0500
TZOFFSETTO:-0400
TZNAME:EDT
DTSTART:20190310T070000
END:DAYLIGHT
BEGIN:STANDARD
TZOFFSETFROM:-0400
TZOFFSETTO:-0500
TZNAME:EST
DTSTART:20191103T060000
END:STANDARD
BEGIN:DAYLIGHT
TZOFFSETFROM:-0500
TZOFFSETTO:-0400
TZNAME:EDT
DTSTART:20200308T070000
END:DAYLIGHT
BEGIN:STANDARD
TZOFFSETFROM:-0400
TZOFFSETTO:-0500
TZNAME:EST
DTSTART:20201101T060000
END:STANDARD
END:VTIMEZONE
BEGIN:VEVENT
DTSTART;TZID=America/Detroit:20190118T193000
DTEND;TZID=America/Detroit:20190118T220000
DTSTAMP:20260419T162712
CREATED:20180810T140202Z
LAST-MODIFIED:20180917T175211Z
UID:5026-1547839800-1547848800@www.tenpoundfiddle.org
SUMMARY:Heartland Klezmorim - The American Experience: The Musical Journey From The Shtetl
DESCRIPTION:Heartland Klezmorim began their musical journey in 2006\, performing old-time klezmer music. Since that time\, their repertoire has expanded to performing music from the Yiddish theater\, Yiddish/klezmer swing\, and jazz interpretations of klezmer music. Besides playing concerts and family events\, Heartland Klezmorim has been involved in playing a wide range of events and festivals. Between 2009 and 2015\, they were the pit band for the Little Darlins’ Vaudeville Show\, performing klezmer and old-time swing music accompanying jugglers\, magicians\, dancers\, and singers. They have accompanied silent films at the Capital City Film Festival (2016\, 2017\, 2018) and in 2014 & 2015 and played klezmer music for traditional contra-dancing at the Wheatland Traditional Arts Weekend. \nMembers of Heartland Klezmorim have presented klezmer workshops on its history and performance practices. They have presented workshops at MSU\, the Great Lakes Folk Festival\, and the International Trumpet Guild Conference. \nMembers of Heartland Klezmorim include: Andy Callis – Accordion\, Susanne Garber – Violin\, Ben Godoshian – Percussion\, Chris Hamilton – Bass\, Drew Howard – Banjo\, David Klein – Trumpet\, Will Metz – Sax. \nHeartland Klezmorim has released two CD’s.
URL:https://www.tenpoundfiddle.org/event/heartland-klezmorim-american-experience-musical-journey-shtetl/
LOCATION:MSU Community Music School\, 4930 S. Hagadorn\, East Lansing\, MI\, 48823\, United States
CATEGORIES:Concert
ATTACH;FMTTYPE=image/jpeg:https://www.tenpoundfiddle.org/2016/wp-content/uploads/2018/08/190118.jpg
GEO:42.725146;-84.4611
X-APPLE-STRUCTURED-LOCATION;VALUE=URI;X-ADDRESS=MSU Community Music School 4930 S. Hagadorn East Lansing MI 48823 United States;X-APPLE-RADIUS=500;X-TITLE=4930 S. Hagadorn:geo:-84.4611,42.725146
END:VEVENT
END:VCALENDAR