BEGIN:VCALENDAR
VERSION:2.0
PRODID:-//Ten Pound Fiddle - ECPv6.15.12.2//NONSGML v1.0//EN
CALSCALE:GREGORIAN
METHOD:PUBLISH
X-WR-CALNAME:Ten Pound Fiddle
X-ORIGINAL-URL:https://www.tenpoundfiddle.org
X-WR-CALDESC:Events for Ten Pound Fiddle
REFRESH-INTERVAL;VALUE=DURATION:PT1H
X-Robots-Tag:noindex
X-PUBLISHED-TTL:PT1H
BEGIN:VTIMEZONE
TZID:America/Detroit
BEGIN:DAYLIGHT
TZOFFSETFROM:-0500
TZOFFSETTO:-0400
TZNAME:EDT
DTSTART:20240310T070000
END:DAYLIGHT
BEGIN:STANDARD
TZOFFSETFROM:-0400
TZOFFSETTO:-0500
TZNAME:EST
DTSTART:20241103T060000
END:STANDARD
BEGIN:DAYLIGHT
TZOFFSETFROM:-0500
TZOFFSETTO:-0400
TZNAME:EDT
DTSTART:20250309T070000
END:DAYLIGHT
BEGIN:STANDARD
TZOFFSETFROM:-0400
TZOFFSETTO:-0500
TZNAME:EST
DTSTART:20251102T060000
END:STANDARD
BEGIN:DAYLIGHT
TZOFFSETFROM:-0500
TZOFFSETTO:-0400
TZNAME:EDT
DTSTART:20260308T070000
END:DAYLIGHT
BEGIN:STANDARD
TZOFFSETFROM:-0400
TZOFFSETTO:-0500
TZNAME:EST
DTSTART:20261101T060000
END:STANDARD
END:VTIMEZONE
BEGIN:VEVENT
DTSTART;TZID=America/Detroit:20250207T193000
DTEND;TZID=America/Detroit:20250207T220000
DTSTAMP:20260419T144213
CREATED:20240813T160810Z
LAST-MODIFIED:20240814T011005Z
UID:18934-1738956600-1738965600@www.tenpoundfiddle.org
SUMMARY:Guy Davis
DESCRIPTION:Genres: American Roots\, Blues\, Folk\, Spoken Word\, New Artistic Renaissance\nInstruments: Vocals\, 6 & 12 string guitar\, harmonica\, 5 & 6 string banjo\, didgeridoo \nGuy Davis is a two-time\, back-to-back Grammy nominee for Best Traditional Blues\, a musician\, actor\, author\, and songwriter. Guy uses a blend of Roots\, Blues\, Folk\, Rock\, Rap\, Spoken Word\, and World Music to comment on\, and address\, the frustrations of social injustice\, touching on historical events\, and common life struggles. His background in theater is pronounced through the lyrical storytelling of songs “God’s Gonna Make Things Over” about the 1921 Tulsa Race Massacre\, “Welcome to My World”\, and “Got Your Letter In My Pocket”. His storytelling is sometimes painful\, deep\, and real\, an earthy contrast to modern-day commercial music\, meant to create thought\, underlined by gentle tones from his guitar or banjo fingerpicking. \nGuy won “Keeping The Blues Alive” Award\, and was nominated by The Blues Foundation for Best Acoustic Album of the Year\, Best Acoustic Artist of the Year\, and Best Instrumentalist. In fact\, he’s been nominated nearly two dozen times by the Blues Foundation. \nAmong hundreds of newspaper appearances\, he’s also been featured in articles or reviews by New York Times\, Village Voice\, Boston Globe\, Pulse Magazine\, Blues Magazine\, Acoustic Guitar\, Dirty Linen\, Songlines\, Blues Blast Magazine\, Living Blues\, Down At the Crossroads\, The San Francisco Chronicle\, Association For Independent Music (formerly NAIRD)\, Playboy Magazine\, National Public Radio (NPR)\, “Folk Alley”\, and Sirius. When asked about his experience as a performer\, Guy has replied\, “There is no tale so tall that I cannot tell it\, nor song so sweet that I cannot sing it. \nhttp://guydavis.com/
URL:https://www.tenpoundfiddle.org/event/guy-davis/
LOCATION:University Lutheran Church (ULC)\, 1020 S Harrison Rd\, East Lansing\, MI\, 48823\, United States
CATEGORIES:Concert,Featured
ATTACH;FMTTYPE=image/jpeg:https://www.tenpoundfiddle.org/2016/wp-content/uploads/2024/08/250207-gUBQAH.tmp_.jpg
GEO:42.723138;-84.4947078
X-APPLE-STRUCTURED-LOCATION;VALUE=URI;X-ADDRESS=University Lutheran Church (ULC) 1020 S Harrison Rd East Lansing MI 48823 United States;X-APPLE-RADIUS=500;X-TITLE=1020 S Harrison Rd:geo:-84.4947078,42.723138
END:VEVENT
END:VCALENDAR